Workbook

Sheet 2021 LA
A1: code | B1: name | C1: type | D1: pcc | E1: lab | F1: con | G1: lib | H1: grn | I1: ref | J1: pc | K1: oth_total | L1: oth1 | M1: oth2 | N1: total_vote | O1: lab | P1: con | Q1: lib | R1: grn | S1: ref | T1: pc | U1: oth_total
A2: E06000001 | B2: Hartlepool | C2: LA | D2: =LOOKUP(A2,Lookup!A:A,Lookup!F:F) -> Cleveland | E2: 8435 | F2: 15414 | G2: 932 | H2: 0 | I2: 0 | J2: 0 | K2: =SUM(L2:M2) -> 3737 | L2: 3737 | M2: 0 | N2: =SUM(E2:K2) -> 28518 | O2: =E2/$N2 -> 0.29577811 | P2: =F2/$N2 -> 0.54050074 | Q2: =G2/$N2 -> 0.032681114 | R2: =H2/$N2 -> 0 | S2: =I2/$N2 -> 0 | T2: =J2/$N2 -> 0 | U2: =K2/$N2 -> 0.13104004
A3: E06000002 | B3: Middlesbrough | C3: LA | D3: =LOOKUP(A3,Lookup!A:A,Lookup!F:F) -> Cleveland | E3: 8412 | F3: 11920 | G3: 942 | H3: 0 | I3: 0 | J3: 0 | K3: =SUM(L3:M3) -> 4005 | L3: 4005 | M3: 0 | N3: =SUM(E3:K3) -> 25279 | O3: =E3/$N3 -> 0.33276633 | P3: =F3/$N3 -> 0.47153764 | Q3: =G3/$N3 -> 0.037264132 | R3: =H3/$N3 -> 0 | S3: =I3/$N3 -> 0 | T3: =J3/$N3 -> 0 | U3: =K3/$N3 -> 0.1584319
A4: E06000003 | B4: Redcar and Cleveland | C4: LA | D4: =LOOKUP(A4,Lookup!A:A,Lookup!F:F) -> Cleveland | E4: 7828 | F4: 18239 | G4: 2309 | H4: 0 | I4: 0 | J4: 0 | K4: =SUM(L4:M4) -> 3574 | L4: 3574 | M4: 0 | N4: =SUM(E4:K4) -> 31950 | O4: =E4/$N4 -> 0.24500782 | P4: =F4/$N4 -> 0.57086072 | Q4: =G4/$N4 -> 0.072269171 | R4: =H4/$N4 -> 0 | S4: =I4/$N4 -> 0 | T4: =J4/$N4 -> 0 | U4: =K4/$N4 -> 0.11186228
A5: E06000004 | B5: Stockton-on-Tees | C5: LA | D5: =LOOKUP(A5,Lookup!A:A,Lookup!F:F) -> Cleveland | E5: 14792 | F5: 28450 | G5: 2357 | H5: 0 | I5: 0 | J5: 0 | K5: =SUM(L5:M5) -> 5351 | L5: 5351 | M5: 0 | N5: =SUM(E5:K5) -> 50950 | O5: =E5/$N5 -> 0.29032385 | P5: =F5/$N5 -> 0.55839058 | Q5: =G5/$N5 -> 0.04626104 | R5: =H5/$N5 -> 0 | S5: =I5/$N5 -> 0 | T5: =J5/$N5 -> 0 | U5: =K5/$N5 -> 0.10502453
A6: E06000005 | B6: Darlington | C6: LA | D6: =LOOKUP(A6,Lookup!A:A,Lookup!F:F) -> Durham | E6: 8124 | F6: 14983 | G6: 2194 | H6: 0 | I6: 0 | J6: 0 | K6: =SUM(L6:M6) -> 0 | L6: 0 | M6: 0 | N6: =SUM(E6:K6) -> 25301 | O6: =E6/$N6 -> 0.32109403 | P6: =F6/$N6 -> 0.59219003 | Q6: =G6/$N6 -> 0.08671594 | R6: =H6/$N6 -> 0 | S6: =I6/$N6 -> 0 | T6: =J6/$N6 -> 0 | U6: =K6/$N6 -> 0
A7: E06000006 | B7: Halton | C7: LA | D7: =LOOKUP(A7,Lookup!A:A,Lookup!F:F) -> Cheshire | E7: 12874 | F7: 6341 | G7: 2692 | H7: 0 | I7: 999 | J7: 0 | K7: =SUM(L7:M7) -> 0 | L7: 0 | M7: 0 | N7: =SUM(E7:K7) -> 22906 | O7: =E7/$N7 -> 0.56203615 | P7: =F7/$N7 -> 0.27682703 | Q7: =G7/$N7 -> 0.11752379 | R7: =H7/$N7 -> 0 | S7: =I7/$N7 -> 0.043613027 | T7: =J7/$N7 -> 0 | U7: =K7/$N7 -> 0
A8: E06000007 | B8: Warrington | C8: LA | D8: =LOOKUP(A8,Lookup!A:A,Lookup!F:F) -> Cheshire | E8: 21686 | F8: 22274 | G8: 9714 | H8: 0 | I8: 2101 | J8: 0 | K8: =SUM(L8:M8) -> 0 | L8: 0 | M8: 0 | N8: =SUM(E8:K8) -> 55775 | O8: =E8/$N8 -> 0.38881219 | P8: =F8/$N8 -> 0.39935455 | Q8: =G8/$N8 -> 0.17416405 | R8: =H8/$N8 -> 0 | S8: =I8/$N8 -> 0.037669207 | T8: =J8/$N8 -> 0 | U8: =K8/$N8 -> 0
A9: E06000008 | B9: Blackburn with Darwen | C9: LA | D9: =LOOKUP(A9,Lookup!A:A,Lookup!F:F) -> Lancashire | E9: 18497 | F9: 10781 | G9: 2021 | H9: 0 | I9: 1302 | J9: 0 | K9: =SUM(L9:M9) -> 0 | L9: 0 | M9: 0 | N9: =SUM(E9:K9) -> 32601 | O9: =E9/$N9 -> 0.56737523 | P9: =F9/$N9 -> 0.33069538 | Q9: =G9/$N9 -> 0.061991963 | R9: =H9/$N9 -> 0 | S9: =I9/$N9 -> 0.039937425 | T9: =J9/$N9 -> 0 | U9: =K9/$N9 -> 0
A10: E06000009 | B10: Blackpool | C10: LA | D10: =LOOKUP(A10,Lookup!A:A,Lookup!F:F) -> Lancashire | E10: 9260 | F10: 12282 | G10: 1233 | H10: 0 | I10: 1445 | J10: 0 | K10: =SUM(L10:M10) -> 0 | L10: 0 | M10: 0 | N10: =SUM(E10:K10) -> 24220 | O10: =E10/$N10 -> 0.38232865 | P10: =F10/$N10 -> 0.50710157 | Q10: =G10/$N10 -> 0.05090834 | R10: =H10/$N10 -> 0 | S10: =I10/$N10 -> 0.059661437 | T10: =J10/$N10 -> 0 | U10: =K10/$N10 -> 0
A11: E06000010 | B11: Kingston upon Hull, City of | C11: LA | D11: =LOOKUP(A11,Lookup!A:A,Lookup!F:F) -> Humberside | E11: 19272 | F11: 10076 | G11: 13539 | H11: 0 | I11: 0 | J11: 0 | K11: =SUM(L11:M11) -> 0 | L11: 0 | M11: 0 | N11: =SUM(E11:K11) -> 42887 | O11: =E11/$N11 -> 0.44936694 | P11: =F11/$N11 -> 0.23494299 | Q11: =G11/$N11 -> 0.31569007 | R11: =H11/$N11 -> 0 | S11: =I11/$N11 -> 0 | T11: =J11/$N11 -> 0 | U11: =K11/$N11 -> 0
A12: E06000011 | B12: East Riding of Yorkshire | C12: LA | D12: =LOOKUP(A12,Lookup!A:A,Lookup!F:F) -> Humberside | E12: 20725 | F12: 28877 | G12: 6421 | H12: 0 | I12: 0 | J12: 0 | K12: =SUM(L12:M12) -> 0 | L12: 0 | M12: 0 | N12: =SUM(E12:K12) -> 56023 | O12: =E12/$N12 -> 0.36993735 | P12: =F12/$N12 -> 0.51544901 | Q12: =G12/$N12 -> 0.11461364 | R12: =H12/$N12 -> 0 | S12: =I12/$N12 -> 0 | T12: =J12/$N12 -> 0 | U12: =K12/$N12 -> 0
A13: E06000012 | B13: North East Lincolnshire | C13: LA | D13: =LOOKUP(A13,Lookup!A:A,Lookup!F:F) -> Humberside | E13: 10265 | F13: 15777 | G13: 2263 | H13: 0 | I13: 0 | J13: 0 | K13: =SUM(L13:M13) -> 0 | L13: 0 | M13: 0 | N13: =SUM(E13:K13) -> 28305 | O13: =E13/$N13 -> 0.36265677 | P13: =F13/$N13 -> 0.55739269 | Q13: =G13/$N13 -> 0.079950539 | R13: =H13/$N13 -> 0 | S13: =I13/$N13 -> 0 | T13: =J13/$N13 -> 0 | U13: =K13/$N13 -> 0
... A21: E06000020 | B21: Telford and Wrekin | C21: LA | D21: =LOOKUP(A21,Lookup!A:A,Lookup!F:F) -> West Mercia | E21: 14903 | F21: 20926 | G21: 2831 | H21: 0 | I21: 1844 | J21: 0 | K21: =SUM(L21:M21) -> 0 | L21: 0 | M21: 0 | N21: =SUM(E21:K21) -> 40504 | O21: =E21/$N21 -> 0.36793897 | P21: =F21/$N21 -> 0.51664033 | Q21: =G21/$N21 -> 0.069894331 | R21: =H21/$N21 -> 0 | S21: =I21/$N21 -> 0.045526368 | T21: =J21/$N21 -> 0 | U21: =K21/$N21 -> 0
A22: E06000021 | B22: Stoke-on-Trent | C22: LA | D22: =LOOKUP(A22,Lookup!A:A,Lookup!F:F) -> Staffordshire | E22: 11838 | F22: 16732 | G22: 824 | H22: 0 | I22: 760 | J22: 0 | K22: =SUM(L22:M22) -> 2258 | L22: 2258 | N22: =SUM(E22:K22) -> 32412 | O22: =E22/$N22 -> 0.3652351 | P22: =F22/$N22 -> 0.51622856 | Q22: =G22/$N22 -> 0.025422683 | R22: =H22/$N22 -> 0 | S22: =I22/$N22 -> 0.023448106 | T22: =J22/$N22 -> 0 | U22: =K22/$N22 -> 0.069665556
A23: E06000022 | B23: Bath and North East Somerset | C23: LA | D23: =LOOKUP(A23,Lookup!A:A,Lookup!F:F) -> Avon and Somerset | E23: 10980 | F23: 15209 | G23: 9403 | H23: 6381 | I23: 0 | J23: 0 | K23: =SUM(L23:M23) -> 5049 | L23: 5049 | M23: 0 | N23: =SUM(E23:K23) -> 47022 | O23: =E23/$N23 -> 0.23350772 | P23: =F23/$N23 -> 0.32344435 | Q23: =G23/$N23 -> 0.19997023 | R23: =H23/$N23 -> 0.13570244 | S23: =I23/$N23 -> 0 | T23: =J23/$N23 -> 0 | U23: =K23/$N23 -> 0.10737527
A24: E06000023 | B24: Bristol, City of | C24: LA | D24: =LOOKUP(A24,Lookup!A:A,Lookup!F:F) -> Avon and Somerset | E24: 45973 | F24: 28442 | G24: 13930 | H24: 37141 | I24: 0 | J24: 0 | K24: =SUM(L24:M24) -> 11097 | L24: 11097 | M24: 0 | N24: =SUM(E24:K24) -> 136583 | O24: =E24/$N24 -> 0.33659387 | P24: =F24/$N24 -> 0.20823968 | Q24: =G24/$N24 -> 0.10198927 | R24: =H24/$N24 -> 0.27192989 | S24: =I24/$N24 -> 0 | T24: =J24/$N24 -> 0 | U24: =K24/$N24 -> 0.0812473
A25: E06000024 | B25: North Somerset | C25: LA | D25: =LOOKUP(A25,Lookup!A:A,Lookup!F:F) -> Avon and Somerset | E25: 6882 | F25: 16524 | G25: 3825 | H25: 4490 | I25: 0 | J25: 0 | K25: =SUM(L25:M25) -> 7944 | L25: 7944 | M25: 0 | N25: =SUM(E25:K25) -> 39665 | O25: =E25/$N25 -> 0.17350309 | P25: =F25/$N25 -> 0.41658893 | Q25: =G25/$N25 -> 0.096432623 | R25: =H25/$N25 -> 0.11319803 | S25: =I25/$N25 -> 0 | T25: =J25/$N25 -> 0 | U25: =K25/$N25 -> 0.20027732
A26: E06000025 | B26: South Gloucestershire | C26: LA | D26: =LOOKUP(A26,Lookup!A:A,Lookup!F:F) -> Avon and Somerset | E26: 16332 | F26: 29225 | G26: 8716 | H26: 7002 | I26: 0 | J26: 0 | K26: =SUM(L26:M26) -> 7066 | L26: 7066 | M26: 0 | N26: =SUM(E26:K26) -> 68341 | O26: =E26/$N26 -> 0.23897807 | P26: =F26/$N26 -> 0.42763495 | Q26: =G26/$N26 -> 0.12753691 | R26: =H26/$N26 -> 0.1024568 | S26: =I26/$N26 -> 0 | T26: =J26/$N26 -> 0 | U26: =K26/$N26 -> 0.10339328
A27: E06000026 | B27: Plymouth | C27: LA | D27: =LOOKUP(A27,Lookup!A:A,Lookup!F:F) -> Devon & Cornwall | E27: 21923 | F27: 33836 | G27: 5824 | H27: 5888 | I27: 0 | J27: 0 | K27: =SUM(L27:M27) -> 0 | L27: 0 | M27: 0 | N27: =SUM(E27:K27) -> 67471 | O27: =E27/$N27 -> 0.32492478 | P27: =F27/$N27 -> 0.50148953 | Q27: =G27/$N27 -> 0.086318566 | R27: =H27/$N27 -> 0.087267122 | S27: =I27/$N27 -> 0 | T27: =J27/$N27 -> 0 | U27: =K27/$N27 -> 0
A28: E06000027 | B28: Torbay | C28: LA | D28: =LOOKUP(A28,Lookup!A:A,Lookup!F:F) -> Devon & Cornwall | E28: 3489 | F28: 14422 | G28: 5505 | H28: 1857 | I28: 0 | J28: 0 | K28: =SUM(L28:M28) -> 0 | L28: 0 | M28: 0 | N28: =SUM(E28:K28) -> 25273 | O28: =E28/$N28 -> 0.13805247 | P28: =F28/$N28 -> 0.57064852 | Q28: =G28/$N28 -> 0.21782139 | R28: =H28/$N28 -> 0.073477624 | S28: =I28/$N28 -> 0 | T28: =J28/$N28 -> 0 | U28: =K28/$N28 -> 0
A29: E06000030 | B29: Swindon | C29: LA | D29: =LOOKUP(A29,Lookup!A:A,Lookup!F:F) -> Wiltshire | E29: 18635 | F29: 25212 | G29: 4927 | H29: 3643 | I29: 1193 | J29: 0 | K29: =SUM(L29:M29) -> 6675 | L29: 6675 | M29: 0 | N29: =SUM(E29:K29) -> 60285 | O29: =E29/$N29 -> 0.30911504 | P29: =F29/$N29 -> 0.41821349 | Q29: =G29/$N29 -> 0.081728457 | R29: =H29/$N29 -> 0.060429626 | S29: =I29/$N29 -> 0.019789334 | T29: =J29/$N29 -> 0 | U29: =K29/$N29 -> 0.11072406
A30: E06000031 | B30: Peterborough | C30: LA | D30: =LOOKUP(A30,Lookup!A:A,Lookup!F:F) -> Cambridgeshire | E30: 18087 | F30: 22349 | G30: 4806 | H30: 0 | I30: 1879 | J30: 0 | K30: =SUM(L30:M30) -> 0 | L30: 0 | M30: 0 | N30: =SUM(E30:K30) -> 47121 | O30: =E30/$N30 -> 0.3838416 | P30: =F30/$N30 -> 0.47428959 | Q30: =G30/$N30 -> 0.10199274 | R30: =H30/$N30 -> 0 | S30: =I30/$N30 -> 0.039876064 | T30: =J30/$N30 -> 0 | U30: =K30/$N30 -> 0
A31: E06000032 | B31: Luton | C31: LA | D31: =LOOKUP(A31,Lookup!A:A,Lookup!F:F) -> Bedfordshire | E31: 18827 | F31: 10181 | G31: 2966 | H31: 0 | I31: 0 | J31: 0 | K31: =SUM(L31:M31) -> 2917 | L31: 1862 | M31: 1055 | N31: =SUM(E31:K31) -> 34891 | O31: =E31/$N31 -> 0.53959474 | P31: =F31/$N31 -> 0.29179445 | Q31: =G31/$N31 -> 0.085007595 | R31: =H31/$N31 -> 0 | S31: =I31/$N31 -> 0 | T31: =J31/$N31 -> 0 | U31: =K31/$N31 -> 0.083603221
A32: E06000033 | B32: Southend-on-Sea | C32: LA | D32: =LOOKUP(A32,Lookup!A:A,Lookup!F:F) -> Essex | E32: 13178 | F32: 21101 | G32: 4667 | H32: 0 | I32: 0 | J32: 0 | K32: =SUM(L32:M32) -> 4339 | L32: 4339 | N32: =SUM(E32:K32) -> 43285 | O32: =E32/$N32 -> 0.30444727 | P32: =F32/$N32 -> 0.48748989 | Q32: =G32/$N32 -> 0.10782026 | R32: =H32/$N32 -> 0 | S32: =I32/$N32 -> 0 | T32: =J32/$N32 -> 0 | U32: =K32/$N32 -> 0.10024258
A33: E06000034 | B33: Thurrock | C33: LA | D33: =LOOKUP(A33,Lookup!A:A,Lookup!F:F) -> Essex | E33: 10205 | F33: 15606 | G33: 1339 | H33: 0 | I33: 0 | J33: 0 | K33: =SUM(L33:M33) -> 4038 | L33: 4038 | N33: =SUM(E33:K33) -> 31188 | O33: =E33/$N33 -> 0.32720918 | P33: =F33/$N33 -> 0.50038476 | Q33: =G33/$N33 -> 0.042933179 | R33: =H33/$N33 -> 0 | S33: =I33/$N33 -> 0 | T33: =J33/$N33 -> 0 | U33: =K33/$N33 -> 0.12947287
A34: E06000035 | B34: Medway | C34: LA | D34: =LOOKUP(A34,Lookup!A:A,Lookup!F:F) -> Kent | E34: 11363 | F34: 22050 | G34: 4969 | H34: 0 | I34: 0 | J34: 0 | K34: =SUM(L34:M34) -> 0 | L34: 0 | M34: 0 | N34: =SUM(E34:K34) -> 38382 | O34: =E34/$N34 -> 0.29605023 | P34: =F34/$N34 -> 0.57448804 | Q34: =G34/$N34 -> 0.12946173 | R34: =H34/$N34 -> 0 | S34: =I34/$N34 -> 0 | T34: =J34/$N34 -> 0 | U34: =K34/$N34 -> 0
A35: E06000036 | B35: Bracknell Forest | C35: LA | D35: =LOOKUP(A35,Lookup!A:A,Lookup!F:F) -> Thames Valley | E35: 5012 | F35: 9598 | G35: 1607 | H35: 0 | I35: 0 | J35: 0 | K35: =SUM(L35:M35) -> 3239 | L35: 3239 | M35: 0 | N35: =SUM(E35:K35) -> 19456 | O35: =E35/$N35 -> 0.25760691 | P35: =F35/$N35 -> 0.49331826 | Q35: =G35/$N35 -> 0.082596628 | R35: =H35/$N35 -> 0 | S35: =I35/$N35 -> 0 | T35: =J35/$N35 -> 0 | U35: =K35/$N35 -> 0.16647821
A36: E06000037 | B36: West Berkshire | C36: LA | D36: =LOOKUP(A36,Lookup!A:A,Lookup!F:F) -> Thames Valley | E36: 5535 | F36: 15555 | G36: 4971 | H36: 0 | I36: 0 | J36: 0 | K36: =SUM(L36:M36) -> 5173 | L36: 5173 | M36: 0 | N36: =SUM(E36:K36) -> 31234 | O36: =E36/$N36 -> 0.17721073 | P36: =F36/$N36 -> 0.49801498 | Q36: =G36/$N36 -> 0.15915349 | R36: =H36/$N36 -> 0 | S36: =I36/$N36 -> 0 | T36: =J36/$N36 -> 0 | U36: =K36/$N36 -> 0.1656208
A37: E06000038 | B37: Reading | C37: LA | D37: =LOOKUP(A37,Lookup!A:A,Lookup!F:F) -> Thames Valley | E37: 19148 | F37: 13721 | G37: 4547 | H37: 0 | I37: 0 | J37: 0 | K37: =SUM(L37:M37) -> 3933 | L37: 3933 | M37: 0 | N37: =SUM(E37:K37) -> 41349 | O37: =E37/$N37 -> 0.46308254 | P37: =F37/$N37 -> 0.3318339 | Q37: =G37/$N37 -> 0.10996638 | R37: =H37/$N37 -> 0 | S37: =I37/$N37 -> 0 | T37: =J37/$N37 -> 0 | U37: =K37/$N37 -> 0.095117173
A38: E06000039 | B38: Slough | C38: LA | D38: =LOOKUP(A38,Lookup!A:A,Lookup!F:F) -> Thames Valley | E38: 16870 | F38: 9702 | G38: 1579 | H38: 0 | I38: 0 | J38: 0 | K38: =SUM(L38:M38) -> 2368 | L38: 2368 | M38: 0 | N38: =SUM(E38:K38) -> 30519 | O38: =E38/$N38 -> 0.55277041 | P38: =F38/$N38 -> 0.31790032 | Q38: =G38/$N38 -> 0.051738261 | R38: =H38/$N38 -> 0 | S38: =I38/$N38 -> 0 | T38: =J38/$N38 -> 0 | U38: =K38/$N38 -> 0.077591009
A39: E06000040 | B39: Windsor and Maidenhead | C39: LA | D39: =LOOKUP(A39,Lookup!A:A,Lookup!F:F) -> Thames Valley | E39: 5460 | F39: 11470 | G39: 3685 | H39: 0 | I39: 0 | J39: 0 | K39: =SUM(L39:M39) -> 4740 | L39: 4740 | M39: 0 | N39: =SUM(E39:K39) -> 25355 | O39: =E39/$N39 -> 0.21534214 | P39: =F39/$N39 -> 0.45237626 | Q39: =G39/$N39 -> 0.14533623 | R39: =H39/$N39 -> 0 | S39: =I39/$N39 -> 0 | T39: =J39/$N39 -> 0 | U39: =K39/$N39 -> 0.18694538
A40: E06000041 | B40: Wokingham | C40: LA | D40: =LOOKUP(A40,Lookup!A:A,Lookup!F:F) -> Thames Valley | E40: 10150 | F40: 24081 | G40: 12025 | H40: 0 | I40: 0 | J40: 0 | K40: =SUM(L40:M40) -> 6158 | L40: 6158 | M40: 0 | N40: =SUM(E40:K40) -> 52414 | O40: =E40/$N40 -> 0.19365055 | P40: =F40/$N40 -> 0.45943832 | Q40: =G40/$N40 -> 0.22942344 | R40: =H40/$N40 -> 0 | S40: =I40/$N40 -> 0 | T40: =J40/$N40 -> 0 | U40: =K40/$N40 -> 0.11748769
A41: E06000042 | B41: Milton Keynes | C41: LA | D41: =LOOKUP(A41,Lookup!A:A,Lookup!F:F) -> Thames Valley | E41: 24219 | F41: 30764 | G41: 8836 | H41: 0 | I41: 0 | J41: 0 | K41: =SUM(L41:M41) -> 6231 | L41: 6231 | M41: 0 | N41: =SUM(E41:K41) -> 70050 | O41: =E41/$N41 -> 0.34573876 | P41: =F41/$N41 -> 0.43917202 | Q41: =G41/$N41 -> 0.12613847 | R41: =H41/$N41 -> 0 | S41: =I41/$N41 -> 0 | T41: =J41/$N41 -> 0 | U41: =K41/$N41 -> 0.088950749
A42: E06000043 | B42: Brighton and Hove | C42: LA | D42: =LOOKUP(A42,Lookup!A:A,Lookup!F:F) -> Sussex | E42: 17513 | F42: 16515 | G42: 2693 | H42: 16462 | I42: 0 | J42: 0 | K42: =SUM(L42:M42) -> 2796 | L42: 2796 | M42: 0 | N42: =SUM(E42:K42) -> 55979 | O42: =E42/$N42 -> 0.31284946 | P42: =F42/$N42 -> 0.29502135 | Q42: =G42/$N42 -> 0.048107326 | R42: =H42/$N42 -> 0.29407456 | S42: =I42/$N42 -> 0 | T42: =J42/$N42 -> 0 | U42: =K42/$N42 -> 0.049947302
A43: E06000044 | B43: Portsmouth | C43: LA | D43: =LOOKUP(A43,Lookup!A:A,Lookup!F:F) -> Hampshire | E43: 14189 | F43: 19328 | G43: 8571 | H43: 0 | I43: 0 | J43: 0 | K43: =SUM(L43:M43) -> 4782 | L43: 4782 | M43: 0 | N43: =SUM(E43:K43) -> 46870 | O43: =E43/$N43 -> 0.30273096 | P43: =F43/$N43 -> 0.41237465 | Q43: =G43/$N43 -> 0.18286751 | R43: =H43/$N43 -> 0 | S43: =I43/$N43 -> 0 | T43: =J43/$N43 -> 0 | U43: =K43/$N43 -> 0.10202688
A44: E06000045 | B44: Southampton | C44: LA | D44: =LOOKUP(A44,Lookup!A:A,Lookup!F:F) -> Hampshire | E44: 21889 | F44: 23298 | G44: 4646 | H44: 0 | I44: 0 | J44: 0 | K44: =SUM(L44:M44) -> 5105 | L44: 5105 | M44: 0 | N44: =SUM(E44:K44) -> 54938 | O44: =E44/$N44 -> 0.39843096 | P44: =F44/$N44 -> 0.42407805 | Q44: =G44/$N44 -> 0.084568059 | R44: =H44/$N44 -> 0 | S44: =I44/$N44 -> 0 | T44: =J44/$N44 -> 0 | U44: =K44/$N44 -> 0.092922931
A45: E06000046 | B45: Isle of Wight | C45: LA | D45: =LOOKUP(A45,Lookup!A:A,Lookup!F:F) -> Hampshire | E45: 8448 | F45: 19400 | G45: 4178 | H45: 0 | I45: 0 | J45: 0 | K45: =SUM(L45:M45) -> 6902 | L45: 6902 | M45: 0 | N45: =SUM(E45:K45) -> 38928 | O45: =E45/$N45 -> 0.21701603 | P45: =F45/$N45 -> 0.49835594 | Q45: =G45/$N45 -> 0.10732635 | R45: =H45/$N45 -> 0 | S45: =I45/$N45 -> 0 | T45: =J45/$N45 -> 0 | U45: =K45/$N45 -> 0.17730169
... A54: E06000056 | B54: Central Bedfordshire | C54: LA | D54: =LOOKUP(A54,Lookup!A:A,Lookup!F:F) -> Bedfordshire | E54: 13056 | F54: 29269 | G54: 4933 | H54: 0 | I54: 0 | J54: 0 | K54: =SUM(L54:M54) -> 6022 | L54: 4609 | M54: 1413 | N54: =SUM(E54:K54) -> 53280 | O54: =E54/$N54 -> 0.24504504 | P54: =F54/$N54 -> 0.54934309 | Q54: =G54/$N54 -> 0.092586336 | R54: =H54/$N54 -> 0 | S54: =I54/$N54 -> 0 | T54: =J54/$N54 -> 0 | U54: =K54/$N54 -> 0.11302553
A55: E06000057 | B55: Northumberland | C55: LA | D55: =LOOKUP(A55,Lookup!A:A,Lookup!F:F) -> Northumbria | E55: 37981 | F55: 38179 | G55: 7539 | H55: 0 | I55: 0 | J55: 0 | K55: =SUM(L55:M55) -> 11792 | L55: 11792 | N55: =SUM(E55:K55) -> 95491 | O55: =E55/$N55 -> 0.39774429 | P55: =F55/$N55 -> 0.39981778 | Q55: =G55/$N55 -> 0.078949849 | R55: =H55/$N55 -> 0 | S55: =I55/$N55 -> 0 | T55: =J55/$N55 -> 0 | U55: =K55/$N55 -> 0.12348808
A56: E06000058 | B56: Bournemouth, Christchurch and Poole | C56: LA | D56: =LOOKUP(A56,Lookup!A:A,Lookup!F:F) -> Dorset | E56: 8510 | F56: 29293 | G56: 7511 | H56: 9888 | I56: 0 | J56: 0 | K56: =SUM(L56:M56) -> 14008 | L56: 14008 | M56: 0 | N56: =SUM(E56:K56) -> 69210 | O56: =E56/$N56 -> 0.12295911 | P56: =F56/$N56 -> 0.42324809 | Q56: =G56/$N56 -> 0.10852478 | R56: =H56/$N56 -> 0.14286953 | S56: =I56/$N56 -> 0 | T56: =J56/$N56 -> 0 | U56: =K56/$N56 -> 0.2023985
A57: E06000059 | B57: Dorset | C57: LA | D57: =LOOKUP(A57,Lookup!A:A,Lookup!F:F) -> Dorset | E57: 7869 | F57: 34778 | G57: 10326 | H57: 11395 | I57: 0 | J57: 0 | K57: =SUM(L57:M57) -> 17104 | L57: 17104 | M57: 0 | N57: =SUM(E57:K57) -> 81472 | O57: =E57/$N57 -> 0.09658533 | P57: =F57/$N57 -> 0.42687058 | Q57: =G57/$N57 -> 0.12674293 | R57: =H57/$N57 -> 0.139864 | S57: =I57/$N57 -> 0 | T57: =J57/$N57 -> 0 | U57: =K57/$N57 -> 0.20993716
A58: E06000060 | B58: Buckinghamshire | C58: LA | D58: =LOOKUP(A58,Lookup!A:A,Lookup!F:F) -> Thames Valley | E58: 31328 | F58: 75837 | G58: 28421 | H58: 0 | I58: 0 | J58: 0 | K58: =SUM(L58:M58) -> 20992 | L58: 20992 | M58: 0 | N58: =SUM(E58:K58) -> 156578 | O58: =E58/$N58 -> 0.20007919 | P58: =F58/$N58 -> 0.48434007 | Q58: =G58/$N58 -> 0.18151337 | R58: =H58/$N58 -> 0 | S58: =I58/$N58 -> 0 | T58: =J58/$N58 -> 0 | U58: =K58/$N58 -> 0.13406737
A59: E06000061 | B59: North Northamptonshire | C59: LA | D59: =LOOKUP(A59,Lookup!A:A,Lookup!F:F) -> Northamptonshire | E59: 26061 | F59: 48207 | G59: 10769 | H59: 0 | I59: 3528 | J59: 0 | K59: =SUM(L59:M59) -> 0 | L59: 0 | M59: 0 | N59: =SUM(E59:K59) -> 88565 | O59: =E59/$N59 -> 0.29425845 | P59: =F59/$N59 -> 0.54431209 | Q59: =G59/$N59 -> 0.12159431 | R59: =H59/$N59 -> 0 | S59: =I59/$N59 -> 0.039835149 | T59: =J59/$N59 -> 0 | U59: =K59/$N59 -> 0
A60: E06000062 | B60: West Northamptonshire | C60: LA | D60: =LOOKUP(A60,Lookup!A:A,Lookup!F:F) -> Northamptonshire | E60: 27105 | F60: 54545 | G60: 18852 | H60: 0 | I60: 4187 | J60: 0 | K60: =SUM(L60:M60) -> 0 | L60: 0 | M60: 0 | N60: =SUM(E60:K60) -> 104689 | O60: =E60/$N60 -> 0.25890972 | P60: =F60/$N60 -> 0.5210194 | Q60: =G60/$N60 -> 0.18007623 | R60: =H60/$N60 -> 0 | S60: =I60/$N60 -> 0.039994651 | T60: =J60/$N60 -> 0 | U60: =K60/$N60 -> 0
A61: E07000008 | B61: Cambridge | C61: LA | D61: =LOOKUP(A61,Lookup!A:A,Lookup!F:F) -> Cambridgeshire | E61: 20776 | F61: 6389 | G61: 10486 | H61: 0 | I61: 800 | J61: 0 | K61: =SUM(L61:M61) -> 0 | L61: 0 | M61: 0 | N61: =SUM(E61:K61) -> 38451 | O61: =E61/$N61 -> 0.54032405 | P61: =F61/$N61 -> 0.16615953 | Q61: =G61/$N61 -> 0.27271072 | R61: =H61/$N61 -> 0 | S61: =I61/$N61 -> 0.020805701 | T61: =J61/$N61 -> 0 | U61: =K61/$N61 -> 0
A62: E07000009 | B62: East Cambridgeshire | C62: LA | D62: =LOOKUP(A62,Lookup!A:A,Lookup!F:F) -> Cambridgeshire | E62: 5300 | F62: 10738 | G62: 6433 | H62: 0 | I62: 794 | J62: 0 | K62: =SUM(L62:M62) -> 0 | L62: 0 | M62: 0 | N62: =SUM(E62:K62) -> 23265 | O62: =E62/$N62 -> 0.22781002 | P62: =F62/$N62 -> 0.46155169 | Q62: =G62/$N62 -> 0.27650978 | R62: =H62/$N62 -> 0 | S62: =I62/$N62 -> 0.034128519 | T62: =J62/$N62 -> 0 | U62: =K62/$N62 -> 0
A63: E07000010 | B63: Fenland | C63: LA | D63: =LOOKUP(A63,Lookup!A:A,Lookup!F:F) -> Cambridgeshire | E63: 4553 | F63: 14437 | G63: 2100 | H63: 0 | I63: 1148 | J63: 0 | K63: =SUM(L63:M63) -> 0 | L63: 0 | M63: 0 | N63: =SUM(E63:K63) -> 22238 | O63: =E63/$N63 -> 0.20473963 | P63: =F63/$N63 -> 0.64920407 | Q63: =G63/$N63 -> 0.094432953 | R63: =H63/$N63 -> 0 | S63: =I63/$N63 -> 0.051623347 | T63: =J63/$N63 -> 0 | U63: =K63/$N63 -> 0
A64: E07000011 | B64: Huntingdonshire | C64: LA | D64: =LOOKUP(A64,Lookup!A:A,Lookup!F:F) -> Cambridgeshire | E64: 11204 | F64: 24385 | G64: 8330 | H64: 0 | I64: 1993 | J64: 0 | K64: =SUM(L64:M64) -> 0 | L64: 0 | M64: 0 | N64: =SUM(E64:K64) -> 45912 | O64: =E64/$N64 -> 0.24403206 | P64: =F64/$N64 -> 0.53112476 | Q64: =G64/$N64 -> 0.18143405 | R64: =H64/$N64 -> 0 | S64: =I64/$N64 -> 0.043409131 | T64: =J64/$N64 -> 0 | U64: =K64/$N64 -> 0
A65: E07000012 | B65: South Cambridgeshire | C65: LA | D65: =LOOKUP(A65,Lookup!A:A,Lookup!F:F) -> Cambridgeshire | E65: 12393 | F65: 20736 | G65: 19335 | H65: 0 | I65: 1417 | J65: 0 | K65: =SUM(L65:M65) -> 0 | L65: 0 | M65: 0 | N65: =SUM(E65:K65) -> 53881 | O65: =E65/$N65 -> 0.23000687 | P65: =F65/$N65 -> 0.38484809 | Q65: =G65/$N65 -> 0.35884635 | R65: =H65/$N65 -> 0 | S65: =I65/$N65 -> 0.026298695 | T65: =J65/$N65 -> 0 | U65: =K65/$N65 -> 0
A66: E07000026 | B66: Allerdale | C66: LA | D66: =LOOKUP(A66,Lookup!A:A,Lookup!F:F) -> Cumbria | E66: 6942 | F66: 11717 | G66: 2050 | H66: 0 | I66: 0 | J66: 0 | K66: =SUM(L66:M66) -> 0 | L66: 0 | M66: 0 | N66: =SUM(E66:K66) -> 20709 | O66: =E66/$N66 -> 0.33521657 | P66: =F66/$N66 -> 0.56579265 | Q66: =G66/$N66 -> 0.098990777 | R66: =H66/$N66 -> 0 | S66: =I66/$N66 -> 0 | T66: =J66/$N66 -> 0 | U66: =K66/$N66 -> 0
A67: E07000027 | B67: Barrow-in-Furness | C67: LA | D67: =LOOKUP(A67,Lookup!A:A,Lookup!F:F) -> Cumbria | E67: 3672 | F67: 4961 | G67: 771 | H67: 0 | I67: 0 | J67: 0 | K67: =SUM(L67:M67) -> 0 | L67: 0 | M67: 0 | N67: =SUM(E67:K67) -> 9404 | O67: =E67/$N67 -> 0.39047214 | P67: =F67/$N67 -> 0.52754147 | Q67: =G67/$N67 -> 0.081986389 | R67: =H67/$N67 -> 0 | S67: =I67/$N67 -> 0 | T67: =J67/$N67 -> 0 | U67: =K67/$N67 -> 0
... A75: E07000035 | B75: Derbyshire Dales | C75: LA | D75: =LOOKUP(A75,Lookup!A:A,Lookup!F:F) -> Derbyshire | E75: 8224 | F75: 13105 | G75: 3504 | H75: 0 | I75: 607 | J75: 0 | K75: =SUM(L75:M75) -> 0 | L75: 0 | M75: 0 | N75: =SUM(E75:K75) -> 25440 | O75: =E75/$N75 -> 0.32327044 | P75: =F75/$N75 -> 0.51513365 | Q75: =G75/$N75 -> 0.13773585 | R75: =H75/$N75 -> 0 | S75: =I75/$N75 -> 0.023860063 | T75: =J75/$N75 -> 0 | U75: =K75/$N75 -> 0
A76: E07000036 | B76: Erewash | C76: LA | D76: =LOOKUP(A76,Lookup!A:A,Lookup!F:F) -> Derbyshire | E76: 10056 | F76: 16930 | G76: 2217 | H76: 0 | I76: 1010 | J76: 0 | K76: =SUM(L76:M76) -> 0 | N76: =SUM(E76:K76) -> 30213 | O76: =E76/$N76 -> 0.33283686 | P76: =F76/$N76 -> 0.56035481 | Q76: =G76/$N76 -> 0.073379009 | R76: =H76/$N76 -> 0 | S76: =I76/$N76 -> 0.033429319 | T76: =J76/$N76 -> 0 | U76: =K76/$N76 -> 0
A77: E07000037 | B77: High Peak | C77: LA | D77: =LOOKUP(A77,Lookup!A:A,Lookup!F:F) -> Derbyshire | E77: 14109 | F77: 13234 | G77: 2394 | H77: 0 | I77: 676 | J77: 0 | K77: =SUM(L77:M77) -> 0 | L77: 0 | M77: 0 | N77: =SUM(E77:K77) -> 30413 | O77: =E77/$N77 -> 0.46391346 | P77: =F77/$N77 -> 0.43514287 | Q77: =G77/$N77 -> 0.078716338 | R77: =H77/$N77 -> 0 | S77: =I77/$N77 -> 0.022227337 | T77: =J77/$N77 -> 0 | U77: =K77/$N77 -> 0
A78: E07000038 | B78: North East Derbyshire | C78: LA | D78: =LOOKUP(A78,Lookup!A:A,Lookup!F:F) -> Derbyshire | E78: 9839 | F78: 16359 | G78: 1930 | H78: 0 | I78: 754 | J78: 0 | K78: =SUM(L78:M78) -> 0 | L78: 0 | M78: 0 | N78: =SUM(E78:K78) -> 28882 | O78: =E78/$N78 -> 0.340662 | P78: =F78/$N78 -> 0.56640814 | Q78: =G78/$N78 -> 0.066823627 | R78: =H78/$N78 -> 0 | S78: =I78/$N78 -> 0.026106225 | T78: =J78/$N78 -> 0 | U78: =K78/$N78 -> 0
A79: E07000039 | B79: South Derbyshire | C79: LA | D79: =LOOKUP(A79,Lookup!A:A,Lookup!F:F) -> Derbyshire | E79: 7490 | F79: 14867 | G79: 1380 | H79: 0 | I79: 1110 | J79: 0 | K79: =SUM(L79:M79) -> 0 | L79: 0 | M79: 0 | N79: =SUM(E79:K79) -> 24847 | O79: =E79/$N79 -> 0.30144484 | P79: =F79/$N79 -> 0.59834185 | Q79: =G79/$N79 -> 0.055539904 | R79: =H79/$N79 -> 0 | S79: =I79/$N79 -> 0.044673401 | T79: =J79/$N79 -> 0 | U79: =K79/$N79 -> 0
A80: E07000040 | B80: East Devon | C80: LA | D80: =LOOKUP(A80,Lookup!A:A,Lookup!F:F) -> Devon & Cornwall | E80: 6789 | F80: 23491 | G80: 7620 | H80: 5658 | I80: 0 | J80: 0 | K80: =SUM(L80:M80) -> 0 | N80: =SUM(E80:K80) -> 43558 | O80: =E80/$N80 -> 0.15586115 | P80: =F80/$N80 -> 0.53930392 | Q80: =G80/$N80 -> 0.17493916 | R80: =H80/$N80 -> 0.12989577 | S80: =I80/$N80 -> 0 | T80: =J80/$N80 -> 0 | U80: =K80/$N80 -> 0
A81: E07000041 | B81: Exeter | C81: LA | D81: =LOOKUP(A81,Lookup!A:A,Lookup!F:F) -> Devon & Cornwall | E81: 13818 | F81: 11808 | G81: 4115 | H81: 5370 | I81: 0 | J81: 0 | K81: =SUM(L81:M81) -> 0 | L81: 0 | M81: 0 | N81: =SUM(E81:K81) -> 35111 | O81: =E81/$N81 -> 0.39355188 | P81: =F81/$N81 -> 0.33630486 | Q81: =G81/$N81 -> 0.11719974 | R81: =H81/$N81 -> 0.15294352 | S81: =I81/$N81 -> 0 | T81: =J81/$N81 -> 0 | U81: =K81/$N81 -> 0
A82: E07000042 | B82: Mid Devon | C82: LA | D82: =LOOKUP(A82,Lookup!A:A,Lookup!F:F) -> Devon & Cornwall | E82: 3695 | F82: 12188 | G82: 4597 | H82: 3078 | I82: 0 | J82: 0 | K82: =SUM(L82:M82) -> 0 | L82: 0 | M82: 0 | N82: =SUM(E82:K82) -> 23558 | O82: =E82/$N82 -> 0.15684693 | P82: =F82/$N82 -> 0.51736141 | Q82: =G82/$N82 -> 0.19513541 | R82: =H82/$N82 -> 0.13065625 | S82: =I82/$N82 -> 0 | T82: =J82/$N82 -> 0 | U82: =K82/$N82 -> 0
A83: E07000043 | B83: North Devon | C83: LA | D83: =LOOKUP(A83,Lookup!A:A,Lookup!F:F) -> Devon & Cornwall | E83: 3101 | F83: 14273 | G83: 6727 | H83: 3448 | I83: 0 | J83: 0 | K83: =SUM(L83:M83) -> 0 | L83: 0 | M83: 0 | N83: =SUM(E83:K83) -> 27549 | O83: =E83/$N83 -> 0.11256307 | P83: =F83/$N83 -> 0.51809503 | Q83: =G83/$N83 -> 0.24418309 | R83: =H83/$N83 -> 0.12515881 | S83: =I83/$N83 -> 0 | T83: =J83/$N83 -> 0 | U83: =K83/$N83 -> 0
A84: E07000044 | B84: South Hams | C84: LA | D84: =LOOKUP(A84,Lookup!A:A,Lookup!F:F) -> Devon & Cornwall | E84: 4817 | F84: 14627 | G84: 5602 | H84: 4558 | I84: 0 | J84: 0 | K84: =SUM(L84:M84) -> 0 | L84: 0 | M84: 0 | N84: =SUM(E84:K84) -> 29604 | O84: =E84/$N84 -> 0.1627145 | P84: =F84/$N84 -> 0.49408864 | Q84: =G84/$N84 -> 0.18923118 | R84: =H84/$N84 -> 0.15396568 | S84: =I84/$N84 -> 0 | T84: =J84/$N84 -> 0 | U84: =K84/$N84 -> 0
A85: E07000045 | B85: Teignbridge | C85: LA | D85: =LOOKUP(A85,Lookup!A:A,Lookup!F:F) -> Devon & Cornwall | E85: 6107 | F85: 19455 | G85: 9799 | H85: 4666 | I85: 0 | J85: 0 | K85: =SUM(L85:M85) -> 0 | L85: 0 | M85: 0 | N85: =SUM(E85:K85) -> 40027 | O85: =E85/$N85 -> 0.15257201 | P85: =F85/$N85 -> 0.48604692 | Q85: =G85/$N85 -> 0.24480975 | R85: =H85/$N85 -> 0.11657131 | S85: =I85/$N85 -> 0 | T85: =J85/$N85 -> 0 | U85: =K85/$N85 -> 0
A86: E07000046 | B86: Torridge | C86: LA | D86: =LOOKUP(A86,Lookup!A:A,Lookup!F:F) -> Devon & Cornwall | E86: 2775 | F86: 10906 | G86: 3260 | H86: 2274 | I86: 0 | J86: 0 | K86: =SUM(L86:M86) -> 0 | L86: 0 | M86: 0 | N86: =SUM(E86:K86) -> 19215 | O86: =E86/$N86 -> 0.14441842 | P86: =F86/$N86 -> 0.56757741 | Q86: =G86/$N86 -> 0.16965912 | R86: =H86/$N86 -> 0.11834504 | S86: =I86/$N86 -> 0 | T86: =J86/$N86 -> 0 | U86: =K86/$N86 -> 0
A87: E07000047 | B87: West Devon | C87: LA | D87: =LOOKUP(A87,Lookup!A:A,Lookup!F:F) -> Devon & Cornwall | E87: 2515 | F87: 9461 | G87: 2912 | H87: 2333 | I87: 0 | J87: 0 | K87: =SUM(L87:M87) -> 0 | L87: 0 | M87: 0 | N87: =SUM(E87:K87) -> 17221 | O87: =E87/$N87 -> 0.14604262 | P87: =F87/$N87 -> 0.54938738 | Q87: =G87/$N87 -> 0.16909587 | R87: =H87/$N87 -> 0.13547413 | S87: =I87/$N87 -> 0 | T87: =J87/$N87 -> 0 | U87: =K87/$N87 -> 0
A88: E07000061 | B88: Eastbourne | C88: LA | D88: =LOOKUP(A88,Lookup!A:A,Lookup!F:F) -> Sussex | E88: 2914 | F88: 12526 | G88: 7978 | H88: 2074 | I88: 0 | J88: 0 | K88: =SUM(L88:M88) -> 1591 | L88: 1591 | M88: 0 | N88: =SUM(E88:K88) -> 27083 | O88: =E88/$N88 -> 0.10759517 | P88: =F88/$N88 -> 0.46250415 | Q88: =G88/$N88 -> 0.29457593 | R88: =H88/$N88 -> 0.076579404 | S88: =I88/$N88 -> 0 | T88: =J88/$N88 -> 0 | U88: =K88/$N88 -> 0.058745338
A89: E07000062 | B89: Hastings | C89: LA | D89: =LOOKUP(A89,Lookup!A:A,Lookup!F:F) -> Sussex | E89: 7460 | F89: 9434 | G89: 1315 | H89: 3406 | I89: 0 | J89: 0 | K89: =SUM(L89:M89) -> 999 | L89: 999 | N89: =SUM(E89:K89) -> 22614 | O89: =E89/$N89 -> 0.32988414 | P89: =F89/$N89 -> 0.4171752 | Q89: =G89/$N89 -> 0.058149819 | R89: =H89/$N89 -> 0.15061466 | S89: =I89/$N89 -> 0 | T89: =J89/$N89 -> 0 | U89: =K89/$N89 -> 0.044176174
A90: E07000063 | B90: Lewes | C90: LA | D90: =LOOKUP(A90,Lookup!A:A,Lookup!F:F) -> Sussex | E90: 5211 | F90: 13325 | G90: 6372 | H90: 5545 | I90: 0 | J90: 0 | K90: =SUM(L90:M90) -> 1919 | L90: 1919 | M90: 0 | N90: =SUM(E90:K90) -> 32372 | O90: =E90/$N90 -> 0.16097245 | P90: =F90/$N90 -> 0.41162115 | Q90: =G90/$N90 -> 0.19683677 | R90: =H90/$N90 -> 0.17129 | S90: =I90/$N90 -> 0 | T90: =J90/$N90 -> 0 | U90: =K90/$N90 -> 0.059279624
A91: E07000064 | B91: Rother | C91: LA | D91: =LOOKUP(A91,Lookup!A:A,Lookup!F:F) -> Sussex | E91: 3912 | F91: 16035 | G91: 2823 | H91: 2821 | I91: 0 | J91: 0 | K91: =SUM(L91:M91) -> 2570 | L91: 2570 | M91: 0 | N91: =SUM(E91:K91) -> 28161 | O91: =E91/$N91 -> 0.13891552 | P91: =F91/$N91 -> 0.5694045 | Q91: =G91/$N91 -> 0.10024502 | R91: =H91/$N91 -> 0.100174 | S91: =I91/$N91 -> 0 | T91: =J91/$N91 -> 0 | U91: =K91/$N91 -> 0.091260964
A92: E07000065 | B92: Wealden | C92: LA | D92: =LOOKUP(A92,Lookup!A:A,Lookup!F:F) -> Sussex | E92: 4840 | F92: 26298 | G92: 6452 | H92: 6052 | I92: 0 | J92: 0 | K92: =SUM(L92:M92) -> 4090 | L92: 4090 | N92: =SUM(E92:K92) -> 47732 | O92: =E92/$N92 -> 0.10139948 | P92: =F92/$N92 -> 0.55095114 | Q92: =G92/$N92 -> 0.13517137 | R92: =H92/$N92 -> 0.12679125 | S92: =I92/$N92 -> 0 | T92: =J92/$N92 -> 0 | U92: =K92/$N92 -> 0.085686751
A93: E07000066 | B93: Basildon | C93: LA | D93: =LOOKUP(A93,Lookup!A:A,Lookup!F:F) -> Essex | E93: 10234 | F93: 22486 | G93: 3497 | H93: 0 | I93: 0 | J93: 0 | K93: =SUM(L93:M93) -> 4249 | L93: 4249 | N93: =SUM(E93:K93) -> 40466 | O93: =E93/$N93 -> 0.25290367 | P93: =F93/$N93 -> 0.55567637 | Q93: =G93/$N93 -> 0.086418228 | R93: =H93/$N93 -> 0 | S93: =I93/$N93 -> 0 | T93: =J93/$N93 -> 0 | U93: =K93/$N93 -> 0.10500173
A94: E07000067 | B94: Braintree | C94: LA | D94: =LOOKUP(A94,Lookup!A:A,Lookup!F:F) -> Essex | E94: 7517 | F94: 20532 | G94: 3558 | H94: 0 | I94: 0 | J94: 0 | K94: =SUM(L94:M94) -> 3267 | L94: 3267 | M94: 0 | N94: =SUM(E94:K94) -> 34874 | O94: =E94/$N94 -> 0.2155474 | P94: =F94/$N94 -> 0.58874806 | Q94: =G94/$N94 -> 0.10202443 | R94: =H94/$N94 -> 0 | S94: =I94/$N94 -> 0 | T94: =J94/$N94 -> 0 | U94: =K94/$N94 -> 0.093680106
A95: E07000068 | B95: Brentwood | C95: LA | D95: =LOOKUP(A95,Lookup!A:A,Lookup!F:F) -> Essex | E95: 3741 | F95: 11269 | G95: 4372 | H95: 0 | I95: 0 | J95: 0 | K95: =SUM(L95:M95) -> 1465 | L95: 1465 | N95: =SUM(E95:K95) -> 20847 | O95: =E95/$N95 -> 0.17945028 | P95: =F95/$N95 -> 0.54055739 | Q95: =G95/$N95 -> 0.20971842 | R95: =H95/$N95 -> 0 | S95: =I95/$N95 -> 0 | T95: =J95/$N95 -> 0 | U95: =K95/$N95 -> 0.0702739
A96: E07000069 | B96: Castle Point | C96: LA | D96: =LOOKUP(A96,Lookup!A:A,Lookup!F:F) -> Essex | E96: 4455 | F96: 12772 | G96: 1517 | H96: 0 | I96: 0 | J96: 0 | K96: =SUM(L96:M96) -> 3801 | L96: 3801 | N96: =SUM(E96:K96) -> 22545 | O96: =E96/$N96 -> 0.19760479 | P96: =F96/$N96 -> 0.56651142 | Q96: =G96/$N96 -> 0.067287647 | R96: =H96/$N96 -> 0 | S96: =I96/$N96 -> 0 | T96: =J96/$N96 -> 0 | U96: =K96/$N96 -> 0.16859614
A97: E07000070 | B97: Chelmsford | C97: LA | D97: =LOOKUP(A97,Lookup!A:A,Lookup!F:F) -> Essex | E97: 6939 | F97: 22660 | G97: 10261 | H97: 0 | I97: 0 | J97: 0 | K97: =SUM(L97:M97) -> 3522 | L97: 3522 | M97: 0 | N97: =SUM(E97:K97) -> 43382 | O97: =E97/$N97 -> 0.15995113 | P97: =F97/$N97 -> 0.52233645 | Q97: =G97/$N97 -> 0.23652667 | R97: =H97/$N97 -> 0 | S97: =I97/$N97 -> 0 | T97: =J97/$N97 -> 0 | U97: =K97/$N97 -> 0.081185745
A98: E07000071 | B98: Colchester | C98: LA | D98: =LOOKUP(A98,Lookup!A:A,Lookup!F:F) -> Essex | E98: 12471 | F98: 21952 | G98: 8538 | H98: 0 | I98: 0 | J98: 0 | K98: =SUM(L98:M98) -> 3066 | L98: 3066 | M98: 0 | N98: =SUM(E98:K98) -> 46027 | O98: =E98/$N98 -> 0.27094966 | P98: =F98/$N98 -> 0.47693745 | Q98: =G98/$N98 -> 0.18549982 | R98: =H98/$N98 -> 0 | S98: =I98/$N98 -> 0 | T98: =J98/$N98 -> 0 | U98: =K98/$N98 -> 0.066613075
A99: E07000072 | B99: Epping Forest | C99: LA | D99: =LOOKUP(A99,Lookup!A:A,Lookup!F:F) -> Essex | E99: 5965 | F99: 18584 | G99: 5114 | H99: 0 | I99: 0 | J99: 0 | K99: =SUM(L99:M99) -> 2791 | L99: 2791 | N99: =SUM(E99:K99) -> 32454 | O99: =E99/$N99 -> 0.18379861 | P99: =F99/$N99 -> 0.57262587 | Q99: =G99/$N99 -> 0.15757688 | R99: =H99/$N99 -> 0 | S99: =I99/$N99 -> 0 | T99: =J99/$N99 -> 0 | U99: =K99/$N99 -> 0.085998644
A100: E07000073 | B100: Harlow | C100: LA | D100: =LOOKUP(A100,Lookup!A:A,Lookup!F:F) -> Essex | E100: 7047 | F100: 10939 | G100: 881 | H100: 0 | I100: 0 | J100: 0 | K100: =SUM(L100:M100) -> 1175 | L100: 1175 | N100: =SUM(E100:K100) -> 20042 | O100: =E100/$N100 -> 0.35161162 | P100: =F100/$N100 -> 0.54580381 | Q100: =G100/$N100 -> 0.043957689 | R100: =H100/$N100 -> 0 | S100: =I100/$N100 -> 0 | T100: =J100/$N100 -> 0 | U100: =K100/$N100 -> 0.058626884
A101: E07000074 | B101: Maldon | C101: LA | D101: =LOOKUP(A101,Lookup!A:A,Lookup!F:F) -> Essex | E101: 2862 | F101: 10325 | G101: 2165 | H101: 0 | I101: 0 | J101: 0 | K101: =SUM(L101:M101) -> 1995 | L101: 1995 | M101: 0 | N101: =SUM(E101:K101) -> 17347 | O101: =E101/$N101 -> 0.1649853 | P101: =F101/$N101 -> 0.59520378 | Q101: =G101/$N101 -> 0.12480544 | R101: =H101/$N101 -> 0 | S101: =I101/$N101 -> 0 | T101: =J101/$N101 -> 0 | U101: =K101/$N101 -> 0.11500548
A102: E07000075 | B102: Rochford | C102: LA | D102: =LOOKUP(A102,Lookup!A:A,Lookup!F:F) -> Essex | E102: 3692 | F102: 12079 | G102: 3729 | H102: 0 | I102: 0 | J102: 0 | K102: =SUM(L102:M102) -> 2816 | L102: 2816 | N102: =SUM(E102:K102) -> 22316 | O102: =E102/$N102 -> 0.16544184 | P102: =F102/$N102 -> 0.54127084 | Q102: =G102/$N102 -> 0.16709984 | R102: =H102/$N102 -> 0 | S102: =I102/$N102 -> 0 | T102: =J102/$N102 -> 0 | U102: =K102/$N102 -> 0.12618749
A103: E07000076 | B103: Tendring | C103: LA | D103: =LOOKUP(A103,Lookup!A:A,Lookup!F:F) -> Essex | E103: 7168 | F103: 20734 | G103: 3506 | H103: 0 | I103: 0 | J103: 0 | K103: =SUM(L103:M103) -> 4013 | L103: 4013 | M103: 0 | N103: =SUM(E103:K103) -> 35421 | O103: =E103/$N103 -> 0.20236583 | P103: =F103/$N103 -> 0.58535897 | Q103: =G103/$N103 -> 0.098980831 | R103: =H103/$N103 -> 0 | S103: =I103/$N103 -> 0 | T103: =J103/$N103 -> 0 | U103: =K103/$N103 -> 0.11329437
A104: E07000077 | B104: Uttlesford | C104: LA | D104: =LOOKUP(A104,Lookup!A:A,Lookup!F:F) -> Essex | E104: 4238 | F104: 14307 | G104: 4987 | H104: 0 | I104: 0 | J104: 0 | K104: =SUM(L104:M104) -> 2294 | L104: 2294 | N104: =SUM(E104:K104) -> 25826 | O104: =E104/$N104 -> 0.1640982 | P104: =F104/$N104 -> 0.55397661 | Q104: =G104/$N104 -> 0.19309998 | R104: =H104/$N104 -> 0 | S104: =I104/$N104 -> 0 | T104: =J104/$N104 -> 0 | U104: =K104/$N104 -> 0.088825215
A105: E07000078 | B105: Cheltenham | C105: LA | D105: =LOOKUP(A105,Lookup!A:A,Lookup!F:F) -> Gloucestershire | E105: 3314 | F105: 13608 | G105: 11206 | H105: 0 | I105: 0 | J105: 0 | K105: =SUM(L105:M105) -> 9105 | L105: 6944 | M105: 2161 | N105: =SUM(E105:K105) -> 37233 | O105: =E105/$N105 -> 0.089007064 | P105: =F105/$N105 -> 0.36548223 | Q105: =G105/$N105 -> 0.30096957 | R105: =H105/$N105 -> 0 | S105: =I105/$N105 -> 0 | T105: =J105/$N105 -> 0 | U105: =K105/$N105 -> 0.24454113
A106: E07000079 | B106: Cotswold | C106: LA | D106: =LOOKUP(A106,Lookup!A:A,Lookup!F:F) -> Gloucestershire | E106: 2285 | F106: 14152 | G106: 7455 | H106: 0 | I106: 0 | J106: 0 | K106: =SUM(L106:M106) -> 6015 | L106: 4358 | M106: 1657 | N106: =SUM(E106:K106) -> 29907 | O106: =E106/$N106 -> 0.076403518 | P106: =F106/$N106 -> 0.47320025 | Q106: =G106/$N106 -> 0.24927275 | R106: =H106/$N106 -> 0 | S106: =I106/$N106 -> 0 | T106: =J106/$N106 -> 0 | U106: =K106/$N106 -> 0.20112348
A107: E07000080 | B107: Forest of Dean | C107: LA | D107: =LOOKUP(A107,Lookup!A:A,Lookup!F:F) -> Gloucestershire | E107: 5104 | F107: 9930 | G107: 2549 | H107: 0 | I107: 0 | J107: 0 | K107: =SUM(L107:M107) -> 6874 | L107: 4706 | M107: 2168 | N107: =SUM(E107:K107) -> 24457 | O107: =E107/$N107 -> 0.20869281 | P107: =F107/$N107 -> 0.40601873 | Q107: =G107/$N107 -> 0.10422374 | R107: =H107/$N107 -> 0 | S107: =I107/$N107 -> 0 | T107: =J107/$N107 -> 0 | U107: =K107/$N107 -> 0.28106473
A108: E07000081 | B108: Gloucester | C108: LA | D108: =LOOKUP(A108,Lookup!A:A,Lookup!F:F) -> Gloucestershire | E108: 6616 | F108: 13870 | G108: 5488 | H108: 0 | I108: 0 | J108: 0 | K108: =SUM(L108:M108) -> 7433 | L108: 5396 | M108: 2037 | N108: =SUM(E108:K108) -> 33407 | O108: =E108/$N108 -> 0.19804233 | P108: =F108/$N108 -> 0.41518245 | Q108: =G108/$N108 -> 0.16427695 | R108: =H108/$N108 -> 0 | S108: =I108/$N108 -> 0 | T108: =J108/$N108 -> 0 | U108: =K108/$N108 -> 0.22249828
A109: E07000082 | B109: Stroud | C109: LA | D109: =LOOKUP(A109,Lookup!A:A,Lookup!F:F) -> Gloucestershire | E109: 11192 | F109: 15824 | G109: 4778 | H109: 0 | I109: 0 | J109: 0 | K109: =SUM(L109:M109) -> 11317 | L109: 8088 | M109: 3229 | N109: =SUM(E109:K109) -> 43111 | O109: =E109/$N109 -> 0.25960892 | P109: =F109/$N109 -> 0.36705249 | Q109: =G109/$N109 -> 0.11083018 | R109: =H109/$N109 -> 0 | S109: =I109/$N109 -> 0 | T109: =J109/$N109 -> 0 | U109: =K109/$N109 -> 0.26250841
A110: E07000083 | B110: Tewkesbury | C110: LA | D110: =LOOKUP(A110,Lookup!A:A,Lookup!F:F) -> Gloucestershire | E110: 2836 | F110: 11702 | G110: 5548 | H110: 0 | I110: 0 | J110: 0 | K110: =SUM(L110:M110) -> 6673 | L110: 4794 | M110: 1879 | N110: =SUM(E110:K110) -> 26759 | O110: =E110/$N110 -> 0.10598303 | P110: =F110/$N110 -> 0.43731081 | Q110: =G110/$N110 -> 0.20733211 | R110: =H110/$N110 -> 0 | S110: =I110/$N110 -> 0 | T110: =J110/$N110 -> 0 | U110: =K110/$N110 -> 0.24937404
A111: E07000084 | B111: Basingstoke and Deane | C111: LA | D111: =LOOKUP(A111,Lookup!A:A,Lookup!F:F) -> Hampshire | E111: 10611 | F111: 24085 | G111: 6238 | H111: 0 | I111: 0 | J111: 0 | K111: =SUM(L111:M111) -> 7075 | L111: 7075 | M111: 0 | N111: =SUM(E111:K111) -> 48009 | O111: =E111/$N111 -> 0.22102106 | P111: =F111/$N111 -> 0.50167677 | Q111: =G111/$N111 -> 0.12993397 | R111: =H111/$N111 -> 0 | S111: =I111/$N111 -> 0 | T111: =J111/$N111 -> 0 | U111: =K111/$N111 -> 0.1473682
A112: E07000085 | B112: East Hampshire | C112: LA | D112: =LOOKUP(A112,Lookup!A:A,Lookup!F:F) -> Hampshire | E112: 4212 | F112: 18796 | G112: 7004 | H112: 0 | I112: 0 | J112: 0 | K112: =SUM(L112:M112) -> 5345 | L112: 5345 | M112: 0 | N112: =SUM(E112:K112) -> 35357 | O112: =E112/$N112 -> 0.11912775 | P112: =F112/$N112 -> 0.53160619 | Q112: =G112/$N112 -> 0.19809373 | R112: =H112/$N112 -> 0 | S112: =I112/$N112 -> 0 | T112: =J112/$N112 -> 0 | U112: =K112/$N112 -> 0.15117233
A113: E07000086 | B113: Eastleigh | C113: LA | D113: =LOOKUP(A113,Lookup!A:A,Lookup!F:F) -> Hampshire | E113: 5257 | F113: 15701 | G113: 11705 | H113: 0 | I113: 0 | J113: 0 | K113: =SUM(L113:M113) -> 5537 | L113: 5537 | M113: 0 | N113: =SUM(E113:K113) -> 38200 | O113: =E113/$N113 -> 0.1376178 | P113: =F113/$N113 -> 0.41102094 | Q113: =G113/$N113 -> 0.30641361 | R113: =H113/$N113 -> 0 | S113: =I113/$N113 -> 0 | T113: =J113/$N113 -> 0 | U113: =K113/$N113 -> 0.14494764
A114: E07000087 | B114: Fareham | C114: LA | D114: =LOOKUP(A114,Lookup!A:A,Lookup!F:F) -> Hampshire | E114: 4761 | F114: 20136 | G114: 5292 | H114: 0 | I114: 0 | J114: 0 | K114: =SUM(L114:M114) -> 5348 | L114: 5348 | M114: 0 | N114: =SUM(E114:K114) -> 35537 | O114: =E114/$N114 -> 0.13397304 | P114: =F114/$N114 -> 0.56662071 | Q114: =G114/$N114 -> 0.14891522 | R114: =H114/$N114 -> 0 | S114: =I114/$N114 -> 0 | T114: =J114/$N114 -> 0 | U114: =K114/$N114 -> 0.15049104
A115: E07000088 | B115: Gosport | C115: LA | D115: =LOOKUP(A115,Lookup!A:A,Lookup!F:F) -> Hampshire | E115: 2905 | F115: 10760 | G115: 4286 | H115: 0 | I115: 0 | J115: 0 | K115: =SUM(L115:M115) -> 2472 | L115: 2472 | M115: 0 | N115: =SUM(E115:K115) -> 20423 | O115: =E115/$N115 -> 0.14224159 | P115: =F115/$N115 -> 0.52685697 | Q115: =G115/$N115 -> 0.20986143 | R115: =H115/$N115 -> 0 | S115: =I115/$N115 -> 0 | T115: =J115/$N115 -> 0 | U115: =K115/$N115 -> 0.12104
A116: E07000089 | B116: Hart | C116: LA | D116: =LOOKUP(A116,Lookup!A:A,Lookup!F:F) -> Hampshire | E116: 2884 | F116: 15617 | G116: 6819 | H116: 0 | I116: 0 | J116: 0 | K116: =SUM(L116:M116) -> 4553 | L116: 4553 | M116: 0 | N116: =SUM(E116:K116) -> 29873 | O116: =E116/$N116 -> 0.096542028 | P116: =F116/$N116 -> 0.52277977 | Q116: =G116/$N116 -> 0.22826633 | R116: =H116/$N116 -> 0 | S116: =I116/$N116 -> 0 | T116: =J116/$N116 -> 0 | U116: =K116/$N116 -> 0.15241188
... A121: E07000094 | B121: Winchester | C121: LA | D121: =LOOKUP(A121,Lookup!A:A,Lookup!F:F) -> Hampshire | E121: 4351 | F121: 19579 | G121: 13685 | H121: 0 | I121: 0 | J121: 0 | K121: =SUM(L121:M121) -> 4549 | L121: 4549 | M121: 0 | N121: =SUM(E121:K121) -> 42164 | O121: =E121/$N121 -> 0.1031923 | P121: =F121/$N121 -> 0.46435348 | Q121: =G121/$N121 -> 0.32456598 | R121: =H121/$N121 -> 0 | S121: =I121/$N121 -> 0 | T121: =J121/$N121 -> 0 | U121: =K121/$N121 -> 0.10788825
A122: E07000095 | B122: Broxbourne | C122: LA | D122: =LOOKUP(A122,Lookup!A:A,Lookup!F:F) -> Hertfordshire | E122: 5277 | F122: 13509 | G122: 2197 | H122: 0 | I122: 0 | J122: 0 | K122: =SUM(L122:M122) -> 0 | N122: =SUM(E122:K122) -> 20983 | O122: =E122/$N122 -> 0.2514893 | P122: =F122/$N122 -> 0.64380689 | Q122: =G122/$N122 -> 0.10470381 | R122: =H122/$N122 -> 0 | S122: =I122/$N122 -> 0 | T122: =J122/$N122 -> 0 | U122: =K122/$N122 -> 0
A123: E07000096 | B123: Dacorum | C123: LA | D123: =LOOKUP(A123,Lookup!A:A,Lookup!F:F) -> Hertfordshire | E123: 7939 | F123: 19647 | G123: 11755 | H123: 0 | I123: 0 | J123: 0 | K123: =SUM(L123:M123) -> 0 | L123: 0 | M123: 0 | N123: =SUM(E123:K123) -> 39341 | O123: =E123/$N123 -> 0.20179965 | P123: =F123/$N123 -> 0.49940266 | Q123: =G123/$N123 -> 0.29879769 | R123: =H123/$N123 -> 0 | S123: =I123/$N123 -> 0 | T123: =J123/$N123 -> 0 | U123: =K123/$N123 -> 0
A124: E07000098 | B124: Hertsmere | C124: LA | D124: =LOOKUP(A124,Lookup!A:A,Lookup!F:F) -> Hertfordshire | E124: 7168 | F124: 15911 | G124: 4946 | H124: 0 | I124: 0 | J124: 0 | K124: =SUM(L124:M124) -> 0 | L124: 0 | M124: 0 | N124: =SUM(E124:K124) -> 28025 | O124: =E124/$N124 -> 0.25577163 | P124: =F124/$N124 -> 0.56774309 | Q124: =G124/$N124 -> 0.17648528 | R124: =H124/$N124 -> 0 | S124: =I124/$N124 -> 0 | T124: =J124/$N124 -> 0 | U124: =K124/$N124 -> 0
A125: E07000099 | B125: North Hertfordshire | C125: LA | D125: =LOOKUP(A125,Lookup!A:A,Lookup!F:F) -> Hertfordshire | E125: 11045 | F125: 19666 | G125: 10530 | H125: 0 | I125: 0 | J125: 0 | K125: =SUM(L125:M125) -> 0 | N125: =SUM(E125:K125) -> 41241 | O125: =E125/$N125 -> 0.26781601 | P125: =F125/$N125 -> 0.47685556 | Q125: =G125/$N125 -> 0.25532844 | R125: =H125/$N125 -> 0 | S125: =I125/$N125 -> 0 | T125: =J125/$N125 -> 0 | U125: =K125/$N125 -> 0
A126: E07000102 | B126: Three Rivers | C126: LA | D126: =LOOKUP(A126,Lookup!A:A,Lookup!F:F) -> Hertfordshire | E126: 4576 | F126: 12995 | G126: 8577 | H126: 0 | I126: 0 | J126: 0 | K126: =SUM(L126:M126) -> 0 | L126: 0 | M126: 0 | N126: =SUM(E126:K126) -> 26148 | O126: =E126/$N126 -> 0.17500382 | P126: =F126/$N126 -> 0.49697874 | Q126: =G126/$N126 -> 0.32801744 | R126: =H126/$N126 -> 0 | S126: =I126/$N126 -> 0 | T126: =J126/$N126 -> 0 | U126: =K126/$N126 -> 0
...

Sheet 2024 LA
A1: code | B1: name | C1: type | D1: pcc | E1: lab | F1: con | G1: lib | H1: grn | I1: ref | J1: pc | K1: oth_total | L1: oth1 | M1: oth2 | N1: total_vote | O1: lab | P1: con | Q1: lib | R1: grn | S1: ref | T1: pc | U1: oth_total | V1: winner
A2: E07000223 | B2: Adur | C2: LA | D2: =LOOKUP(A2,Lookup!A:A,Lookup!F:F) -> Sussex | E2: 7788 | F2: 5761 | G2: 1322 | H2: 1780 | I2: 0 | J2: 0 | K2: =SUM(L2:M2) -> 0 | N2: =SUM(E2:K2) -> 16651 | O2: =E2/$N2 -> 0.46771966 | P2: =F2/$N2 -> 0.34598523 | Q2: =G2/$N2 -> 0.079394631 | R2: =H2/$N2 -> 0.10690049 | S2: =I2/$N2 -> 0 | T2: =J2/$N2 -> 0 | U2: =K2/$N2 -> 0 | V2: =IF(O2=MAX(O2:U2),"Lab",IF(P2=MAX(O2:U2),"Con",IF(Q2=MAX(O2:U2),"Lib","Other"))) -> Lab
A3: E07000032 | B3: Amber Valley | C3: LA | D3: =LOOKUP(A3,Lookup!A:A,Lookup!F:F) -> Derbyshire | E3: 11594 | F3: 9345 | G3: 2462 | H3: 0 | I3: 5192 | J3: 0 | K3: =SUM(L3:M3) -> 0 | N3: =SUM(E3:K3) -> 28593 | O3: =E3/$N3 -> 0.40548386 | P3: =F3/$N3 -> 0.32682824 | Q3: =G3/$N3 -> 0.086104991 | R3: =H3/$N3 -> 0 | S3: =I3/$N3 -> 0.1815829 | T3: =J3/$N3 -> 0 | U3: =K3/$N3 -> 0 | V3: =IF(O3=MAX(O3:U3),"Lab",IF(P3=MAX(O3:U3),"Con",IF(Q3=MAX(O3:U3),"Lib","Other"))) -> Lab
A4: E07000224 | B4: Arun | C4: LA | D4: =LOOKUP(A4,Lookup!A:A,Lookup!F:F) -> Sussex | E4: 6932 | F4: 13429 | G4: 4404 | H4: 3164 | I4: 0 | J4: 0 | K4: =SUM(L4:M4) -> 0 | N4: =SUM(E4:K4) -> 27929 | O4: =E4/$N4 -> 0.24820079 | P4: =F4/$N4 -> 0.48082638 | Q4: =G4/$N4 -> 0.15768556 | R4: =H4/$N4 -> 0.11328726 | S4: =I4/$N4 -> 0 | T4: =J4/$N4 -> 0 | U4: =K4/$N4 -> 0 | V4: =IF(O4=MAX(O4:U4),"Lab",IF(P4=MAX(O4:U4),"Con",IF(Q4=MAX(O4:U4),"Lib","Other"))) -> Con
A5: E07000170 | B5: Ashfield | C5: LA | D5: =LOOKUP(A5,Lookup!A:A,Lookup!F:F) -> Nottinghamshire | E5: 10237 | F5: 7757 | G5: 3329 | H5: 0 | I5: 0 | J5: 0 | K5: =SUM(L5:M5) -> 0 | N5: =SUM(E5:K5) -> 21323 | O5: =E5/$N5 -> 0.48009192 | P5: =F5/$N5 -> 0.36378558 | Q5: =G5/$N5 -> 0.1561225 | R5: =H5/$N5 -> 0 | S5: =I5/$N5 -> 0 | T5: =J5/$N5 -> 0 | U5: =K5/$N5 -> 0 | V5: =IF(O5=MAX(O5:U5),"Lab",IF(P5=MAX(O5:U5),"Con",IF(Q5=MAX(O5:U5),"Lib","Other"))) -> Lab
A6: E07000105 | B6: Ashford | C6: LA | D6: =LOOKUP(A6,Lookup!A:A,Lookup!F:F) -> Kent | E6: 6209 | F6: 8746 | G6: 3429 | H6: 0 | I6: 0 | J6: 0 | K6: =SUM(L6:M6) -> 0 | N6: =SUM(E6:K6) -> 18384 | O6: =E6/$N6 -> 0.33773934 | P6: =F6/$N6 -> 0.47573977 | Q6: =G6/$N6 -> 0.18652089 | R6: =H6/$N6 -> 0 | S6: =I6/$N6 -> 0 | T6: =J6/$N6 -> 0 | U6: =K6/$N6 -> 0 | V6: =IF(O6=MAX(O6:U6),"Lab",IF(P6=MAX(O6:U6),"Con",IF(Q6=MAX(O6:U6),"Lib","Other"))) -> Con
A7: E07000200 | B7: Babergh | C7: LA | D7: =LOOKUP(A7,Lookup!A:A,Lookup!F:F) -> Suffolk | E7: 4087 | F7: 6717 | G7: 1813 | H7: 2430 | I7: 0 | J7: 0 | K7: =SUM(L7:M7) -> 0 | N7: =SUM(E7:K7) -> 15047 | O7: =E7/$N7 -> 0.2716156 | P7: =F7/$N7 -> 0.44640128 | Q7: =G7/$N7 -> 0.12048913 | R7: =H7/$N7 -> 0.16149399 | S7: =I7/$N7 -> 0 | T7: =J7/$N7 -> 0 | U7: =K7/$N7 -> 0 | V7: =IF(O7=MAX(O7:U7),"Lab",IF(P7=MAX(O7:U7),"Con",IF(Q7=MAX(O7:U7),"Lib","Other"))) -> Con
A8: E07000066 | B8: Basildon | C8: LA | D8: =LOOKUP(A8,Lookup!A:A,Lookup!F:F) -> Essex | E8: 12096 | F8: 13181 | G8: 3860 | H8: 0 | I8: 0 | J8: 0 | K8: =SUM(L8:M8) -> 5042 | L8: 5042 | N8: =SUM(E8:K8) -> 34179 | O8: =E8/$N8 -> 0.35390152 | P8: =F8/$N8 -> 0.38564616 | Q8: =G8/$N8 -> 0.11293484 | R8: =H8/$N8 -> 0 | S8: =I8/$N8 -> 0 | T8: =J8/$N8 -> 0 | U8: =K8/$N8 -> 0.14751748 | V8: =IF(O8=MAX(O8:U8),"Lab",IF(P8=MAX(O8:U8),"Con",IF(Q8=MAX(O8:U8),"Lib","Other"))) -> Con
A9: E07000084 | B9: Basingstoke and Deane | C9: LA | D9: =LOOKUP(A9,Lookup!A:A,Lookup!F:F) -> Hampshire | E9: 13013 | F9: 17714 | G9: 7971 | H9: 0 | I9: 0 | J9: 0 | K9: =SUM(L9:M9) -> 4611 | L9: 4611 | N9: =SUM(E9:K9) -> 43309 | O9: =E9/$N9 -> 0.30046872 | P9: =F9/$N9 -> 0.40901429 | Q9: =G9/$N9 -> 0.1840495 | R9: =H9/$N9 -> 0 | S9: =I9/$N9 -> 0 | T9: =J9/$N9 -> 0 | U9: =K9/$N9 -> 0.10646748 | V9: =IF(O9=MAX(O9:U9),"Lab",IF(P9=MAX(O9:U9),"Con",IF(Q9=MAX(O9:U9),"Lib","Other"))) -> Con
A10: E07000171 | B10: Bassetlaw | C10: LA | D10: =LOOKUP(A10,Lookup!A:A,Lookup!F:F) -> Nottinghamshire | E10: 11180 | F10: 8268 | G10: 2324 | H10: 0 | I10: 0 | J10: 0 | K10: =SUM(L10:M10) -> 0 | N10: =SUM(E10:K10) -> 21772 | O10: =E10/$N10 -> 0.51350358 | P10: =F10/$N10 -> 0.37975381 | Q10: =G10/$N10 -> 0.10674261 | R10: =H10/$N10 -> 0 | S10: =I10/$N10 -> 0 | T10: =J10/$N10 -> 0 | U10: =K10/$N10 -> 0 | V10: =IF(O10=MAX(O10:U10),"Lab",IF(P10=MAX(O10:U10),"Con",IF(Q10=MAX(O10:U10),"Lib","Other"))) -> Lab
A11: E06000022 | B11: Bath and North East Somerset | C11: LA | D11: =LOOKUP(A11,Lookup!A:A,Lookup!F:F) -> Avon and Somerset | E11: 9526 | F11: 10281 | G11: 4859 | H11: 5088 | I11: 0 | J11: 0 | K11: =SUM(L11:M11) -> 0 | N11: =SUM(E11:K11) -> 29754 | O11: =E11/$N11 -> 0.32015863 | P11: =F11/$N11 -> 0.34553337 | Q11: =G11/$N11 -> 0.16330577 | R11: =H11/$N11 -> 0.17100222 | S11: =I11/$N11 -> 0 | T11: =J11/$N11 -> 0 | U11: =K11/$N11 -> 0 | V11: =IF(O11=MAX(O11:U11),"Lab",IF(P11=MAX(O11:U11),"Con",IF(Q11=MAX(O11:U11),"Lib","Other"))) -> Con
A12: E06000055 | B12: Bedford | C12: LA | D12: =LOOKUP(A12,Lookup!A:A,Lookup!F:F) -> Bedfordshire | E12: 10930 | F12: 10758 | G12: 5194 | H12: 0 | I12: 0 | J12: 0 | K12: =SUM(L12:M12) -> 1407 | L12: 1407 | N12: =SUM(E12:K12) -> 28289 | O12: =E12/$N12 -> 0.38636926 | P12: =F12/$N12 -> 0.38028916 | Q12: =G12/$N12 -> 0.18360493 | R12: =H12/$N12 -> 0 | S12: =I12/$N12 -> 0 | T12: =J12/$N12 -> 0 | U12: =K12/$N12 -> 0.049736647 | V12: =IF(O12=MAX(O12:U12),"Lab",IF(P12=MAX(O12:U12),"Con",IF(Q12=MAX(O12:U12),"Lib","Other"))) -> Lab
A13: E08000025 | B13: Birmingham | C13: LA | D13: =LOOKUP(A13,Lookup!A:A,Lookup!F:F) -> West Midlands | E13: 125631 | F13: 77798 | G13: 0 | H13: 0 | I13: 0 | J13: 0 | K13: =SUM(L13:M13) -> 0 | N13: =SUM(E13:K13) -> 203429 | O13: =E13/$N13 -> 0.61756682 | P13: =F13/$N13 -> 0.38243318 | Q13: =G13/$N13 -> 0 | R13: =H13/$N13 -> 0 | S13: =I13/$N13 -> 0 | T13: =J13/$N13 -> 0 | U13: =K13/$N13 -> 0 | V13: =IF(O13=MAX(O13:U13),"Lab",IF(P13=MAX(O13:U13),"Con",IF(Q13=MAX(O13:U13),"Lib","Other"))) -> Lab
A14: E07000129 | B14: Blaby | C14: LA | D14: =LOOKUP(A14,Lookup!A:A,Lookup!F:F) -> Leicestershire | E14: 4241 | F14: 5179 | G14: 2032 | H14: 963 | I14: 0 | J14: 0 | K14: =SUM(L14:M14) -> 262 | L14: 262 | N14: =SUM(E14:K14) -> 12677 | O14: =E14/$N14 -> 0.33454287 | P14: =F14/$N14 -> 0.40853514 | Q14: =G14/$N14 -> 0.16029029 | R14: =H14/$N14 -> 0.075964345 | S14: =I14/$N14 -> 0 | T14: =J14/$N14 -> 0 | U14: =K14/$N14 -> 0.02066735 | V14: =IF(O14=MAX(O14:U14),"Lab",IF(P14=MAX(O14:U14),"Con",IF(Q14=MAX(O14:U14),"Lib","Other"))) -> Con
A15: E06000008 | B15: Blackburn with Darwen | C15: LA | D15: =LOOKUP(A15,Lookup!A:A,Lookup!F:F) -> Lancashire | E15: 12886 | F15: 7377 | G15: 9500 | H15: 0 | I15: 0 | J15: 0 | K15: =SUM(L15:M15) -> 0 | N15: =SUM(E15:K15) -> 29763 | O15: =E15/$N15 -> 0.43295367 | P15: =F15/$N15 -> 0.24785808 | Q15: =G15/$N15 -> 0.31918825 | R15: =H15/$N15 -> 0 | S15: =I15/$N15 -> 0 | T15: =J15/$N15 -> 0 | U15: =K15/$N15 -> 0 | V15: =IF(O15=MAX(O15:U15),"Lab",IF(P15=MAX(O15:U15),"Con",IF(Q15=MAX(O15:U15),"Lib","Other"))) -> Lab
A16: E06000009 | B16: Blackpool | C16: LA | D16: =LOOKUP(A16,Lookup!A:A,Lookup!F:F) -> Lancashire | E16: 15115 | F16: 8246 | G16: 2329 | H16: 0 | I16: 0 | J16: 0 | K16: =SUM(L16:M16) -> 0 | N16: =SUM(E16:K16) -> 25690 | O16: =E16/$N16 -> 0.58836123 | P16: =F16/$N16 -> 0.32098093 | Q16: =G16/$N16 -> 0.090657844 | R16: =H16/$N16 -> 0 | S16: =I16/$N16 -> 0 | T16: =J16/$N16 -> 0 | U16: =K16/$N16 -> 0 | V16: =IF(O16=MAX(O16:U16),"Lab",IF(P16=MAX(O16:U16),"Con",IF(Q16=MAX(O16:U16),"Lib","Other"))) -> Lab
A17: W06000019 | B17: Blaenau Gwent | C17: LA | D17: =LOOKUP(A17,Lookup!A:A,Lookup!F:F) -> Gwent | E17: 3057 | F17: 1362 | G17: 554 | H17: 0 | I17: 0 | J17: 1065 | K17: =SUM(L17:M17) -> 0 | N17: =SUM(E17:K17) -> 6038 | O17: =E17/$N17 -> 0.50629347 | P17: =F17/$N17 -> 0.22557138 | Q17: =G17/$N17 -> 0.091752236 | R17: =H17/$N17 -> 0 | S17: =I17/$N17 -> 0 | T17: =J17/$N17 -> 0.17638291 | U17: =K17/$N17 -> 0 | V17: =IF(O17=MAX(O17:U17),"Lab",IF(P17=MAX(O17:U17),"Con",IF(Q17=MAX(O17:U17),"Lib","Other"))) -> Lab
A18: E07000033 | B18: Bolsover | C18: LA | D18: =LOOKUP(A18,Lookup!A:A,Lookup!F:F) -> Derbyshire | E18: 6538 | F18: 3634 | G18: 1085 | H18: 0 | I18: 2523 | J18: 0 | K18: =SUM(L18:M18) -> 0 | N18: =SUM(E18:K18) -> 13780 | O18: =E18/$N18 -> 0.47445573 | P18: =F18/$N18 -> 0.26371553 | Q18: =G18/$N18 -> 0.0787373 | R18: =H18/$N18 -> 0 | S18: =I18/$N18 -> 0.18309144 | T18: =J18/$N18 -> 0 | U18: =K18/$N18 -> 0 | V18: =IF(O18=MAX(O18:U18),"Lab",IF(P18=MAX(O18:U18),"Con",IF(Q18=MAX(O18:U18),"Lib","Other"))) -> Lab
A19: E07000136 | B19: Boston | C19: LA | D19: =LOOKUP(A19,Lookup!A:A,Lookup!F:F) -> Lincolnshire | E19: 1743 | F19: 2727 | G19: 661 | H19: 0 | I19: 1356 | J19: 0 | K19: =SUM(L19:M19) -> 956 | L19: 956 | N19: =SUM(E19:K19) -> 7443 | O19: =E19/$N19 -> 0.23417977 | P19: =F19/$N19 -> 0.36638452 | Q19: =G19/$N19 -> 0.088808276 | R19: =H19/$N19 -> 0 | S19: =I19/$N19 -> 0.1821846 | T19: =J19/$N19 -> 0 | U19: =K19/$N19 -> 0.12844283 | V19: =IF(O19=MAX(O19:U19),"Lab",IF(P19=MAX(O19:U19),"Con",IF(Q19=MAX(O19:U19),"Lib","Other"))) -> Con
A20: E06000058 | B20: Bournemouth, Christchurch and Poole | C20: LA | D20: =LOOKUP(A20,Lookup!A:A,Lookup!F:F) -> Dorset | E20: 14325 | F20: 20782 | G20: 6754 | H20: 0 | I20: 0 | J20: 0 | K20: =SUM(L20:M20) -> 13624 | L20: 13624 | N20: =SUM(E20:K20) -> 55485 | O20: =E20/$N20 -> 0.25817789 | P20: =F20/$N20 -> 0.37455168 | Q20: =G20/$N20 -> 0.12172659 | R20: =H20/$N20 -> 0 | S20: =I20/$N20 -> 0 | T20: =J20/$N20 -> 0 | U20: =K20/$N20 -> 0.24554384 | V20: =IF(O20=MAX(O20:U20),"Lab",IF(P20=MAX(O20:U20),"Con",IF(Q20=MAX(O20:U20),"Lib","Other"))) -> Con
A21: E06000036 | B21: Bracknell Forest | C21: LA | D21: =LOOKUP(A21,Lookup!A:A,Lookup!F:F) -> Thames Valley | E21: 4795 | F21: 5295 | G21: 1565 | H21: 0 | I21: 0 | J21: 0 | K21: =SUM(L21:M21) -> 2726 | L21: 1734 | M21: 992 | N21: =SUM(E21:K21) -> 14381 | O21: =E21/$N21 -> 0.33342605 | P21: =F21/$N21 -> 0.36819415 | Q21: =G21/$N21 -> 0.10882414 | R21: =H21/$N21 -> 0 | S21: =I21/$N21 -> 0 | T21: =J21/$N21 -> 0 | U21: =K21/$N21 -> 0.18955566 | V21: =IF(O21=MAX(O21:U21),"Lab",IF(P21=MAX(O21:U21),"Con",IF(Q21=MAX(O21:U21),"Lib","Other"))) -> Con
A22: E07000067 | B22: Braintree | C22: LA | D22: =LOOKUP(A22,Lookup!A:A,Lookup!F:F) -> Essex | E22: 7878 | F22: 8849 | G22: 2107 | H22: 0 | I22: 0 | J22: 0 | K22: =SUM(L22:M22) -> 2797 | L22: 2797 | N22: =SUM(E22:K22) -> 21631 | O22: =E22/$N22 -> 0.36419953 | P22: =F22/$N22 -> 0.40908881 | Q22: =G22/$N22 -> 0.0974065 | R22: =H22/$N22 -> 0 | S22: =I22/$N22 -> 0 | T22: =J22/$N22 -> 0 | U22: =K22/$N22 -> 0.12930516 | V22: =IF(O22=MAX(O22:U22),"Lab",IF(P22=MAX(O22:U22),"Con",IF(Q22=MAX(O22:U22),"Lib","Other"))) -> Con
A23: E07000143 | B23: Breckland | C23: LA | D23: =LOOKUP(A23,Lookup!A:A,Lookup!F:F) -> Norfolk | E23: 6171 | F23: 7519 | G23: 2388 | H23: 2048 | I23: 0 | J23: 0 | K23: =SUM(L23:M23) -> 0 | N23: =SUM(E23:K23) -> 18126 | O23: =E23/$N23 -> 0.34045018 | P23: =F23/$N23 -> 0.41481849 | Q23: =G23/$N23 -> 0.13174446 | R23: =H23/$N23 -> 0.11298687 | S23: =I23/$N23 -> 0 | T23: =J23/$N23 -> 0 | U23: =K23/$N23 -> 0 | V23: =IF(O23=MAX(O23:U23),"Lab",IF(P23=MAX(O23:U23),"Con",IF(Q23=MAX(O23:U23),"Lib","Other"))) -> Con
A24: E07000068 | B24: Brentwood | C24: LA | D24: =LOOKUP(A24,Lookup!A:A,Lookup!F:F) -> Essex | E24: 3956 | F24: 7903 | G24: 5896 | H24: 0 | I24: 0 | J24: 0 | K24: =SUM(L24:M24) -> 1740 | L24: 1740 | N24: =SUM(E24:K24) -> 19495 | O24: =E24/$N24 -> 0.20292383 | P24: =F24/$N24 -> 0.405386 | Q24: =G24/$N24 -> 0.30243652 | R24: =H24/$N24 -> 0 | S24: =I24/$N24 -> 0 | T24: =J24/$N24 -> 0 | U24: =K24/$N24 -> 0.089253655 | V24: =IF(O24=MAX(O24:U24),"Lab",IF(P24=MAX(O24:U24),"Con",IF(Q24=MAX(O24:U24),"Lib","Other"))) -> Con
A25: W06000013 | B25: Bridgend | C25: LA | D25: =LOOKUP(A25,Lookup!A:A,Lookup!F:F) -> South Wales | E25: 7375 | F25: 4758 | G25: 1483 | H25: 0 | I25: 0 | J25: 2453 | K25: =SUM(L25:M25) -> 0 | N25: =SUM(E25:K25) -> 16069 | O25: =E25/$N25 -> 0.45895824 | P25: =F25/$N25 -> 0.29609808 | Q25: =G25/$N25 -> 0.092289502 | R25: =H25/$N25 -> 0 | S25: =I25/$N25 -> 0 | T25: =J25/$N25 -> 0.15265418 | U25: =K25/$N25 -> 0 | V25: =IF(O25=MAX(O25:U25),"Lab",IF(P25=MAX(O25:U25),"Con",IF(Q25=MAX(O25:U25),"Lib","Other"))) -> Lab
A26: E06000043 | B26: Brighton and Hove | C26: LA | D26: =LOOKUP(A26,Lookup!A:A,Lookup!F:F) -> Sussex | E26: 22053 | F26: 10308 | G26: 3198 | H26: 9042 | I26: 0 | J26: 0 | K26: =SUM(L26:M26) -> 0 | N26: =SUM(E26:K26) -> 44601 | O26: =E26/$N26 -> 0.4944508 | P26: =F26/$N26 -> 0.23111589 | Q26: =G26/$N26 -> 0.071702428 | R26: =H26/$N26 -> 0.20273088 | S26: =I26/$N26 -> 0 | T26: =J26/$N26 -> 0 | U26: =K26/$N26 -> 0 | V26: =IF(O26=MAX(O26:U26),"Lab",IF(P26=MAX(O26:U26),"Con",IF(Q26=MAX(O26:U26),"Lib","Other"))) -> Lab
A27: E06000023 | B27: Bristol, City of | C27: LA | D27: =LOOKUP(A27,Lookup!A:A,Lookup!F:F) -> Avon and Somerset | E27: 47220 | F27: 19788 | G27: 10412 | H27: 37375 | I27: 0 | J27: 0 | K27: =SUM(L27:M27) -> 0 | N27: =SUM(E27:K27) -> 114795 | O27: =E27/$N27 -> 0.41134196 | P27: =F27/$N27 -> 0.17237685 | Q27: =G27/$N27 -> 0.090700815 | R27: =H27/$N27 -> 0.32558038 | S27: =I27/$N27 -> 0 | T27: =J27/$N27 -> 0 | U27: =K27/$N27 -> 0 | V27: =IF(O27=MAX(O27:U27),"Lab",IF(P27=MAX(O27:U27),"Con",IF(Q27=MAX(O27:U27),"Lib","Other"))) -> Lab
A28: E07000144 | B28: Broadland | C28: LA | D28: =LOOKUP(A28,Lookup!A:A,Lookup!F:F) -> Norfolk | E28: 7474 | F28: 8875 | G28: 2993 | H28: 2808 | I28: 0 | J28: 0 | K28: =SUM(L28:M28) -> 0 | N28: =SUM(E28:K28) -> 22150 | O28: =E28/$N28 -> 0.33742664 | P28: =F28/$N28 -> 0.4006772 | Q28: =G28/$N28 -> 0.13512415 | R28: =H28/$N28 -> 0.12677201 | S28: =I28/$N28 -> 0 | T28: =J28/$N28 -> 0 | U28: =K28/$N28 -> 0 | V28: =IF(O28=MAX(O28:U28),"Lab",IF(P28=MAX(O28:U28),"Con",IF(Q28=MAX(O28:U28),"Lib","Other"))) -> Con
A29: E07000234 | B29: Bromsgrove | C29: LA | D29: =LOOKUP(A29,Lookup!A:A,Lookup!F:F) -> West Mercia | E29: 4326 | F29: 6299 | G29: 2196 | H29: 950 | I29: 0 | J29: 0 | K29: =SUM(L29:M29) -> 1464 | L29: 1464 | N29: =SUM(E29:K29) -> 15235 | O29: =E29/$N29 -> 0.28395143 | P29: =F29/$N29 -> 0.41345586 | Q29: =G29/$N29 -> 0.14414178 | R29: =H29/$N29 -> 0.062356416 | S29: =I29/$N29 -> 0 | T29: =J29/$N29 -> 0 | U29: =K29/$N29 -> 0.096094519 | V29: =IF(O29=MAX(O29:U29),"Lab",IF(P29=MAX(O29:U29),"Con",IF(Q29=MAX(O29:U29),"Lib","Other"))) -> Con
A30: E07000095 | B30: Broxbourne | C30: LA | D30: =LOOKUP(A30,Lookup!A:A,Lookup!F:F) -> Hertfordshire | E30: 5685 | F30: 10125 | G30: 1398 | H30: 1807 | I30: 0 | J30: 0 | K30: =SUM(L30:M30) -> 0 | N30: =SUM(E30:K30) -> 19015 | O30: =E30/$N30 -> 0.29897449 | P30: =F30/$N30 -> 0.53247436 | Q30: =G30/$N30 -> 0.073520905 | R30: =H30/$N30 -> 0.095030239 | S30: =I30/$N30 -> 0 | T30: =J30/$N30 -> 0 | U30: =K30/$N30 -> 0 | V30: =IF(O30=MAX(O30:U30),"Lab",IF(P30=MAX(O30:U30),"Con",IF(Q30=MAX(O30:U30),"Lib","Other"))) -> Con
A31: E07000172 | B31: Broxtowe | C31: LA | D31: =LOOKUP(A31,Lookup!A:A,Lookup!F:F) -> Nottinghamshire | E31: 14984 | F31: 8229 | G31: 5834 | H31: 0 | I31: 0 | J31: 0 | K31: =SUM(L31:M31) -> 0 | N31: =SUM(E31:K31) -> 29047 | O31: =E31/$N31 -> 0.51585362 | P31: =F31/$N31 -> 0.28329948 | Q31: =G31/$N31 -> 0.2008469 | R31: =H31/$N31 -> 0 | S31: =I31/$N31 -> 0 | T31: =J31/$N31 -> 0 | U31: =K31/$N31 -> 0 | V31: =IF(O31=MAX(O31:U31),"Lab",IF(P31=MAX(O31:U31),"Con",IF(Q31=MAX(O31:U31),"Lib","Other"))) -> Lab
A32: E06000060 | B32: Buckinghamshire | C32: LA | D32: =LOOKUP(A32,Lookup!A:A,Lookup!F:F) -> Thames Valley | E32: 21403 | F32: 28706 | G32: 12372 | H32: 0 | I32: 0 | J32: 0 | K32: =SUM(L32:M32) -> 13797 | L32: 7876 | M32: 5921 | N32: =SUM(E32:K32) -> 76278 | O32: =E32/$N32 -> 0.28059204 | P32: =F32/$N32 -> 0.37633394 | Q32: =G32/$N32 -> 0.16219618 | R32: =H32/$N32 -> 0 | S32: =I32/$N32 -> 0 | T32: =J32/$N32 -> 0 | U32: =K32/$N32 -> 0.18087784 | V32: =IF(O32=MAX(O32:U32),"Lab",IF(P32=MAX(O32:U32),"Con",IF(Q32=MAX(O32:U32),"Lib","Other"))) -> Con
A33: E07000117 | B33: Burnley | C33: LA | D33: =LOOKUP(A33,Lookup!A:A,Lookup!F:F) -> Lancashire | E33: 8140 | F33: 5897 | G33: 4096 | H33: 0 | I33: 0 | J33: 0 | K33: =SUM(L33:M33) -> 0 | N33: =SUM(E33:K33) -> 18133 | O33: =E33/$N33 -> 0.44890531 | P33: =F33/$N33 -> 0.32520818 | Q33: =G33/$N33 -> 0.22588651 | R33: =H33/$N33 -> 0 | S33: =I33/$N33 -> 0 | T33: =J33/$N33 -> 0 | U33: =K33/$N33 -> 0 | V33: =IF(O33=MAX(O33:U33),"Lab",IF(P33=MAX(O33:U33),"Con",IF(Q33=MAX(O33:U33),"Lib","Other"))) -> Lab
A34: W06000018 | B34: Caerphilly | C34: LA | D34: =LOOKUP(A34,Lookup!A:A,Lookup!F:F) -> Gwent | E34: 7635 | F34: 4518 | G34: 1723 | H34: 0 | I34: 0 | J34: 4315 | K34: =SUM(L34:M34) -> 0 | N34: =SUM(E34:K34) -> 18191 | O34: =E34/$N34 -> 0.41971304 | P34: =F34/$N34 -> 0.24836458 | Q34: =G34/$N34 -> 0.094717168 | R34: =H34/$N34 -> 0 | S34: =I34/$N34 -> 0 | T34: =J34/$N34 -> 0.23720521 | U34: =K34/$N34 -> 0 | V34: =IF(O34=MAX(O34:U34),"Lab",IF(P34=MAX(O34:U34),"Con",IF(Q34=MAX(O34:U34),"Lib","Other"))) -> Lab
A35: E07000008 | B35: Cambridge | C35: LA | D35: =LOOKUP(A35,Lookup!A:A,Lookup!F:F) -> Cambridgeshire | E35: 16341 | F35: 7847 | G35: 8468 | H35: 0 | I35: 0 | J35: 0 | K35: =SUM(L35:M35) -> 0 | N35: =SUM(E35:K35) -> 32656 | O35: =E35/$N35 -> 0.50039809 | P35: =F35/$N35 -> 0.24029275 | Q35: =G35/$N35 -> 0.25930916 | R35: =H35/$N35 -> 0 | S35: =I35/$N35 -> 0 | T35: =J35/$N35 -> 0 | U35: =K35/$N35 -> 0 | V35: =IF(O35=MAX(O35:U35),"Lab",IF(P35=MAX(O35:U35),"Con",IF(Q35=MAX(O35:U35),"Lib","Other"))) -> Lab
A36: E07000192 | B36: Cannock Chase | C36: LA | D36: =LOOKUP(A36,Lookup!A:A,Lookup!F:F) -> Staffordshire | E36: 8747 | F36: 8151 | G36: 1812 | H36: 0 | I36: 0 | J36: 0 | K36: =SUM(L36:M36) -> 0 | N36: =SUM(E36:K36) -> 18710 | O36: =E36/$N36 -> 0.46750401 | P36: =F36/$N36 -> 0.43564939 | Q36: =G36/$N36 -> 0.096846606 | R36: =H36/$N36 -> 0 | S36: =I36/$N36 -> 0 | T36: =J36/$N36 -> 0 | U36: =K36/$N36 -> 0 | V36: =IF(O36=MAX(O36:U36),"Lab",IF(P36=MAX(O36:U36),"Con",IF(Q36=MAX(O36:U36),"Lib","Other"))) -> Lab
A37: E07000106 | B37: Canterbury | C37: LA | D37: =LOOKUP(A37,Lookup!A:A,Lookup!F:F) -> Kent | E37: 8869 | F37: 8175 | G37: 4762 | H37: 0 | I37: 0 | J37: 0 | K37: =SUM(L37:M37) -> 0 | N37: =SUM(E37:K37) -> 21806 | O37: =E37/$N37 -> 0.40672292 | P37: =F37/$N37 -> 0.37489682 | Q37: =G37/$N37 -> 0.21838026 | R37: =H37/$N37 -> 0 | S37: =I37/$N37 -> 0 | T37: =J37/$N37 -> 0 | U37: =K37/$N37 -> 0 | V37: =IF(O37=MAX(O37:U37),"Lab",IF(P37=MAX(O37:U37),"Con",IF(Q37=MAX(O37:U37),"Lib","Other"))) -> Lab
A38: W06000015 | B38: Cardiff | C38: LA | D38: =LOOKUP(A38,Lookup!A:A,Lookup!F:F) -> South Wales | E38: 20777 | F38: 12049 | G38: 6369 | H38: 0 | I38: 0 | J38: 7668 | K38: =SUM(L38:M38) -> 0 | N38: =SUM(E38:K38) -> 46863 | O38: =E38/$N38 -> 0.44335617 | P38: =F38/$N38 -> 0.25711115 | Q38: =G38/$N38 -> 0.13590679 | R38: =H38/$N38 -> 0 | S38: =I38/$N38 -> 0 | T38: =J38/$N38 -> 0.16362589 | U38: =K38/$N38 -> 0 | V38: =IF(O38=MAX(O38:U38),"Lab",IF(P38=MAX(O38:U38),"Con",IF(Q38=MAX(O38:U38),"Lib","Other"))) -> Lab
A39: W06000010 | B39: Carmarthenshire | C39: LA | D39: =LOOKUP(A39,Lookup!A:A,Lookup!F:F) -> Dyfed-Powys | E39: 7395 | F39: 5430 | G39: 2031 | H39: 0 | I39: 0 | J39: 14739 | K39: =SUM(L39:M39) -> 0 | N39: =SUM(E39:K39) -> 29595 | O39: =E39/$N39 -> 0.24987329 | P39: =F39/$N39 -> 0.18347694 | Q39: =G39/$N39 -> 0.068626457 | R39: =H39/$N39 -> 0 | S39: =I39/$N39 -> 0 | T39: =J39/$N39 -> 0.49802331 | U39: =K39/$N39 -> 0 | V39: =IF(O39=MAX(O39:U39),"Lab",IF(P39=MAX(O39:U39),"Con",IF(Q39=MAX(O39:U39),"Lib","Other"))) -> Other
A40: E07000069 | B40: Castle Point | C40: LA | D40: =LOOKUP(A40,Lookup!A:A,Lookup!F:F) -> Essex | E40: 4997 | F40: 7690 | G40: 1671 | H40: 0 | I40: 0 | J40: 0 | K40: =SUM(L40:M40) -> 4913 | L40: 4913 | N40: =SUM(E40:K40) -> 19271 | O40: =E40/$N40 -> 0.25930154 | P40: =F40/$N40 -> 0.3990452 | Q40: =G40/$N40 -> 0.086710601 | R40: =H40/$N40 -> 0 | S40: =I40/$N40 -> 0 | T40: =J40/$N40 -> 0 | U40: =K40/$N40 -> 0.25494266 | V40: =IF(O40=MAX(O40:U40),"Lab",IF(P40=MAX(O40:U40),"Con",IF(Q40=MAX(O40:U40),"Lib","Other"))) -> Con
A41: E06000056 | B41: Central Bedfordshire | C41: LA | D41: =LOOKUP(A41,Lookup!A:A,Lookup!F:F) -> Bedfordshire | E41: 17979 | F41: 18541 | G41: 7206 | H41: 0 | I41: 0 | J41: 0 | K41: =SUM(L41:M41) -> 1270 | L41: 1270 | N41: =SUM(E41:K41) -> 44996 | O41: =E41/$N41 -> 0.39956885 | P41: =F41/$N41 -> 0.41205885 | Q41: =G41/$N41 -> 0.16014757 | R41: =H41/$N41 -> 0 | S41: =I41/$N41 -> 0 | T41: =J41/$N41 -> 0 | U41: =K41/$N41 -> 0.028224731 | V41: =IF(O41=MAX(O41:U41),"Lab",IF(P41=MAX(O41:U41),"Con",IF(Q41=MAX(O41:U41),"Lib","Other"))) -> Con
A42: W06000008 | B42: Ceredigion | C42: LA | D42: =LOOKUP(A42,Lookup!A:A,Lookup!F:F) -> Dyfed-Powys | E42: 1716 | F42: 1971 | G42: 1307 | H42: 0 | I42: 0 | J42: 7146 | K42: =SUM(L42:M42) -> 0 | N42: =SUM(E42:K42) -> 12140 | O42: =E42/$N42 -> 0.14135091 | P42: =F42/$N42 -> 0.16235585 | Q42: =G42/$N42 -> 0.10766063 | R42: =H42/$N42 -> 0 | S42: =I42/$N42 -> 0 | T42: =J42/$N42 -> 0.58863262 | U42: =K42/$N42 -> 0 | V42: =IF(O42=MAX(O42:U42),"Lab",IF(P42=MAX(O42:U42),"Con",IF(Q42=MAX(O42:U42),"Lib","Other"))) -> Other
A43: E07000130 | B43: Charnwood | C43: LA | D43: =LOOKUP(A43,Lookup!A:A,Lookup!F:F) -> Leicestershire | E43: 10585 | F43: 11477 | G43: 2869 | H43: 2953 | I43: 0 | J43: 0 | K43: =SUM(L43:M43) -> 565 | L43: 565 | N43: =SUM(E43:K43) -> 28449 | O43: =E43/$N43 -> 0.37206932 | P43: =F43/$N43 -> 0.40342367 | Q43: =G43/$N43 -> 0.10084713 | R43: =H43/$N43 -> 0.10379978 | S43: =I43/$N43 -> 0 | T43: =J43/$N43 -> 0 | U43: =K43/$N43 -> 0.019860101 | V43: =IF(O43=MAX(O43:U43),"Lab",IF(P43=MAX(O43:U43),"Con",IF(Q43=MAX(O43:U43),"Lib","Other"))) -> Con
A44: E07000070 | B44: Chelmsford | C44: LA | D44: =LOOKUP(A44,Lookup!A:A,Lookup!F:F) -> Essex | E44: 5965 | F44: 9976 | G44: 6805 | H44: 0 | I44: 0 | J44: 0 | K44: =SUM(L44:M44) -> 2567 | L44: 2567 | N44: =SUM(E44:K44) -> 25313 | O44: =E44/$N44 -> 0.23564967 | P44: =F44/$N44 -> 0.3941058 | Q44: =G44/$N44 -> 0.2688342 | R44: =H44/$N44 -> 0 | S44: =I44/$N44 -> 0 | T44: =J44/$N44 -> 0 | U44: =K44/$N44 -> 0.10141034 | V44: =IF(O44=MAX(O44:U44),"Lab",IF(P44=MAX(O44:U44),"Con",IF(Q44=MAX(O44:U44),"Lib","Other"))) -> Con
A45: E07000078 | B45: Cheltenham | C45: LA | D45: =LOOKUP(A45,Lookup!A:A,Lookup!F:F) -> Gloucestershire | E45: 3991 | F45: 10146 | G45: 15051 | H45: 0 | I45: 0 | J45: 0 | K45: =SUM(L45:M45) -> 2631 | L45: 2631 | N45: =SUM(E45:K45) -> 31819 | O45: =E45/$N45 -> 0.1254282 | P45: =F45/$N45 -> 0.31886609 | Q45: =G45/$N45 -> 0.47301927 | R45: =H45/$N45 -> 0 | S45: =I45/$N45 -> 0 | T45: =J45/$N45 -> 0 | U45: =K45/$N45 -> 0.082686445 | V45: =IF(O45=MAX(O45:U45),"Lab",IF(P45=MAX(O45:U45),"Con",IF(Q45=MAX(O45:U45),"Lib","Other"))) -> Lib
A46: E07000177 | B46: Cherwell | C46: LA | D46: =LOOKUP(A46,Lookup!A:A,Lookup!F:F) -> Thames Valley | E46: 9774 | F46: 11271 | G46: 8141 | H46: 0 | I46: 0 | J46: 0 | K46: =SUM(L46:M46) -> 6157 | L46: 3644 | M46: 2513 | N46: =SUM(E46:K46) -> 35343 | O46: =E46/$N46 -> 0.27654698 | P46: =F46/$N46 -> 0.31890332 | Q46: =G46/$N46 -> 0.23034264 | R46: =H46/$N46 -> 0 | S46: =I46/$N46 -> 0 | T46: =J46/$N46 -> 0 | U46: =K46/$N46 -> 0.17420706 | V46: =IF(O46=MAX(O46:U46),"Lab",IF(P46=MAX(O46:U46),"Con",IF(Q46=MAX(O46:U46),"Lib","Other"))) -> Con
A47: E06000049 | B47: Cheshire East | C47: LA | D47: =LOOKUP(A47,Lookup!A:A,Lookup!F:F) -> Cheshire | E47: 23790 | F47: 26353 | G47: 9451 | H47: 0 | I47: 0 | J47: 0 | K47: =SUM(L47:M47) -> 0 | N47: =SUM(E47:K47) -> 59594 | O47: =E47/$N47 -> 0.39920126 | P47: =F47/$N47 -> 0.44220895 | Q47: =G47/$N47 -> 0.15858979 | R47: =H47/$N47 -> 0 | S47: =I47/$N47 -> 0 | T47: =J47/$N47 -> 0 | U47: =K47/$N47 -> 0 | V47: =IF(O47=MAX(O47:U47),"Lab",IF(P47=MAX(O47:U47),"Con",IF(Q47=MAX(O47:U47),"Lib","Other"))) -> Con
A48: E06000050 | B48: Cheshire West and Chester | C48: LA | D48: =LOOKUP(A48,Lookup!A:A,Lookup!F:F) -> Cheshire | E48: 24547 | F48: 19903 | G48: 6947 | H48: 0 | I48: 0 | J48: 0 | K48: =SUM(L48:M48) -> 0 | N48: =SUM(E48:K48) -> 51397 | O48: =E48/$N48 -> 0.47759597 | P48: =F48/$N48 -> 0.3872405 | Q48: =G48/$N48 -> 0.13516353 | R48: =H48/$N48 -> 0 | S48: =I48/$N48 -> 0 | T48: =J48/$N48 -> 0 | U48: =K48/$N48 -> 0 | V48: =IF(O48=MAX(O48:U48),"Lab",IF(P48=MAX(O48:U48),"Con",IF(Q48=MAX(O48:U48),"Lib","Other"))) -> Lab
A49: E07000034 | B49: Chesterfield | C49: LA | D49: =LOOKUP(A49,Lookup!A:A,Lookup!F:F) -> Derbyshire | E49: 9189 | F49: 4239 | G49: 3240 | H49: 0 | I49: 2632 | J49: 0 | K49: =SUM(L49:M49) -> 0 | N49: =SUM(E49:K49) -> 19300 | O49: =E49/$N49 -> 0.47611399 | P49: =F49/$N49 -> 0.21963731 | Q49: =G49/$N49 -> 0.16787565 | R49: =H49/$N49 -> 0 | S49: =I49/$N49 -> 0.13637306 | T49: =J49/$N49 -> 0 | U49: =K49/$N49 -> 0 | V49: =IF(O49=MAX(O49:U49),"Lab",IF(P49=MAX(O49:U49),"Con",IF(Q49=MAX(O49:U49),"Lib","Other"))) -> Lab
A50: E07000225 | B50: Chichester | C50: LA | D50: =LOOKUP(A50,Lookup!A:A,Lookup!F:F) -> Sussex | E50: 3154 | F50: 9008 | G50: 6257 | H50: 1962 | I50: 0 | J50: 0 | K50: =SUM(L50:M50) -> 0 | N50: =SUM(E50:K50) -> 20381 | O50: =E50/$N50 -> 0.15475197 | P50: =F50/$N50 -> 0.44198028 | Q50: =G50/$N50 -> 0.30700162 | R50: =H50/$N50 -> 0.09626613 | S50: =I50/$N50 -> 0 | T50: =J50/$N50 -> 0 | U50: =K50/$N50 -> 0 | V50: =IF(O50=MAX(O50:U50),"Lab",IF(P50=MAX(O50:U50),"Con",IF(Q50=MAX(O50:U50),"Lib","Other"))) -> Con
A51: E07000118 | B51: Chorley | C51: LA | D51: =LOOKUP(A51,Lookup!A:A,Lookup!F:F) -> Lancashire | E51: 13831 | F51: 8786 | G51: 3087 | H51: 0 | I51: 0 | J51: 0 | K51: =SUM(L51:M51) -> 0 | N51: =SUM(E51:K51) -> 25704 | O51: =E51/$N51 -> 0.53808746 | P51: =F51/$N51 -> 0.3418145 | Q51: =G51/$N51 -> 0.12009804 | R51: =H51/$N51 -> 0 | S51: =I51/$N51 -> 0 | T51: =J51/$N51 -> 0 | U51: =K51/$N51 -> 0 | V51: =IF(O51=MAX(O51:U51),"Lab",IF(P51=MAX(O51:U51),"Con",IF(Q51=MAX(O51:U51),"Lib","Other"))) -> Lab
A52: E07000071 | B52: Colchester | C52: LA | D52: =LOOKUP(A52,Lookup!A:A,Lookup!F:F) -> Essex | E52: 16040 | F52: 12079 | G52: 9389 | H52: 0 | I52: 0 | J52: 0 | K52: =SUM(L52:M52) -> 3599 | L52: 3599 | N52: =SUM(E52:K52) -> 41107 | O52: =E52/$N52 -> 0.39020118 | P52: =F52/$N52 -> 0.2938429 | Q52: =G52/$N52 -> 0.22840392 | R52: =H52/$N52 -> 0 | S52: =I52/$N52 -> 0 | T52: =J52/$N52 -> 0 | U52: =K52/$N52 -> 0.087551998 | V52: =IF(O52=MAX(O52:U52),"Lab",IF(P52=MAX(O52:U52),"Con",IF(Q52=MAX(O52:U52),"Lib","Other"))) -> Lab
A53: W06000003 | B53: Conwy | C53: LA | D53: =LOOKUP(A53,Lookup!A:A,Lookup!F:F) -> North Wales | E53: 5560 | F53: 5955 | G53: 982 | H53: 0 | I53: 0 | J53: 3198 | K53: =SUM(L53:M53) -> 0 | N53: =SUM(E53:K53) -> 15695 | O53: =E53/$N53 -> 0.35425295 | P53: =F53/$N53 -> 0.3794202 | Q53: =G53/$N53 -> 0.062567697 | R53: =H53/$N53 -> 0 | S53: =I53/$N53 -> 0 | T53: =J53/$N53 -> 0.20375916 | U53: =K53/$N53 -> 0 | V53: =IF(O53=MAX(O53:U53),"Lab",IF(P53=MAX(O53:U53),"Con",IF(Q53=MAX(O53:U53),"Lib","Other"))) -> Con
A54: E06000052 | B54: Cornwall | C54: LA | D54: =LOOKUP(A54,Lookup!A:A,Lookup!F:F) -> Devon & Cornwall | E54: 28290 | F54: 35536 | G54: 17376 | H54: 0 | I54: 0 | J54: 0 | K54: =SUM(L54:M54) -> 0 | N54: =SUM(E54:K54) -> 81202 | O54: =E54/$N54 -> 0.34839043 | P54: =F54/$N54 -> 0.43762469 | Q54: =G54/$N54 -> 0.21398488 | R54: =H54/$N54 -> 0 | S54: =I54/$N54 -> 0 | T54: =J54/$N54 -> 0 | U54: =K54/$N54 -> 0 | V54: =IF(O54=MAX(O54:U54),"Lab",IF(P54=MAX(O54:U54),"Con",IF(Q54=MAX(O54:U54),"Lib","Other"))) -> Con
A55: E07000079 | B55: Cotswold | C55: LA | D55: =LOOKUP(A55,Lookup!A:A,Lookup!F:F) -> Gloucestershire | E55: 2046 | F55: 7814 | G55: 5577 | H55: 0 | I55: 0 | J55: 0 | K55: =SUM(L55:M55) -> 1295 | L55: 1295 | N55: =SUM(E55:K55) -> 16732 | O55: =E55/$N55 -> 0.12228066 | P55: =F55/$N55 -> 0.46700932 | Q55: =G55/$N55 -> 0.33331341 | R55: =H55/$N55 -> 0 | S55: =I55/$N55 -> 0 | T55: =J55/$N55 -> 0 | U55: =K55/$N55 -> 0.077396605 | V55: =IF(O55=MAX(O55:U55),"Lab",IF(P55=MAX(O55:U55),"Con",IF(Q55=MAX(O55:U55),"Lib","Other"))) -> Con
A56: E06000047 | B56: County Durham | C56: LA | D56: =LOOKUP(A56,Lookup!A:A,Lookup!F:F) -> Durham | E56: 56047 | F56: 26682 | G56: 11265 | H56: 0 | I56: 0 | J56: 0 | K56: =SUM(L56:M56) -> 0 | N56: =SUM(E56:K56) -> 93994 | O56: =E56/$N56 -> 0.59628274 | P56: =F56/$N56 -> 0.28386918 | Q56: =G56/$N56 -> 0.11984808 | R56: =H56/$N56 -> 0 | S56: =I56/$N56 -> 0 | T56: =J56/$N56 -> 0 | U56: =K56/$N56 -> 0 | V56: =IF(O56=MAX(O56:U56),"Lab",IF(P56=MAX(O56:U56),"Con",IF(Q56=MAX(O56:U56),"Lib","Other"))) -> Lab
A57: E08000026 | B57: Coventry | C57: LA | D57: =LOOKUP(A57,Lookup!A:A,Lookup!F:F) -> West Midlands | E57: 43014 | F57: 24989 | G57: 0 | H57: 0 | I57: 0 | J57: 0 | K57: =SUM(L57:M57) -> 0 | N57: =SUM(E57:K57) -> 68003 | O57: =E57/$N57 -> 0.63253092 | P57: =F57/$N57 -> 0.36746908 | Q57: =G57/$N57 -> 0 | R57: =H57/$N57 -> 0 | S57: =I57/$N57 -> 0 | T57: =J57/$N57 -> 0 | U57: =K57/$N57 -> 0 | V57: =IF(O57=MAX(O57:U57),"Lab",IF(P57=MAX(O57:U57),"Con",IF(Q57=MAX(O57:U57),"Lib","Other"))) -> Lab
A58: E07000226 | B58: Crawley | C58: LA | D58: =LOOKUP(A58,Lookup!A:A,Lookup!F:F) -> Sussex | E58: 10797 | F58: 9717 | G58: 1843 | H58: 2848 | I58: 0 | J58: 0 | K58: =SUM(L58:M58) -> 0 | N58: =SUM(E58:K58) -> 25205 | O58: =E58/$N58 -> 0.42836739 | P58: =F58/$N58 -> 0.38551875 | Q58: =G58/$N58 -> 0.073120413 | R58: =H58/$N58 -> 0.11299345 | S58: =I58/$N58 -> 0 | T58: =J58/$N58 -> 0 | U58: =K58/$N58 -> 0 | V58: =IF(O58=MAX(O58:U58),"Lab",IF(P58=MAX(O58:U58),"Con",IF(Q58=MAX(O58:U58),"Lib","Other"))) -> Lab
A59: E06000063 | B59: Cumberland | C59: LA | D59: Cumbria | E59: 25717 | F59: 14617 | G59: 3565 | H59: 0 | I59: 0 | J59: 0 | K59: =SUM(L59:M59) -> 0 | N59: =SUM(E59:K59) -> 43899 | O59: =E59/$N59 -> 0.585822 | P59: =F59/$N59 -> 0.33296886 | Q59: =G59/$N59 -> 0.081209139 | R59: =H59/$N59 -> 0 | S59: =I59/$N59 -> 0 | T59: =J59/$N59 -> 0 | U59: =K59/$N59 -> 0 | V59: =IF(O59=MAX(O59:U59),"Lab",IF(P59=MAX(O59:U59),"Con",IF(Q59=MAX(O59:U59),"Lib","Other"))) -> Lab
A60: E07000096 | B60: Dacorum | C60: LA | D60: =LOOKUP(A60,Lookup!A:A,Lookup!F:F) -> Hertfordshire | E60: 2085 | F60: 8726 | G60: 6949 | H60: 2085 | I60: 0 | J60: 0 | K60: =SUM(L60:M60) -> 0 | N60: =SUM(E60:K60) -> 19845 | O60: =E60/$N60 -> 0.10506425 | P60: =F60/$N60 -> 0.43970773 | Q60: =G60/$N60 -> 0.35016377 | R60: =H60/$N60 -> 0.10506425 | S60: =I60/$N60 -> 0 | T60: =J60/$N60 -> 0 | U60: =K60/$N60 -> 0 | V60: =IF(O60=MAX(O60:U60),"Lab",IF(P60=MAX(O60:U60),"Con",IF(Q60=MAX(O60:U60),"Lib","Other"))) -> Con
A61: E06000005 | B61: Darlington | C61: LA | D61: =LOOKUP(A61,Lookup!A:A,Lookup!F:F) -> Durham | E61: 10705 | F61: 11091 | G61: 3413 | H61: 0 | I61: 0 | J61: 0 | K61: =SUM(L61:M61) -> 0 | N61: =SUM(E61:K61) -> 25209 | O61: =E61/$N61 -> 0.42464993 | P61: =F61/$N61 -> 0.43996192 | Q61: =G61/$N61 -> 0.13538816 | R61: =H61/$N61 -> 0 | S61: =I61/$N61 -> 0 | T61: =J61/$N61 -> 0 | U61: =K61/$N61 -> 0 | V61: =IF(O61=MAX(O61:U61),"Lab",IF(P61=MAX(O61:U61),"Con",IF(Q61=MAX(O61:U61),"Lib","Other"))) -> Con
A62: E07000107 | B62: Dartford | C62: LA | D62: =LOOKUP(A62,Lookup!A:A,Lookup!F:F) -> Kent | E62: 6020 | F62: 7306 | G62: 1919 | H62: 0 | I62: 0 | J62: 0 | K62: =SUM(L62:M62) -> 0 | N62: =SUM(E62:K62) -> 15245 | O62: =E62/$N62 -> 0.39488357 | P62: =F62/$N62 -> 0.47923909 | Q62: =G62/$N62 -> 0.12587734 | R62: =H62/$N62 -> 0 | S62: =I62/$N62 -> 0 | T62: =J62/$N62 -> 0 | U62: =K62/$N62 -> 0 | V62: =IF(O62=MAX(O62:U62),"Lab",IF(P62=MAX(O62:U62),"Con",IF(Q62=MAX(O62:U62),"Lib","Other"))) -> Con
A63: W06000004 | B63: Denbighshire | C63: LA | D63: =LOOKUP(A63,Lookup!A:A,Lookup!F:F) -> North Wales | E63: 5017 | F63: 5473 | G63: 806 | H63: 0 | I63: 0 | J63: 2173 | K63: =SUM(L63:M63) -> 0 | N63: =SUM(E63:K63) -> 13469 | O63: =E63/$N63 -> 0.37248497 | P63: =F63/$N63 -> 0.40634049 | Q63: =G63/$N63 -> 0.059841117 | R63: =H63/$N63 -> 0 | S63: =I63/$N63 -> 0 | T63: =J63/$N63 -> 0.16133343 | U63: =K63/$N63 -> 0 | V63: =IF(O63=MAX(O63:U63),"Lab",IF(P63=MAX(O63:U63),"Con",IF(Q63=MAX(O63:U63),"Lib","Other"))) -> Con
A64: E06000015 | B64: Derby | C64: LA | D64: =LOOKUP(A64,Lookup!A:A,Lookup!F:F) -> Derbyshire | E64: 21430 | F64: 11916 | G64: 4260 | H64: 0 | I64: 7911 | J64: 0 | K64: =SUM(L64:M64) -> 0 | N64: =SUM(E64:K64) -> 45517 | O64: =E64/$N64 -> 0.4708131 | P64: =F64/$N64 -> 0.2617923 | Q64: =G64/$N64 -> 0.093591405 | R64: =H64/$N64 -> 0 | S64: =I64/$N64 -> 0.17380319 | T64: =J64/$N64 -> 0 | U64: =K64/$N64 -> 0 | V64: =IF(O64=MAX(O64:U64),"Lab",IF(P64=MAX(O64:U64),"Con",IF(Q64=MAX(O64:U64),"Lib","Other"))) -> Lab
A65: E07000035 | B65: Derbyshire Dales | C65: LA | D65: =LOOKUP(A65,Lookup!A:A,Lookup!F:F) -> Derbyshire | E65: 6822 | F65: 6792 | G65: 3188 | H65: 0 | I65: 2097 | J65: 0 | K65: =SUM(L65:M65) -> 0 | N65: =SUM(E65:K65) -> 18899 | O65: =E65/$N65 -> 0.36097148 | P65: =F65/$N65 -> 0.35938409 | Q65: =G65/$N65 -> 0.16868617 | R65: =H65/$N65 -> 0 | S65: =I65/$N65 -> 0.11095825 | T65: =J65/$N65 -> 0 | U65: =K65/$N65 -> 0 | V65: =IF(O65=MAX(O65:U65),"Lab",IF(P65=MAX(O65:U65),"Con",IF(Q65=MAX(O65:U65),"Lib","Other"))) -> Lab
A66: E06000059 | B66: Dorset | C66: LA | D66: =LOOKUP(A66,Lookup!A:A,Lookup!F:F) -> Dorset | E66: 12559 | F66: 37212 | G66: 28020 | H66: 0 | I66: 0 | J66: 0 | K66: =SUM(L66:M66) -> 18613 | L66: 18613 | N66: =SUM(E66:K66) -> 96404 | O66: =E66/$N66 -> 0.13027468 | P66: =F66/$N66 -> 0.38600058 | Q66: =G66/$N66 -> 0.29065184 | R66: =H66/$N66 -> 0 | S66: =I66/$N66 -> 0 | T66: =J66/$N66 -> 0 | U66: =K66/$N66 -> 0.1930729 | V66: =IF(O66=MAX(O66:U66),"Lab",IF(P66=MAX(O66:U66),"Con",IF(Q66=MAX(O66:U66),"Lib","Other"))) -> Con
A67: E07000108 | B67: Dover | C67: LA | D67: =LOOKUP(A67,Lookup!A:A,Lookup!F:F) -> Kent | E67: 7544 | F67: 6982 | G67: 2711 | H67: 0 | I67: 0 | J67: 0 | K67: =SUM(L67:M67) -> 0 | N67: =SUM(E67:K67) -> 17237 | O67: =E67/$N67 -> 0.43766317 | P67: =F67/$N67 -> 0.40505888 | Q67: =G67/$N67 -> 0.15727795 | R67: =H67/$N67 -> 0 | S67: =I67/$N67 -> 0 | T67: =J67/$N67 -> 0 | U67: =K67/$N67 -> 0 | V67: =IF(O67=MAX(O67:U67),"Lab",IF(P67=MAX(O67:U67),"Con",IF(Q67=MAX(O67:U67),"Lib","Other"))) -> Lab
A68: E08000027 | B68: Dudley | C68: LA | D68: =LOOKUP(A68,Lookup!A:A,Lookup!F:F) -> West Midlands | E68: 35506 | F68: 37434 | G68: 0 | H68: 0 | I68: 0 | J68: 0 | K68: =SUM(L68:M68) -> 0 | N68: =SUM(E68:K68) -> 72940 | O68: =E68/$N68 -> 0.48678366 | P68: =F68/$N68 -> 0.51321634 | Q68: =G68/$N68 -> 0 | R68: =H68/$N68 -> 0 | S68: =I68/$N68 -> 0 | T68: =J68/$N68 -> 0 | U68: =K68/$N68 -> 0 | V68: =IF(O68=MAX(O68:U68),"Lab",IF(P68=MAX(O68:U68),"Con",IF(Q68=MAX(O68:U68),"Lib","Other"))) -> Con
A69: E07000009 | B69: East Cambridgeshire | C69: LA | D69: =LOOKUP(A69,Lookup!A:A,Lookup!F:F) -> Cambridgeshire | E69: 4127 | F69: 5688 | G69: 4367 | H69: 0 | I69: 0 | J69: 0 | K69: =SUM(L69:M69) -> 0 | N69: =SUM(E69:K69) -> 14182 | O69: =E69/$N69 -> 0.29100268 | P69: =F69/$N69 -> 0.40107178 | Q69: =G69/$N69 -> 0.30792554 | R69: =H69/$N69 -> 0 | S69: =I69/$N69 -> 0 | T69: =J69/$N69 -> 0 | U69: =K69/$N69 -> 0 | V69: =IF(O69=MAX(O69:U69),"Lab",IF(P69=MAX(O69:U69),"Con",IF(Q69=MAX(O69:U69),"Lib","Other"))) -> Con
A70: E07000040 | B70: East Devon | C70: LA | D70: =LOOKUP(A70,Lookup!A:A,Lookup!F:F) -> Devon & Cornwall | E70: 6591 | F70: 12530 | G70: 6282 | H70: 0 | I70: 0 | J70: 0 | K70: =SUM(L70:M70) -> 0 | N70: =SUM(E70:K70) -> 25403 | O70: =E70/$N70 -> 0.25945754 | P70: =F70/$N70 -> 0.49324883 | Q70: =G70/$N70 -> 0.24729363 | R70: =H70/$N70 -> 0 | S70: =I70/$N70 -> 0 | T70: =J70/$N70 -> 0 | U70: =K70/$N70 -> 0 | V70: =IF(O70=MAX(O70:U70),"Lab",IF(P70=MAX(O70:U70),"Con",IF(Q70=MAX(O70:U70),"Lib","Other"))) -> Con
A71: E07000085 | B71: East Hampshire | C71: LA | D71: =LOOKUP(A71,Lookup!A:A,Lookup!F:F) -> Hampshire | E71: 3765 | F71: 10416 | G71: 5022 | H71: 0 | I71: 0 | J71: 0 | K71: =SUM(L71:M71) -> 2271 | L71: 2271 | N71: =SUM(E71:K71) -> 21474 | O71: =E71/$N71 -> 0.1753283 | P71: =F71/$N71 -> 0.48505169 | Q71: =G71/$N71 -> 0.23386421 | R71: =H71/$N71 -> 0 | S71: =I71/$N71 -> 0 | T71: =J71/$N71 -> 0 | U71: =K71/$N71 -> 0.1057558 | V71: =IF(O71=MAX(O71:U71),"Lab",IF(P71=MAX(O71:U71),"Con",IF(Q71=MAX(O71:U71),"Lib","Other"))) -> Con
A72: E07000242 | B72: East Hertfordshire | C72: LA | D72: =LOOKUP(A72,Lookup!A:A,Lookup!F:F) -> Hertfordshire | E72: 5213 | F72: 9449 | G72: 4261 | H72: 4018 | I72: 0 | J72: 0 | K72: =SUM(L72:M72) -> 0 | N72: =SUM(E72:K72) -> 22941 | O72: =E72/$N72 -> 0.22723508 | P72: =F72/$N72 -> 0.41188266 | Q72: =G72/$N72 -> 0.18573733 | R72: =H72/$N72 -> 0.17514494 | S72: =I72/$N72 -> 0 | T72: =J72/$N72 -> 0 | U72: =K72/$N72 -> 0 | V72: =IF(O72=MAX(O72:U72),"Lab",IF(P72=MAX(O72:U72),"Con",IF(Q72=MAX(O72:U72),"Lib","Other"))) -> Con
A73: E07000137 | B73: East Lindsey | C73: LA | D73: =LOOKUP(A73,Lookup!A:A,Lookup!F:F) -> Lincolnshire | E73: 4869 | F73: 7323 | G73: 1667 | H73: 0 | I73: 3277 | J73: 0 | K73: =SUM(L73:M73) -> 1550 | L73: 1550 | N73: =SUM(E73:K73) -> 18686 | O73: =E73/$N73 -> 0.26056941 | P73: =F73/$N73 -> 0.39189768 | Q73: =G73/$N73 -> 0.089211174 | R73: =H73/$N73 -> 0 | S73: =I73/$N73 -> 0.17537194 | T73: =J73/$N73 -> 0 | U73: =K73/$N73 -> 0.082949802 | V73: =IF(O73=MAX(O73:U73),"Lab",IF(P73=MAX(O73:U73),"Con",IF(Q73=MAX(O73:U73),"Lib","Other"))) -> Con
A74: E06000011 | B74: East Riding of Yorkshire | C74: LA | D74: =LOOKUP(A74,Lookup!A:A,Lookup!F:F) -> Humberside | E74: 12898 | F74: 23410 | G74: 9349 | H74: 0 | I74: 0 | J74: 0 | K74: =SUM(L74:M74) -> 0 | N74: =SUM(E74:K74) -> 45657 | O74: =E74/$N74 -> 0.28249776 | P74: =F74/$N74 -> 0.51273627 | Q74: =G74/$N74 -> 0.20476597 | R74: =H74/$N74 -> 0 | S74: =I74/$N74 -> 0 | T74: =J74/$N74 -> 0 | U74: =K74/$N74 -> 0 | V74: =IF(O74=MAX(O74:U74),"Lab",IF(P74=MAX(O74:U74),"Con",IF(Q74=MAX(O74:U74),"Lib","Other"))) -> Con
A75: E07000193 | B75: East Staffordshire | C75: LA | D75: =LOOKUP(A75,Lookup!A:A,Lookup!F:F) -> Staffordshire | E75: 6299 | F75: 7732 | G75: 1813 | H75: 0 | I75: 0 | J75: 0 | K75: =SUM(L75:M75) -> 0 | N75: =SUM(E75:K75) -> 15844 | O75: =E75/$N75 -> 0.39756375 | P75: =F75/$N75 -> 0.48800808 | Q75: =G75/$N75 -> 0.11442817 | R75: =H75/$N75 -> 0 | S75: =I75/$N75 -> 0 | T75: =J75/$N75 -> 0 | U75: =K75/$N75 -> 0 | V75: =IF(O75=MAX(O75:U75),"Lab",IF(P75=MAX(O75:U75),"Con",IF(Q75=MAX(O75:U75),"Lib","Other"))) -> Con
A76: E07000244 | B76: East Suffolk | C76: LA | D76: =LOOKUP(A76,Lookup!A:A,Lookup!F:F) -> Suffolk | E76: 11936 | F76: 17211 | G76: 4821 | H76: 8003 | I76: 0 | J76: 0 | K76: =SUM(L76:M76) -> 0 | N76: =SUM(E76:K76) -> 41971 | O76: =E76/$N76 -> 0.28438684 | P76: =F76/$N76 -> 0.41006886 | Q76: =G76/$N76 -> 0.11486503 | R76: =H76/$N76 -> 0.19067928 | S76: =I76/$N76 -> 0 | T76: =J76/$N76 -> 0 | U76: =K76/$N76 -> 0 | V76: =IF(O76=MAX(O76:U76),"Lab",IF(P76=MAX(O76:U76),"Con",IF(Q76=MAX(O76:U76),"Lib","Other"))) -> Con
A77: E07000061 | B77: Eastbourne | C77: LA | D77: =LOOKUP(A77,Lookup!A:A,Lookup!F:F) -> Sussex | E77: 3012 | F77: 7036 | G77: 5349 | H77: 1209 | I77: 0 | J77: 0 | K77: =SUM(L77:M77) -> 0 | N77: =SUM(E77:K77) -> 16606 | O77: =E77/$N77 -> 0.18138022 | P77: =F77/$N77 -> 0.42370228 | Q77: =G77/$N77 -> 0.32211249 | R77: =H77/$N77 -> 0.07280501 | S77: =I77/$N77 -> 0 | T77: =J77/$N77 -> 0 | U77: =K77/$N77 -> 0 | V77: =IF(O77=MAX(O77:U77),"Lab",IF(P77=MAX(O77:U77),"Con",IF(Q77=MAX(O77:U77),"Lib","Other"))) -> Con
A78: E07000086 | B78: Eastleigh | C78: LA | D78: =LOOKUP(A78,Lookup!A:A,Lookup!F:F) -> Hampshire | E78: 5667 | F78: 11583 | G78: 11703 | H78: 0 | I78: 0 | J78: 0 | K78: =SUM(L78:M78) -> 2820 | L78: 2820 | N78: =SUM(E78:K78) -> 31773 | O78: =E78/$N78 -> 0.17835898 | P78: =F78/$N78 -> 0.36455481 | Q78: =G78/$N78 -> 0.3683316 | R78: =H78/$N78 -> 0 | S78: =I78/$N78 -> 0 | T78: =J78/$N78 -> 0 | U78: =K78/$N78 -> 0.088754603 | V78: =IF(O78=MAX(O78:U78),"Lab",IF(P78=MAX(O78:U78),"Con",IF(Q78=MAX(O78:U78),"Lib","Other"))) -> Lib
A79: E07000207 | B79: Elmbridge | C79: LA | D79: =LOOKUP(A79,Lookup!A:A,Lookup!F:F) -> Surrey | E79: 3942 | F79: 15052 | G79: 14411 | H79: 0 | I79: 0 | J79: 0 | K79: =SUM(L79:M79) -> 4822 | L79: 4822 | N79: =SUM(E79:K79) -> 38227 | O79: =E79/$N79 -> 0.10312083 | P79: =F79/$N79 -> 0.39375311 | Q79: =G79/$N79 -> 0.37698485 | R79: =H79/$N79 -> 0 | S79: =I79/$N79 -> 0 | T79: =J79/$N79 -> 0 | U79: =K79/$N79 -> 0.12614121 | V79: =IF(O79=MAX(O79:U79),"Lab",IF(P79=MAX(O79:U79),"Con",IF(Q79=MAX(O79:U79),"Lib","Other"))) -> Con
A80: E07000072 | B80: Epping Forest | C80: LA | D80: =LOOKUP(A80,Lookup!A:A,Lookup!F:F) -> Essex | E80: 7584 | F80: 12725 | G80: 4856 | H80: 0 | I80: 0 | J80: 0 | K80: =SUM(L80:M80) -> 3807 | L80: 3807 | N80: =SUM(E80:K80) -> 28972 | O80: =E80/$N80 -> 0.26176998 | P80: =F80/$N80 -> 0.43921718 | Q80: =G80/$N80 -> 0.16761011 | R80: =H80/$N80 -> 0 | S80: =I80/$N80 -> 0 | T80: =J80/$N80 -> 0 | U80: =K80/$N80 -> 0.13140273 | V80: =IF(O80=MAX(O80:U80),"Lab",IF(P80=MAX(O80:U80),"Con",IF(Q80=MAX(O80:U80),"Lib","Other"))) -> Con
A81: E07000208 | B81: Epsom and Ewell | C81: LA | D81: =LOOKUP(A81,Lookup!A:A,Lookup!F:F) -> Surrey | E81: 2884 | F81: 4116 | G81: 3807 | H81: 0 | I81: 0 | J81: 0 | K81: =SUM(L81:M81) -> 3242 | L81: 3242 | N81: =SUM(E81:K81) -> 14049 | O81: =E81/$N81 -> 0.20528151 | P81: =F81/$N81 -> 0.29297459 | Q81: =G81/$N81 -> 0.27098014 | R81: =H81/$N81 -> 0 | S81: =I81/$N81 -> 0 | T81: =J81/$N81 -> 0 | U81: =K81/$N81 -> 0.23076376 | V81: =IF(O81=MAX(O81:U81),"Lab",IF(P81=MAX(O81:U81),"Con",IF(Q81=MAX(O81:U81),"Lib","Other"))) -> Con
A82: E07000036 | B82: Erewash | C82: LA | D82: =LOOKUP(A82,Lookup!A:A,Lookup!F:F) -> Derbyshire | E82: 9413 | F82: 8050 | G82: 1867 | H82: 0 | I82: 4116 | J82: 0 | K82: =SUM(L82:M82) -> 0 | N82: =SUM(E82:K82) -> 23446 | O82: =E82/$N82 -> 0.40147573 | P82: =F82/$N82 -> 0.34334215 | Q82: =G82/$N82 -> 0.079629788 | R82: =H82/$N82 -> 0 | S82: =I82/$N82 -> 0.17555233 | T82: =J82/$N82 -> 0 | U82: =K82/$N82 -> 0 | V82: =IF(O82=MAX(O82:U82),"Lab",IF(P82=MAX(O82:U82),"Con",IF(Q82=MAX(O82:U82),"Lib","Other"))) -> Lab
A83: E07000041 | B83: Exeter | C83: LA | D83: =LOOKUP(A83,Lookup!A:A,Lookup!F:F) -> Devon & Cornwall | E83: 15742 | F83: 9785 | G83: 5888 | H83: 0 | I83: 0 | J83: 0 | K83: =SUM(L83:M83) -> 0 | N83: =SUM(E83:K83) -> 31415 | O83: =E83/$N83 -> 0.5010982 | P83: =F83/$N83 -> 0.31147541 | Q83: =G83/$N83 -> 0.18742639 | R83: =H83/$N83 -> 0 | S83: =I83/$N83 -> 0 | T83: =J83/$N83 -> 0 | U83: =K83/$N83 -> 0 | V83: =IF(O83=MAX(O83:U83),"Lab",IF(P83=MAX(O83:U83),"Con",IF(Q83=MAX(O83:U83),"Lib","Other"))) -> Lab
A84: E07000087 | B84: Fareham | C84: LA | D84: =LOOKUP(A84,Lookup!A:A,Lookup!F:F) -> Hampshire | E84: 5603 | F84: 16072 | G84: 7176 | H84: 0 | I84: 0 | J84: 0 | K84: =SUM(L84:M84) -> 2800 | L84: 2800 | N84: =SUM(E84:K84) -> 31651 | O84: =E84/$N84 -> 0.17702442 | P84: =F84/$N84 -> 0.50778806 | Q84: =G84/$N84 -> 0.22672269 | R84: =H84/$N84 -> 0 | S84: =I84/$N84 -> 0 | T84: =J84/$N84 -> 0 | U84: =K84/$N84 -> 0.088464819 | V84: =IF(O84=MAX(O84:U84),"Lab",IF(P84=MAX(O84:U84),"Con",IF(Q84=MAX(O84:U84),"Lib","Other"))) -> Con
A85: E07000010 | B85: Fenland | C85: LA | D85: =LOOKUP(A85,Lookup!A:A,Lookup!F:F) -> Cambridgeshire | E85: 3861 | F85: 7044 | G85: 2280 | H85: 0 | I85: 0 | J85: 0 | K85: =SUM(L85:M85) -> 0 | N85: =SUM(E85:K85) -> 13185 | O85: =E85/$N85 -> 0.29283276 | P85: =F85/$N85 -> 0.53424346 | Q85: =G85/$N85 -> 0.17292378 | R85: =H85/$N85 -> 0 | S85: =I85/$N85 -> 0 | T85: =J85/$N85 -> 0 | U85: =K85/$N85 -> 0 | V85: =IF(O85=MAX(O85:U85),"Lab",IF(P85=MAX(O85:U85),"Con",IF(Q85=MAX(O85:U85),"Lib","Other"))) -> Con
A86: W06000005 | B86: Flintshire | C86: LA | D86: =LOOKUP(A86,Lookup!A:A,Lookup!F:F) -> North Wales | E86: 8271 | F86: 5722 | G86: 2869 | H86: 0 | I86: 0 | J86: 2093 | K86: =SUM(L86:M86) -> 0 | N86: =SUM(E86:K86) -> 18955 | O86: =E86/$N86 -> 0.43634925 | P86: =F86/$N86 -> 0.30187286 | Q86: =G86/$N86 -> 0.15135848 | R86: =H86/$N86 -> 0 | S86: =I86/$N86 -> 0 | T86: =J86/$N86 -> 0.11041941 | U86: =K86/$N86 -> 0 | V86: =IF(O86=MAX(O86:U86),"Lab",IF(P86=MAX(O86:U86),"Con",IF(Q86=MAX(O86:U86),"Lib","Other"))) -> Lab
A87: E07000112 | B87: Folkestone and Hythe | C87: LA | D87: =LOOKUP(A87,Lookup!A:A,Lookup!F:F) -> Kent | E87: 5851 | F87: 7554 | G87: 3675 | H87: 0 | I87: 0 | J87: 0 | K87: =SUM(L87:M87) -> 0 | N87: =SUM(E87:K87) -> 17080 | O87: =E87/$N87 -> 0.3425644 | P87: =F87/$N87 -> 0.44227166 | Q87: =G87/$N87 -> 0.21516393 | R87: =H87/$N87 -> 0 | S87: =I87/$N87 -> 0 | T87: =J87/$N87 -> 0 | U87: =K87/$N87 -> 0 | V87: =IF(O87=MAX(O87:U87),"Lab",IF(P87=MAX(O87:U87),"Con",IF(Q87=MAX(O87:U87),"Lib","Other"))) -> Con
A88: E07000080 | B88: Forest of Dean | C88: LA | D88: =LOOKUP(A88,Lookup!A:A,Lookup!F:F) -> Gloucestershire | E88: 3722 | F88: 4693 | G88: 3251 | H88: 0 | I88: 0 | J88: 0 | K88: =SUM(L88:M88) -> 1693 | L88: 1693 | N88: =SUM(E88:K88) -> 13359 | O88: =E88/$N88 -> 0.27861367 | P88: =F88/$N88 -> 0.35129875 | Q88: =G88/$N88 -> 0.24335654 | R88: =H88/$N88 -> 0 | S88: =I88/$N88 -> 0 | T88: =J88/$N88 -> 0 | U88: =K88/$N88 -> 0.12673104 | V88: =IF(O88=MAX(O88:U88),"Lab",IF(P88=MAX(O88:U88),"Con",IF(Q88=MAX(O88:U88),"Lib","Other"))) -> Con
A89: E07000119 | B89: Fylde | C89: LA | D89: =LOOKUP(A89,Lookup!A:A,Lookup!F:F) -> Lancashire | E89: 4867 | F89: 5932 | G89: 2246 | H89: 0 | I89: 0 | J89: 0 | K89: =SUM(L89:M89) -> 0 | N89: =SUM(E89:K89) -> 13045 | O89: =E89/$N89 -> 0.37309314 | P89: =F89/$N89 -> 0.45473361 | Q89: =G89/$N89 -> 0.17217325 | R89: =H89/$N89 -> 0 | S89: =I89/$N89 -> 0 | T89: =J89/$N89 -> 0 | U89: =K89/$N89 -> 0 | V89: =IF(O89=MAX(O89:U89),"Lab",IF(P89=MAX(O89:U89),"Con",IF(Q89=MAX(O89:U89),"Lib","Other"))) -> Con
A90: E08000037 | B90: Gateshead | C90: LA | D90: =LOOKUP(A90,Lookup!A:A,Lookup!F:F) -> Northumbria | E90: 26478 | F90: 8806 | G90: 10323 | H90: 0 | I90: 0 | J90: 0 | K90: =SUM(L90:M90) -> 3047 | L90: 3047 | N90: =SUM(E90:K90) -> 48654 | O90: =E90/$N90 -> 0.54421014 | P90: =F90/$N90 -> 0.18099231 | Q90: =G90/$N90 -> 0.21217166 | R90: =H90/$N90 -> 0 | S90: =I90/$N90 -> 0 | T90: =J90/$N90 -> 0 | U90: =K90/$N90 -> 0.062625889 | V90: =IF(O90=MAX(O90:U90),"Lab",IF(P90=MAX(O90:U90),"Con",IF(Q90=MAX(O90:U90),"Lib","Other"))) -> Lab
A91: E07000173 | B91: Gedling | C91: LA | D91: =LOOKUP(A91,Lookup!A:A,Lookup!F:F) -> Nottinghamshire | E91: 14519 | F91: 8981 | G91: 3306 | H91: 0 | I91: 0 | J91: 0 | K91: =SUM(L91:M91) -> 0 | N91: =SUM(E91:K91) -> 26806 | O91: =E91/$N91 -> 0.54163247 | P91: =F91/$N91 -> 0.33503693 | Q91: =G91/$N91 -> 0.1233306 | R91: =H91/$N91 -> 0 | S91: =I91/$N91 -> 0 | T91: =J91/$N91 -> 0 | U91: =K91/$N91 -> 0 | V91: =IF(O91=MAX(O91:U91),"Lab",IF(P91=MAX(O91:U91),"Con",IF(Q91=MAX(O91:U91),"Lib","Other"))) -> Lab
A92: E07000081 | B92: Gloucester | C92: LA | D92: =LOOKUP(A92,Lookup!A:A,Lookup!F:F) -> Gloucestershire | E92: 7863 | F92: 8622 | G92: 7881 | H92: 0 | I92: 0 | J92: 0 | K92: =SUM(L92:M92) -> 3939 | L92: 3939 | N92: =SUM(E92:K92) -> 28305 | O92: =E92/$N92 -> 0.27779544 | P92: =F92/$N92 -> 0.30461049 | Q92: =G92/$N92 -> 0.27843137 | R92: =H92/$N92 -> 0 | S92: =I92/$N92 -> 0 | T92: =J92/$N92 -> 0 | U92: =K92/$N92 -> 0.13916269 | V92: =IF(O92=MAX(O92:U92),"Lab",IF(P92=MAX(O92:U92),"Con",IF(Q92=MAX(O92:U92),"Lib","Other"))) -> Con
A93: E07000088 | B93: Gosport | C93: LA | D93: =LOOKUP(A93,Lookup!A:A,Lookup!F:F) -> Hampshire | E93: 3911 | F93: 9886 | G93: 4745 | H93: 0 | I93: 0 | J93: 0 | K93: =SUM(L93:M93) -> 2276 | L93: 2276 | N93: =SUM(E93:K93) -> 20818 | O93: =E93/$N93 -> 0.18786627 | P93: =F93/$N93 -> 0.47487751 | Q93: =G93/$N93 -> 0.22792775 | R93: =H93/$N93 -> 0 | S93: =I93/$N93 -> 0 | T93: =J93/$N93 -> 0 | U93: =K93/$N93 -> 0.10932847 | V93: =IF(O93=MAX(O93:U93),"Lab",IF(P93=MAX(O93:U93),"Con",IF(Q93=MAX(O93:U93),"Lib","Other"))) -> Con
A94: E07000109 | B94: Gravesham | C94: LA | D94: =LOOKUP(A94,Lookup!A:A,Lookup!F:F) -> Kent | E94: 6483 | F94: 5675 | G94: 1665 | H94: 0 | I94: 0 | J94: 0 | K94: =SUM(L94:M94) -> 0 | N94: =SUM(E94:K94) -> 13823 | O94: =E94/$N94 -> 0.46900094 | P94: =F94/$N94 -> 0.41054764 | Q94: =G94/$N94 -> 0.12045142 | R94: =H94/$N94 -> 0 | S94: =I94/$N94 -> 0 | T94: =J94/$N94 -> 0 | U94: =K94/$N94 -> 0 | V94: =IF(O94=MAX(O94:U94),"Lab",IF(P94=MAX(O94:U94),"Con",IF(Q94=MAX(O94:U94),"Lib","Other"))) -> Lab
A95: E07000145 | B95: Great Yarmouth | C95: LA | D95: =LOOKUP(A95,Lookup!A:A,Lookup!F:F) -> Norfolk | E95: 5002 | F95: 4854 | G95: 978 | H95: 1281 | I95: 0 | J95: 0 | K95: =SUM(L95:M95) -> 0 | N95: =SUM(E95:K95) -> 12115 | O95: =E95/$N95 -> 0.4128766 | P95: =F95/$N95 -> 0.40066034 | Q95: =G95/$N95 -> 0.080726372 | R95: =H95/$N95 -> 0.10573669 | S95: =I95/$N95 -> 0 | T95: =J95/$N95 -> 0 | U95: =K95/$N95 -> 0 | V95: =IF(O95=MAX(O95:U95),"Lab",IF(P95=MAX(O95:U95),"Con",IF(Q95=MAX(O95:U95),"Lib","Other"))) -> Lab
A96: E07000209 | B96: Guildford | C96: LA | D96: =LOOKUP(A96,Lookup!A:A,Lookup!F:F) -> Surrey | E96: 3429 | F96: 8953 | G96: 7911 | H96: 0 | I96: 0 | J96: 0 | K96: =SUM(L96:M96) -> 3606 | L96: 3606 | N96: =SUM(E96:K96) -> 23899 | O96: =E96/$N96 -> 0.14347881 | P96: =F96/$N96 -> 0.37461818 | Q96: =G96/$N96 -> 0.33101803 | R96: =H96/$N96 -> 0 | S96: =I96/$N96 -> 0 | T96: =J96/$N96 -> 0 | U96: =K96/$N96 -> 0.15088497 | V96: =IF(O96=MAX(O96:U96),"Lab",IF(P96=MAX(O96:U96),"Con",IF(Q96=MAX(O96:U96),"Lib","Other"))) -> Con
A97: W06000002 | B97: Gwynedd | C97: LA | D97: =LOOKUP(A97,Lookup!A:A,Lookup!F:F) -> North Wales | E97: 3892 | F97: 2330 | G97: 657 | H97: 0 | I97: 0 | J97: 9058 | K97: =SUM(L97:M97) -> 0 | N97: =SUM(E97:K97) -> 15937 | O97: =E97/$N97 -> 0.24421158 | P97: =F97/$N97 -> 0.14620067 | Q97: =G97/$N97 -> 0.041224823 | R97: =H97/$N97 -> 0 | S97: =I97/$N97 -> 0 | T97: =J97/$N97 -> 0.56836293 | U97: =K97/$N97 -> 0 | V97: =IF(O97=MAX(O97:U97),"Lab",IF(P97=MAX(O97:U97),"Con",IF(Q97=MAX(O97:U97),"Lib","Other"))) -> Other
A98: E06000006 | B98: Halton | C98: LA | D98: =LOOKUP(A98,Lookup!A:A,Lookup!F:F) -> Cheshire | E98: 13547 | F98: 3746 | G98: 2592 | H98: 0 | I98: 0 | J98: 0 | K98: =SUM(L98:M98) -> 0 | N98: =SUM(E98:K98) -> 19885 | O98: =E98/$N98 -> 0.68126729 | P98: =F98/$N98 -> 0.1883832 | Q98: =G98/$N98 -> 0.13034951 | R98: =H98/$N98 -> 0 | S98: =I98/$N98 -> 0 | T98: =J98/$N98 -> 0 | U98: =K98/$N98 -> 0 | V98: =IF(O98=MAX(O98:U98),"Lab",IF(P98=MAX(O98:U98),"Con",IF(Q98=MAX(O98:U98),"Lib","Other"))) -> Lab
A99: E07000131 | B99: Harborough | C99: LA | D99: =LOOKUP(A99,Lookup!A:A,Lookup!F:F) -> Leicestershire | E99: 5049 | F99: 7121 | G99: 2840 | H99: 1180 | I99: 0 | J99: 0 | K99: =SUM(L99:M99) -> 238 | L99: 238 | N99: =SUM(E99:K99) -> 16428 | O99: =E99/$N99 -> 0.30734112 | P99: =F99/$N99 -> 0.43346725 | Q99: =G99/$N99 -> 0.17287558 | R99: =H99/$N99 -> 0.071828585 | S99: =I99/$N99 -> 0 | T99: =J99/$N99 -> 0 | U99: =K99/$N99 -> 0.01448746 | V99: =IF(O99=MAX(O99:U99),"Lab",IF(P99=MAX(O99:U99),"Con",IF(Q99=MAX(O99:U99),"Lib","Other"))) -> Con
A100: E07000073 | B100: Harlow | C100: LA | D100: =LOOKUP(A100,Lookup!A:A,Lookup!F:F) -> Essex | E100: 8338 | F100: 7189 | G100: 1111 | H100: 0 | I100: 0 | J100: 0 | K100: =SUM(L100:M100) -> 1586 | L100: 1586 | N100: =SUM(E100:K100) -> 18224 | O100: =E100/$N100 -> 0.45752853 | P100: =F100/$N100 -> 0.39447981 | Q100: =G100/$N100 -> 0.060963565 | R100: =H100/$N100 -> 0 | S100: =I100/$N100 -> 0 | T100: =J100/$N100 -> 0 | U100: =K100/$N100 -> 0.087028095 | V100: =IF(O100=MAX(O100:U100),"Lab",IF(P100=MAX(O100:U100),"Con",IF(Q100=MAX(O100:U100),"Lib","Other"))) -> Lab
...

Sheet 2021 PCC
A1: PCCArea | B1: con | C1: lab | D1: lib | E1: grn | F1: ref | G1: pc | H1: oth_total | I1: oth1 | J1: oth2 | K1: total_vote
A2: Bedfordshire | B2: 51700 | C2: 42708 | D2: 15983 | E2: 0 | F2: 0 | G2: 0 | H2: =SUM(I2:J2) -> 11666 | I2: 8279 | J2: 3387 | K2: =SUM(B2:H2) -> 122057
A3: West Midlands | B3: 239288 | C3: 276743 | D3: 38594 | E3: 0 | F3: 18002 | G3: 0 | H3: =SUM(I3:J3) -> 35409 | I3: 27664 | J3: 7745 | K3: =SUM(B3:H3) -> 608036
A4: Gloucestershire | B4: 79086 | C4: 31347 | D4: 37024 | E4: 0 | F4: 0 | G4: 0 | H4: =SUM(I4:J4) -> 47417 | I4: 34286 | J4: 13131 | K4: =SUM(B4:H4) -> 194874
A5: Surrey | B5: 112260 | C5: 40597 | D5: 69412 | E5: 0 | F5: 0 | G5: 0 | H5: =SUM(I5:J5) -> 112657 | I5: 59554 | J5: 53103 | K5: =SUM(B5:H5) -> 334926
A6: Thames Valley | B6: 267404 | C6: 175123 | D6: 110072 | E6: 0 | F6: 0 | G6: 0 | H6: =SUM(I6:J6) -> 77210 | I6: 77210 | J6: 0 | K6: =SUM(B6:H6) -> 629809
A7: Hampshire | B7: 262667 | C7: 101832 | D7: 93581 | E7: 0 | F7: 0 | G7: 0 | H7: =SUM(I7:J7) -> 68895 | I7: 68895 | J7: 0 | K7: =SUM(B7:H7) -> 526975
A8: Avon and Somerset | B8: 136988 | C8: 93495 | D8: 52839 | E8: 64790 | F8: 0 | G8: 0 | H8: =SUM(I8:J8) -> 46379 | I8: 46379 | J8: 0 | K8: =SUM(B8:H8) -> 394491
A9: Northumbria | B9: 118543 | C9: 179021 | D9: 40955 | E9: 0 | F9: 0 | G9: 0 | H9: =SUM(I9:J9) -> 45567 | I9: 45567 | J9: 0 | K9: =SUM(B9:H9) -> 384086
A10: Essex | B10: 235246 | C10: 99712 | D10: 58131 | E10: 0 | F10: 0 | G10: 0 | H10: =SUM(I10:J10) -> 42831 | I10: 42831 | J10: 0 | K10: =SUM(B10:H10) -> 435920
A11: Wiltshire | B11: 84885 | C11: 34147 | D11: 35013 | E11: 16606 | F11: 4348 | G11: 0 | H11: =SUM(I11:J11) -> 31722 | I11: 31722 | J11: 0 | K11: =SUM(B11:H11) -> 206721
A12: Dorset | B12: 64071 | C12: 16379 | D12: 17837 | E12: 21283 | F12: 0 | G12: 0 | H12: =SUM(I12:J12) -> 31112 | I12: 31112 | J12: 0 | K12: =SUM(B12:H12) -> 150682
A13: Sussex | B13: 214523 | C13: 84736 | D13: 63271 | E13: 60781 | F13: 0 | G13: 0 | H13: =SUM(I13:J13) -> 30408 | I13: 30408 | J13: 0 | K13: =SUM(B13:H13) -> 453719
... A40: South Wales | B40: 102465 | C40: 177110 | D40: 19907 | E40: 0 | F40: 0 | G40: 82246 | H40: =SUM(I40:J40) -> 50373 | I40: 37110 | J40: 13263 | K40: =SUM(B40:H40) -> 432101

Sheet 2024 PCC
A1: PCCArea | B1: con | C1: lab | D1: lib | E1: grn | F1: ref | G1: pc | H1: oth_total | I1: oth1 | J1: oth2 | K1: total_vote
A2: Dyfed-Powys | B2: 19134 | C2: 18353 | D2: 7719 | E2: 0 | F2: 0 | G2: 31323 | H2: =SUM(I2:J2) -> 0 | K2: =SUM(B2:H2) -> 76529
A3: South Wales | B3: 43344 | C3: 73128 | D3: 17908 | E3: 0 | F3: 0 | G3: 27410 | H3: =SUM(I3:J3) -> 0 | K3: =SUM(B3:H3) -> 161790
A4: North Wales | B4: 26281 | C4: 31950 | D4: 7129 | E4: 0 | F4: 0 | G4: 23466 | H4: =SUM(I4:J4) -> 0 | K4: =SUM(B4:H4) -> 88826
A5: Gwent | B5: 21919 | C5: 28476 | D5: 8078 | E5: 0 | F5: 0 | G5: 9864 | H5: =SUM(I5:J5) -> 0 | K5: =SUM(B5:H5) -> 68337
A6: Derbyshire | B6: 65293 | C6: 93260 | D6: 22540 | E6: 0 | F6: 32944 | G6: 0 | H6: =SUM(I6:J6) -> 0 | K6: =SUM(B6:H6) -> 214037
A7: Lincolnshire | B7: 39639 | C7: 31931 | D7: 13380 | E7: 0 | F7: 15518 | G7: 0 | H7: =SUM(I7:J7) -> 7739 | I7: 7739 | K7: =SUM(B7:H7) -> 108207
A8: Avon and Somerset | B8: 91006 | C8: 95982 | D8: 45864 | E8: 64623 | F8: 0 | G8: 0 | H8: =SUM(I8:J8) -> 0 | K8: =SUM(B8:H8) -> 297475
A9: Sussex | B9: 122495 | C9: 99502 | D9: 48923 | E9: 43105 | F9: 0 | G9: 0 | H9: =SUM(I9:J9) -> 0 | K9: =SUM(B9:H9) -> 314025
A10: Merseyside | B10: 35221 | C10: 152640 | D10: 28093 | E10: 31330 | F10: 0 | G10: 0 | H10: =SUM(I10:J10) -> 0 | K10: =SUM(B10:H10) -> 247284
A11: Hertfordshire | B11: 93658 | C11: 66585 | D11: 68264 | E11: 26714 | F11: 0 | G11: 0 | H11: =SUM(I11:J11) -> 0 | K11: =SUM(B11:H11) -> 255221
A12: Leicestershire | B12: 62280 | C12: 61420 | D12: 22041 | E12: 23649 | F12: 0 | G12: 0 | H12: =SUM(I12:J12) -> 7104 | I12: 7104 | K12: =SUM(B12:H12) -> 176494
A13: Norfolk | B13: 50567 | C13: 52445 | D13: 22525 | E13: 23628 | F13: 0 | G13: 0 | H13: =SUM(I13:J13) -> 0 | K13: =SUM(B13:H13) -> 149165
A14: Suffolk | B14: 52968 | C14: 41734 | D14: 14541 | E14: 22488 | F14: 0 | G14: 0 | H14: =SUM(I14:J14) -> 0 | K14: =SUM(B14:H14) -> 131731
A15: West Mercia | B15: 73395 | C15: 63082 | D15: 33782 | E15: 22021 | F15: 0 | G15: 0 | H15: =SUM(I15:J15) -> 21645 | I15: 21645 | K15: =SUM(B15:H15) -> 213925
A16: Bedfordshire | B16: 35688 | C16: 40738 | D16: 15857 | E16: 0 | F16: 0 | G16: 0 | H16: =SUM(I16:J16) -> 8396 | I16: 8396 | K16: =SUM(B16:H16) -> 100679
A17: Cambridgeshire | B17: 61688 | C17: 58304 | D17: 41984 | E17: 0 | F17: 0 | G17: 0 | H17: =SUM(I17:J17) -> 0 | K17: =SUM(B17:H17) -> 161976
A18: Cheshire | B18: 65836 | C18: 86279 | D18: 27342 | E18: 0 | F18: 0 | G18: 0 | H18: =SUM(I18:J18) -> 0 | K18: =SUM(B18:H18) -> 179457
A19: Cleveland | B19: 58977 | C19: 65418 | D19: 0 | E19: 0 | F19: 0 | G19: 0 | H19: =SUM(I19:J19) -> 0 | K19: =SUM(B19:H19) -> 124395
A20: Cumbria | B20: 24863 | C20: 38708 | D20: 18100 | E20: 0 | F20: 0 | G20: 0 | H20: =SUM(I20:J20) -> 0 | K20: =SUM(B20:H20) -> 81671
A21: Devon & Cornwall | B21: 131764 | C21: 107897 | D21: 64790 | E21: 0 | F21: 0 | G21: 0 | H21: =SUM(I21:J21) -> 0 | K21: =SUM(B21:H21) -> 304451
A22: Dorset | B22: 57994 | C22: 26884 | D22: 34774 | E22: 0 | F22: 0 | G22: 0 | H22: =SUM(I22:J22) -> 32237 | I22: 32237 | K22: =SUM(B22:H22) -> 151889
A23: Durham | B23: 37773 | C23: 66852 | D23: 14678 | E23: 0 | F23: 0 | G23: 0 | H23: =SUM(I23:J23) -> 0 | K23: =SUM(B23:H23) -> 119303
A24: Essex | B24: 126447 | C24: 116875 | D24: 52922 | E24: 0 | F24: 0 | G24: 0 | H24: =SUM(I24:J24) -> 34153 | I24: 34153 | K24: =SUM(B24:H24) -> 330397
A25: Gloucestershire | B25: 47838 | C25: 35069 | D25: 46352 | E25: 0 | F25: 0 | G25: 0 | H25: =SUM(I25:J25) -> 15240 | I25: 15240 | K25: =SUM(B25:H25) -> 144499
A26: Hampshire | B26: 175953 | C26: 106141 | D26: 92843 | E26: 0 | F26: 0 | G26: 0 | H26: =SUM(I26:J26) -> 40691 | I26: 40691 | K26: =SUM(B26:H26) -> 415628
A27: Humberside | B27: 51083 | C27: 46846 | D27: 30834 | E27: 0 | F27: 0 | G27: 0 | H27: =SUM(I27:J27) -> 0 | K27: =SUM(B27:H27) -> 128763
A28: Kent | B28: 120491 | C28: 92508 | D28: 60279 | E28: 0 | F28: 0 | G28: 0 | H28: =SUM(I28:J28) -> 0 | K28: =SUM(B28:H28) -> 273278
A29: Lancashire | B29: 101281 | C29: 135638 | D29: 51252 | E29: 0 | F29: 0 | G29: 0 | H29: =SUM(I29:J29) -> 0 | K29: =SUM(B29:H29) -> 288171
A30: Northamptonshire | B30: 39714 | C30: 43684 | D30: 27799 | E30: 0 | F30: 0 | G30: 0 | H30: =SUM(I30:J30) -> 0 | K30: =SUM(B30:H30) -> 111197
A31: Northumbria | B31: 78818 | C31: 176311 | D31: 58574 | E31: 0 | F31: 0 | G31: 0 | H31: =SUM(I31:J31) -> 31773 | I31: 31773 | K31: =SUM(B31:H31) -> 345476
A32: Nottinghamshire | B32: 77148 | C32: 119355 | D32: 32410 | E32: 0 | F32: 0 | G32: 0 | H32: =SUM(I32:J32) -> 0 | K32: =SUM(B32:H32) -> 228913
A33: Staffordshire | B33: 73500 | C33: 70128 | D33: 17666 | E33: 0 | F33: 0 | G33: 0 | H33: =SUM(I33:J33) -> 0 | K33: =SUM(B33:H33) -> 161294
A34: Surrey | B34: 95538 | C34: 42813 | D34: 82213 | E34: 0 | F34: 0 | G34: 0 | H34: =SUM(I34:J34) -> 42052 | I34: 42052 | K34: =SUM(B34:H34) -> 262616
A35: Thames Valley | B35: 144092 | C35: 141749 | D35: 84341 | E35: 0 | F35: 0 | G35: 0 | H35: =SUM(I35:J35) -> 78313 | I35: 46853 | J35: 31460 | K35: =SUM(B35:H35) -> 448495
A36: Warwickshire | B36: 45638 | C36: 45377 | D36: 24867 | E36: 0 | F36: 0 | G36: 0 | H36: =SUM(I36:J36) -> 0 | K36: =SUM(B36:H36) -> 115882
A37: West Midlands | B37: 241827 | C37: 327844 | D37: 0 | E37: 0 | F37: 0 | G37: 0 | H37: =SUM(I37:J37) -> 0 | K37: =SUM(B37:H37) -> 569671
A38: Wiltshire | B38: 38578 | C38: 36345 | D38: 20485 | E38: 0 | F38: 0 | G38: 0 | H38: =SUM(I38:J38) -> 29035 | I38: 29035 | K38: =SUM(B38:H38) -> 124443

Sheet Lookup
A1: LAD22CD | B1: LAD22NM | C1: CSP22CD | D1: CSP22NM | E1: PFA22CD | F1: PFA22NM | G1: ObjectId
A2: E06000001 | B2: Hartlepool | C2: E22000027 | D2: Hartlepool | E2: E23000013 | F2: Cleveland | G2: 44
A3: E06000002 | B3: Middlesbrough | C3: E22000029 | D3: Middlesbrough | E3: E23000013 | F3: Cleveland | G3: 46
A4: E06000003 | B4: Redcar and Cleveland | C4: E22000028 | D4: Redcar and Cleveland | E4: E23000013 | F4: Cleveland | G4: 45
A5: E06000004 | B5: Stockton-on-Tees | C5: E22000030 | D5: Stockton-on-Tees | E5: E23000013 | F5: Cleveland | G5: 47
A6: E06000005 | B6: Darlington | C6: E22000072 | D6: Darlington | E6: E23000008 | F6: Durham | G6: 21
A7: E06000006 | B7: Halton | C7: E22000023 | D7: Halton | E7: E23000006 | F7: Cheshire | G7: 11
A8: E06000007 | B8: Warrington | C8: E22000026 | D8: Warrington | E8: E23000006 | F8: Cheshire | G8: 12
A9: E06000008 | B9: Blackburn with Darwen | C9: E22000150 | D9: Blackburn with Darwen | E9: E23000003 | F9: Lancashire | G9: 210
A10: E06000009 | B10: Blackpool | C10: E22000151 | D10: Blackpool | E10: E23000003 | F10: Lancashire | G10: 211
A11: E06000010 | B11: Kingston upon Hull, City of | C11: E22000134 | D11: Kingston upon Hull, City of | E11: E23000012 | F11: Humberside | G11: 41
A12: E06000011 | B12: East Riding of Yorkshire | C12: E22000133 | D12: East Riding of Yorkshire | E12: E23000012 | F12: Humberside | G12: 40
A13: E06000012 | B13: North East Lincolnshire | C13: E22000135 | D13: North East Lincolnshire | E13: E23000012 | F13: Humberside | G13: 42
... A342: W06000024 | B342: Merthyr Tydfil | C342: W14000023 | D342: Cwm Taf | E342: W15000003 | F342: South Wales | G342: 280
