Workbook

Sheet 2021 LA
A1: code | B1: name | C1: type | D1: pcc | E1: lab | F1: con | G1: lib | H1: grn | I1: ref | J1: pc | K1: oth_total | L1: oth1 | M1: oth2 | N1: total_vote | O1: lab | P1: con | Q1: lib | R1: grn | S1: ref | T1: pc | U1: oth_total
A2: E06000001 | B2: Hartlepool | C2: LA | D2: =LOOKUP(A2,Lookup!A:A,Lookup!F:F) -> Cleveland | E2: 8435 | F2: 15414 | G2: 932 | H2: 0 | I2: 0 | J2: 0 | K2: =SUM(L2:M2) -> 3737 | L2: 3737 | M2: 0 | N2: =SUM(E2:K2) -> 28518 | O2: =E2/$N2 -> 0.29577811 | P2: =F2/$N2 -> 0.54050074 | Q2: =G2/$N2 -> 0.032681114 | R2: =H2/$N2 -> 0 | S2: =I2/$N2 -> 0 | T2: =J2/$N2 -> 0 | U2: =K2/$N2 -> 0.13104004
A3: E06000002 | B3: Middlesbrough | C3: LA | D3: =LOOKUP(A3,Lookup!A:A,Lookup!F:F) -> Cleveland | E3: 8412 | F3: 11920 | G3: 942 | H3: 0 | I3: 0 | J3: 0 | K3: =SUM(L3:M3) -> 4005 | L3: 4005 | M3: 0 | N3: =SUM(E3:K3) -> 25279 | O3: =E3/$N3 -> 0.33276633 | P3: =F3/$N3 -> 0.47153764 | Q3: =G3/$N3 -> 0.037264132 | R3: =H3/$N3 -> 0 | S3: =I3/$N3 -> 0 | T3: =J3/$N3 -> 0 | U3: =K3/$N3 -> 0.1584319
A4: E06000003 | B4: Redcar and Cleveland | C4: LA | D4: =LOOKUP(A4,Lookup!A:A,Lookup!F:F) -> Cleveland | E4: 7828 | F4: 18239 | G4: 2309 | H4: 0 | I4: 0 | J4: 0 | K4: =SUM(L4:M4) -> 3574 | L4: 3574 | M4: 0 | N4: =SUM(E4:K4) -> 31950 | O4: =E4/$N4 -> 0.24500782 | P4: =F4/$N4 -> 0.57086072 | Q4: =G4/$N4 -> 0.072269171 | R4: =H4/$N4 -> 0 | S4: =I4/$N4 -> 0 | T4: =J4/$N4 -> 0 | U4: =K4/$N4 -> 0.11186228
A5: E06000004 | B5: Stockton-on-Tees | C5: LA | D5: =LOOKUP(A5,Lookup!A:A,Lookup!F:F) -> Cleveland | E5: 14792 | F5: 28450 | G5: 2357 | H5: 0 | I5: 0 | J5: 0 | K5: =SUM(L5:M5) -> 5351 | L5: 5351 | M5: 0 | N5: =SUM(E5:K5) -> 50950 | O5: =E5/$N5 -> 0.29032385 | P5: =F5/$N5 -> 0.55839058 | Q5: =G5/$N5 -> 0.04626104 | R5: =H5/$N5 -> 0 | S5: =I5/$N5 -> 0 | T5: =J5/$N5 -> 0 | U5: =K5/$N5 -> 0.10502453
A6: E06000005 | B6: Darlington | C6: LA | D6: =LOOKUP(A6,Lookup!A:A,Lookup!F:F) -> Durham | E6: 8124 | F6: 14983 | G6: 2194 | H6: 0 | I6: 0 | J6: 0 | K6: =SUM(L6:M6) -> 0 | L6: 0 | M6: 0 | N6: =SUM(E6:K6) -> 25301 | O6: =E6/$N6 -> 0.32109403 | P6: =F6/$N6 -> 0.59219003 | Q6: =G6/$N6 -> 0.08671594 | R6: =H6/$N6 -> 0 | S6: =I6/$N6 -> 0 | T6: =J6/$N6 -> 0 | U6: =K6/$N6 -> 0
A7: E06000006 | B7: Halton | C7: LA | D7: =LOOKUP(A7,Lookup!A:A,Lookup!F:F) -> Cheshire | E7: 12874 | F7: 6341 | G7: 2692 | H7: 0 | I7: 999 | J7: 0 | K7: =SUM(L7:M7) -> 0 | L7: 0 | M7: 0 | N7: =SUM(E7:K7) -> 22906 | O7: =E7/$N7 -> 0.56203615 | P7: =F7/$N7 -> 0.27682703 | Q7: =G7/$N7 -> 0.11752379 | R7: =H7/$N7 -> 0 | S7: =I7/$N7 -> 0.043613027 | T7: =J7/$N7 -> 0 | U7: =K7/$N7 -> 0
A8: E06000007 | B8: Warrington | C8: LA | D8: =LOOKUP(A8,Lookup!A:A,Lookup!F:F) -> Cheshire | E8: 21686 | F8: 22274 | G8: 9714 | H8: 0 | I8: 2101 | J8: 0 | K8: =SUM(L8:M8) -> 0 | L8: 0 | M8: 0 | N8: =SUM(E8:K8) -> 55775 | O8: =E8/$N8 -> 0.38881219 | P8: =F8/$N8 -> 0.39935455 | Q8: =G8/$N8 -> 0.17416405 | R8: =H8/$N8 -> 0 | S8: =I8/$N8 -> 0.037669207 | T8: =J8/$N8 -> 0 | U8: =K8/$N8 -> 0
A9: E06000008 | B9: Blackburn with Darwen | C9: LA | D9: =LOOKUP(A9,Lookup!A:A,Lookup!F:F) -> Lancashire | E9: 18497 | F9: 10781 | G9: 2021 | H9: 0 | I9: 1302 | J9: 0 | K9: =SUM(L9:M9) -> 0 | L9: 0 | M9: 0 | N9: =SUM(E9:K9) -> 32601 | O9: =E9/$N9 -> 0.56737523 | P9: =F9/$N9 -> 0.33069538 | Q9: =G9/$N9 -> 0.061991963 | R9: =H9/$N9 -> 0 | S9: =I9/$N9 -> 0.039937425 | T9: =J9/$N9 -> 0 | U9: =K9/$N9 -> 0
A10: E06000009 | B10: Blackpool | C10: LA | D10: =LOOKUP(A10,Lookup!A:A,Lookup!F:F) -> Lancashire | E10: 9260 | F10: 12282 | G10: 1233 | H10: 0 | I10: 1445 | J10: 0 | K10: =SUM(L10:M10) -> 0 | L10: 0 | M10: 0 | N10: =SUM(E10:K10) -> 24220 | O10: =E10/$N10 -> 0.38232865 | P10: =F10/$N10 -> 0.50710157 | Q10: =G10/$N10 -> 0.05090834 | R10: =H10/$N10 -> 0 | S10: =I10/$N10 -> 0.059661437 | T10: =J10/$N10 -> 0 | U10: =K10/$N10 -> 0
A11: E06000010 | B11: Kingston upon Hull, City of | C11: LA | D11: =LOOKUP(A11,Lookup!A:A,Lookup!F:F) -> Humberside | E11: 19272 | F11: 10076 | G11: 13539 | H11: 0 | I11: 0 | J11: 0 | K11: =SUM(L11:M11) -> 0 | L11: 0 | M11: 0 | N11: =SUM(E11:K11) -> 42887 | O11: =E11/$N11 -> 0.44936694 | P11: =F11/$N11 -> 0.23494299 | Q11: =G11/$N11 -> 0.31569007 | R11: =H11/$N11 -> 0 | S11: =I11/$N11 -> 0 | T11: =J11/$N11 -> 0 | U11: =K11/$N11 -> 0
A12: E06000011 | B12: East Riding of Yorkshire | C12: LA | D12: =LOOKUP(A12,Lookup!A:A,Lookup!F:F) -> Humberside | E12: 20725 | F12: 28877 | G12: 6421 | H12: 0 | I12: 0 | J12: 0 | K12: =SUM(L12:M12) -> 0 | L12: 0 | M12: 0 | N12: =SUM(E12:K12) -> 56023 | O12: =E12/$N12 -> 0.36993735 | P12: =F12/$N12 -> 0.51544901 | Q12: =G12/$N12 -> 0.11461364 | R12: =H12/$N12 -> 0 | S12: =I12/$N12 -> 0 | T12: =J12/$N12 -> 0 | U12: =K12/$N12 -> 0
A13: E06000012 | B13: North East Lincolnshire | C13: LA | D13: =LOOKUP(A13,Lookup!A:A,Lookup!F:F) -> Humberside | E13: 10265 | F13: 15777 | G13: 2263 | H13: 0 | I13: 0 | J13: 0 | K13: =SUM(L13:M13) -> 0 | L13: 0 | M13: 0 | N13: =SUM(E13:K13) -> 28305 | O13: =E13/$N13 -> 0.36265677 | P13: =F13/$N13 -> 0.55739269 | Q13: =G13/$N13 -> 0.079950539 | R13: =H13/$N13 -> 0 | S13: =I13/$N13 -> 0 | T13: =J13/$N13 -> 0 | U13: =K13/$N13 -> 0
... A21: E06000020 | B21: Telford and Wrekin | C21: LA | D21: =LOOKUP(A21,Lookup!A:A,Lookup!F:F) -> West Mercia | E21: 14903 | F21: 20926 | G21: 2831 | H21: 0 | I21: 1844 | J21: 0 | K21: =SUM(L21:M21) -> 0 | L21: 0 | M21: 0 | N21: =SUM(E21:K21) -> 40504 | O21: =E21/$N21 -> 0.36793897 | P21: =F21/$N21 -> 0.51664033 | Q21: =G21/$N21 -> 0.069894331 | R21: =H21/$N21 -> 0 | S21: =I21/$N21 -> 0.045526368 | T21: =J21/$N21 -> 0 | U21: =K21/$N21 -> 0
A22: E06000021 | B22: Stoke-on-Trent | C22: LA | D22: =LOOKUP(A22,Lookup!A:A,Lookup!F:F) -> Staffordshire | E22: 11838 | F22: 16732 | G22: 824 | H22: 0 | I22: 760 | J22: 0 | K22: =SUM(L22:M22) -> 2258 | L22: 2258 | N22: =SUM(E22:K22) -> 32412 | O22: =E22/$N22 -> 0.3652351 | P22: =F22/$N22 -> 0.51622856 | Q22: =G22/$N22 -> 0.025422683 | R22: =H22/$N22 -> 0 | S22: =I22/$N22 -> 0.023448106 | T22: =J22/$N22 -> 0 | U22: =K22/$N22 -> 0.069665556
A23: E06000022 | B23: Bath and North East Somerset | C23: LA | D23: =LOOKUP(A23,Lookup!A:A,Lookup!F:F) -> Avon and Somerset | E23: 10980 | F23: 15209 | G23: 9403 | H23: 6381 | I23: 0 | J23: 0 | K23: =SUM(L23:M23) -> 5049 | L23: 5049 | M23: 0 | N23: =SUM(E23:K23) -> 47022 | O23: =E23/$N23 -> 0.23350772 | P23: =F23/$N23 -> 0.32344435 | Q23: =G23/$N23 -> 0.19997023 | R23: =H23/$N23 -> 0.13570244 | S23: =I23/$N23 -> 0 | T23: =J23/$N23 -> 0 | U23: =K23/$N23 -> 0.10737527
A24: E06000023 | B24: Bristol, City of | C24: LA | D24: =LOOKUP(A24,Lookup!A:A,Lookup!F:F) -> Avon and Somerset | E24: 45973 | F24: 28442 | G24: 13930 | H24: 37141 | I24: 0 | J24: 0 | K24: =SUM(L24:M24) -> 11097 | L24: 11097 | M24: 0 | N24: =SUM(E24:K24) -> 136583 | O24: =E24/$N24 -> 0.33659387 | P24: =F24/$N24 -> 0.20823968 | Q24: =G24/$N24 -> 0.10198927 | R24: =H24/$N24 -> 0.27192989 | S24: =I24/$N24 -> 0 | T24: =J24/$N24 -> 0 | U24: =K24/$N24 -> 0.0812473
A25: E06000024 | B25: North Somerset | C25: LA | D25: =LOOKUP(A25,Lookup!A:A,Lookup!F:F) -> Avon and Somerset | E25: 6882 | F25: 16524 | G25: 3825 | H25: 4490 | I25: 0 | J25: 0 | K25: =SUM(L25:M25) -> 7944 | L25: 7944 | M25: 0 | N25: =SUM(E25:K25) -> 39665 | O25: =E25/$N25 -> 0.17350309 | P25: =F25/$N25 -> 0.41658893 | Q25: =G25/$N25 -> 0.096432623 | R25: =H25/$N25 -> 0.11319803 | S25: =I25/$N25 -> 0 | T25: =J25/$N25 -> 0 | U25: =K25/$N25 -> 0.20027732
A26: E06000025 | B26: South Gloucestershire | C26: LA | D26: =LOOKUP(A26,Lookup!A:A,Lookup!F:F) -> Avon and Somerset | E26: 16332 | F26: 29225 | G26: 8716 | H26: 7002 | I26: 0 | J26: 0 | K26: =SUM(L26:M26) -> 7066 | L26: 7066 | M26: 0 | N26: =SUM(E26:K26) -> 68341 | O26: =E26/$N26 -> 0.23897807 | P26: =F26/$N26 -> 0.42763495 | Q26: =G26/$N26 -> 0.12753691 | R26: =H26/$N26 -> 0.1024568 | S26: =I26/$N26 -> 0 | T26: =J26/$N26 -> 0 | U26: =K26/$N26 -> 0.10339328
A27: E06000026 | B27: Plymouth | C27: LA | D27: =LOOKUP(A27,Lookup!A:A,Lookup!F:F) -> Devon & Cornwall | E27: 21923 | F27: 33836 | G27: 5824 | H27: 5888 | I27: 0 | J27: 0 | K27: =SUM(L27:M27) -> 0 | L27: 0 | M27: 0 | N27: =SUM(E27:K27) -> 67471 | O27: =E27/$N27 -> 0.32492478 | P27: =F27/$N27 -> 0.50148953 | Q27: =G27/$N27 -> 0.086318566 | R27: =H27/$N27 -> 0.087267122 | S27: =I27/$N27 -> 0 | T27: =J27/$N27 -> 0 | U27: =K27/$N27 -> 0
A28: E06000027 | B28: Torbay | C28: LA | D28: =LOOKUP(A28,Lookup!A:A,Lookup!F:F) -> Devon & Cornwall | E28: 3489 | F28: 14422 | G28: 5505 | H28: 1857 | I28: 0 | J28: 0 | K28: =SUM(L28:M28) -> 0 | L28: 0 | M28: 0 | N28: =SUM(E28:K28) -> 25273 | O28: =E28/$N28 -> 0.13805247 | P28: =F28/$N28 -> 0.57064852 | Q28: =G28/$N28 -> 0.21782139 | R28: =H28/$N28 -> 0.073477624 | S28: =I28/$N28 -> 0 | T28: =J28/$N28 -> 0 | U28: =K28/$N28 -> 0
A29: E06000030 | B29: Swindon | C29: LA | D29: =LOOKUP(A29,Lookup!A:A,Lookup!F:F) -> Wiltshire | E29: 18635 | F29: 25212 | G29: 4927 | H29: 3643 | I29: 1193 | J29: 0 | K29: =SUM(L29:M29) -> 6675 | L29: 6675 | M29: 0 | N29: =SUM(E29:K29) -> 60285 | O29: =E29/$N29 -> 0.30911504 | P29: =F29/$N29 -> 0.41821349 | Q29: =G29/$N29 -> 0.081728457 | R29: =H29/$N29 -> 0.060429626 | S29: =I29/$N29 -> 0.019789334 | T29: =J29/$N29 -> 0 | U29: =K29/$N29 -> 0.11072406
A30: E06000031 | B30: Peterborough | C30: LA | D30: =LOOKUP(A30,Lookup!A:A,Lookup!F:F) -> Cambridgeshire | E30: 18087 | F30: 22349 | G30: 4806 | H30: 0 | I30: 1879 | J30: 0 | K30: =SUM(L30:M30) -> 0 | L30: 0 | M30: 0 | N30: =SUM(E30:K30) -> 47121 | O30: =E30/$N30 -> 0.3838416 | P30: =F30/$N30 -> 0.47428959 | Q30: =G30/$N30 -> 0.10199274 | R30: =H30/$N30 -> 0 | S30: =I30/$N30 -> 0.039876064 | T30: =J30/$N30 -> 0 | U30: =K30/$N30 -> 0
A31: E06000032 | B31: Luton | C31: LA | D31: =LOOKUP(A31,Lookup!A:A,Lookup!F:F) -> Bedfordshire | E31: 18827 | F31: 10181 | G31: 2966 | H31: 0 | I31: 0 | J31: 0 | K31: =SUM(L31:M31) -> 2917 | L31: 1862 | M31: 1055 | N31: =SUM(E31:K31) -> 34891 | O31: =E31/$N31 -> 0.53959474 | P31: =F31/$N31 -> 0.29179445 | Q31: =G31/$N31 -> 0.085007595 | R31: =H31/$N31 -> 0 | S31: =I31/$N31 -> 0 | T31: =J31/$N31 -> 0 | U31: =K31/$N31 -> 0.083603221
A32: E06000033 | B32: Southend-on-Sea | C32: LA | D32: =LOOKUP(A32,Lookup!A:A,Lookup!F:F) -> Essex | E32: 13178 | F32: 21101 | G32: 4667 | H32: 0 | I32: 0 | J32: 0 | K32: =SUM(L32:M32) -> 4339 | L32: 4339 | N32: =SUM(E32:K32) -> 43285 | O32: =E32/$N32 -> 0.30444727 | P32: =F32/$N32 -> 0.48748989 | Q32: =G32/$N32 -> 0.10782026 | R32: =H32/$N32 -> 0 | S32: =I32/$N32 -> 0 | T32: =J32/$N32 -> 0 | U32: =K32/$N32 -> 0.10024258
A33: E06000034 | B33: Thurrock | C33: LA | D33: =LOOKUP(A33,Lookup!A:A,Lookup!F:F) -> Essex | E33: 10205 | F33: 15606 | G33: 1339 | H33: 0 | I33: 0 | J33: 0 | K33: =SUM(L33:M33) -> 4038 | L33: 4038 | N33: =SUM(E33:K33) -> 31188 | O33: =E33/$N33 -> 0.32720918 | P33: =F33/$N33 -> 0.50038476 | Q33: =G33/$N33 -> 0.042933179 | R33: =H33/$N33 -> 0 | S33: =I33/$N33 -> 0 | T33: =J33/$N33 -> 0 | U33: =K33/$N33 -> 0.12947287
A34: E06000035 | B34: Medway | C34: LA | D34: =LOOKUP(A34,Lookup!A:A,Lookup!F:F) -> Kent | E34: 11363 | F34: 22050 | G34: 4969 | H34: 0 | I34: 0 | J34: 0 | K34: =SUM(L34:M34) -> 0 | L34: 0 | M34: 0 | N34: =SUM(E34:K34) -> 38382 | O34: =E34/$N34 -> 0.29605023 | P34: =F34/$N34 -> 0.57448804 | Q34: =G34/$N34 -> 0.12946173 | R34: =H34/$N34 -> 0 | S34: =I34/$N34 -> 0 | T34: =J34/$N34 -> 0 | U34: =K34/$N34 -> 0
A35: E06000036 | B35: Bracknell Forest | C35: LA | D35: =LOOKUP(A35,Lookup!A:A,Lookup!F:F) -> Thames Valley | E35: 5012 | F35: 9598 | G35: 1607 | H35: 0 | I35: 0 | J35: 0 | K35: =SUM(L35:M35) -> 3239 | L35: 3239 | M35: 0 | N35: =SUM(E35:K35) -> 19456 | O35: =E35/$N35 -> 0.25760691 | P35: =F35/$N35 -> 0.49331826 | Q35: =G35/$N35 -> 0.082596628 | R35: =H35/$N35 -> 0 | S35: =I35/$N35 -> 0 | T35: =J35/$N35 -> 0 | U35: =K35/$N35 -> 0.16647821
A36: E06000037 | B36: West Berkshire | C36: LA | D36: =LOOKUP(A36,Lookup!A:A,Lookup!F:F) -> Thames Valley | E36: 5535 | F36: 15555 | G36: 4971 | H36: 0 | I36: 0 | J36: 0 | K36: =SUM(L36:M36) -> 5173 | L36: 5173 | M36: 0 | N36: =SUM(E36:K36) -> 31234 | O36: =E36/$N36 -> 0.17721073 | P36: =F36/$N36 -> 0.49801498 | Q36: =G36/$N36 -> 0.15915349 | R36: =H36/$N36 -> 0 | S36: =I36/$N36 -> 0 | T36: =J36/$N36 -> 0 | U36: =K36/$N36 -> 0.1656208
A37: E06000038 | B37: Reading | C37: LA | D37: =LOOKUP(A37,Lookup!A:A,Lookup!F:F) -> Thames Valley | E37: 19148 | F37: 13721 | G37: 4547 | H37: 0 | I37: 0 | J37: 0 | K37: =SUM(L37:M37) -> 3933 | L37: 3933 | M37: 0 | N37: =SUM(E37:K37) -> 41349 | O37: =E37/$N37 -> 0.46308254 | P37: =F37/$N37 -> 0.3318339 | Q37: =G37/$N37 -> 0.10996638 | R37: =H37/$N37 -> 0 | S37: =I37/$N37 -> 0 | T37: =J37/$N37 -> 0 | U37: =K37/$N37 -> 0.095117173
A38: E06000039 | B38: Slough | C38: LA | D38: =LOOKUP(A38,Lookup!A:A,Lookup!F:F) -> Thames Valley | E38: 16870 | F38: 9702 | G38: 1579 | H38: 0 | I38: 0 | J38: 0 | K38: =SUM(L38:M38) -> 2368 | L38: 2368 | M38: 0 | N38: =SUM(E38:K38) -> 30519 | O38: =E38/$N38 -> 0.55277041 | P38: =F38/$N38 -> 0.31790032 | Q38: =G38/$N38 -> 0.051738261 | R38: =H38/$N38 -> 0 | S38: =I38/$N38 -> 0 | T38: =J38/$N38 -> 0 | U38: =K38/$N38 -> 0.077591009
A39: E06000040 | B39: Windsor and Maidenhead | C39: LA | D39: =LOOKUP(A39,Lookup!A:A,Lookup!F:F) -> Thames Valley | E39: 5460 | F39: 11470 | G39: 3685 | H39: 0 | I39: 0 | J39: 0 | K39: =SUM(L39:M39) -> 4740 | L39: 4740 | M39: 0 | N39: =SUM(E39:K39) -> 25355 | O39: =E39/$N39 -> 0.21534214 | P39: =F39/$N39 -> 0.45237626 | Q39: =G39/$N39 -> 0.14533623 | R39: =H39/$N39 -> 0 | S39: =I39/$N39 -> 0 | T39: =J39/$N39 -> 0 | U39: =K39/$N39 -> 0.18694538
A40: E06000041 | B40: Wokingham | C40: LA | D40: =LOOKUP(A40,Lookup!A:A,Lookup!F:F) -> Thames Valley | E40: 10150 | F40: 24081 | G40: 12025 | H40: 0 | I40: 0 | J40: 0 | K40: =SUM(L40:M40) -> 6158 | L40: 6158 | M40: 0 | N40: =SUM(E40:K40) -> 52414 | O40: =E40/$N40 -> 0.19365055 | P40: =F40/$N40 -> 0.45943832 | Q40: =G40/$N40 -> 0.22942344 | R40: =H40/$N40 -> 0 | S40: =I40/$N40 -> 0 | T40: =J40/$N40 -> 0 | U40: =K40/$N40 -> 0.11748769
A41: E06000042 | B41: Milton Keynes | C41: LA | D41: =LOOKUP(A41,Lookup!A:A,Lookup!F:F) -> Thames Valley | E41: 24219 | F41: 30764 | G41: 8836 | H41: 0 | I41: 0 | J41: 0 | K41: =SUM(L41:M41) -> 6231 | L41: 6231 | M41: 0 | N41: =SUM(E41:K41) -> 70050 | O41: =E41/$N41 -> 0.34573876 | P41: =F41/$N41 -> 0.43917202 | Q41: =G41/$N41 -> 0.12613847 | R41: =H41/$N41 -> 0 | S41: =I41/$N41 -> 0 | T41: =J41/$N41 -> 0 | U41: =K41/$N41 -> 0.088950749
A42: E06000043 | B42: Brighton and Hove | C42: LA | D42: =LOOKUP(A42,Lookup!A:A,Lookup!F:F) -> Sussex | E42: 17513 | F42: 16515 | G42: 2693 | H42: 16462 | I42: 0 | J42: 0 | K42: =SUM(L42:M42) -> 2796 | L42: 2796 | M42: 0 | N42: =SUM(E42:K42) -> 55979 | O42: =E42/$N42 -> 0.31284946 | P42: =F42/$N42 -> 0.29502135 | Q42: =G42/$N42 -> 0.048107326 | R42: =H42/$N42 -> 0.29407456 | S42: =I42/$N42 -> 0 | T42: =J42/$N42 -> 0 | U42: =K42/$N42 -> 0.049947302
A43: E06000044 | B43: Portsmouth | C43: LA | D43: =LOOKUP(A43,Lookup!A:A,Lookup!F:F) -> Hampshire | E43: 14189 | F43: 19328 | G43: 8571 | H43: 0 | I43: 0 | J43: 0 | K43: =SUM(L43:M43) -> 4782 | L43: 4782 | M43: 0 | N43: =SUM(E43:K43) -> 46870 | O43: =E43/$N43 -> 0.30273096 | P43: =F43/$N43 -> 0.41237465 | Q43: =G43/$N43 -> 0.18286751 | R43: =H43/$N43 -> 0 | S43: =I43/$N43 -> 0 | T43: =J43/$N43 -> 0 | U43: =K43/$N43 -> 0.10202688
A44: E06000045 | B44: Southampton | C44: LA | D44: =LOOKUP(A44,Lookup!A:A,Lookup!F:F) -> Hampshire | E44: 21889 | F44: 23298 | G44: 4646 | H44: 0 | I44: 0 | J44: 0 | K44: =SUM(L44:M44) -> 5105 | L44: 5105 | M44: 0 | N44: =SUM(E44:K44) -> 54938 | O44: =E44/$N44 -> 0.39843096 | P44: =F44/$N44 -> 0.42407805 | Q44: =G44/$N44 -> 0.084568059 | R44: =H44/$N44 -> 0 | S44: =I44/$N44 -> 0 | T44: =J44/$N44 -> 0 | U44: =K44/$N44 -> 0.092922931
A45: E06000046 | B45: Isle of Wight | C45: LA | D45: =LOOKUP(A45,Lookup!A:A,Lookup!F:F) -> Hampshire | E45: 8448 | F45: 19400 | G45: 4178 | H45: 0 | I45: 0 | J45: 0 | K45: =SUM(L45:M45) -> 6902 | L45: 6902 | M45: 0 | N45: =SUM(E45:K45) -> 38928 | O45: =E45/$N45 -> 0.21701603 | P45: =F45/$N45 -> 0.49835594 | Q45: =G45/$N45 -> 0.10732635 | R45: =H45/$N45 -> 0 | S45: =I45/$N45 -> 0 | T45: =J45/$N45 -> 0 | U45: =K45/$N45 -> 0.17730169
... A54: E06000056 | B54: Central Bedfordshire | C54: LA | D54: =LOOKUP(A54,Lookup!A:A,Lookup!F:F) -> Bedfordshire | E54: 13056 | F54: 29269 | G54: 4933 | H54: 0 | I54: 0 | J54: 0 | K54: =SUM(L54:M54) -> 6022 | L54: 4609 | M54: 1413 | N54: =SUM(E54:K54) -> 53280 | O54: =E54/$N54 -> 0.24504504 | P54: =F54/$N54 -> 0.54934309 | Q54: =G54/$N54 -> 0.092586336 | R54: =H54/$N54 -> 0 | S54: =I54/$N54 -> 0 | T54: =J54/$N54 -> 0 | U54: =K54/$N54 -> 0.11302553
A55: E06000057 | B55: Northumberland | C55: LA | D55: =LOOKUP(A55,Lookup!A:A,Lookup!F:F) -> Northumbria | E55: 37981 | F55: 38179 | G55: 7539 | H55: 0 | I55: 0 | J55: 0 | K55: =SUM(L55:M55) -> 11792 | L55: 11792 | N55: =SUM(E55:K55) -> 95491 | O55: =E55/$N55 -> 0.39774429 | P55: =F55/$N55 -> 0.39981778 | Q55: =G55/$N55 -> 0.078949849 | R55: =H55/$N55 -> 0 | S55: =I55/$N55 -> 0 | T55: =J55/$N55 -> 0 | U55: =K55/$N55 -> 0.12348808
...

Sheet 2024 LA
A1: code | B1: name | C1: type | D1: pcc | E1: lab | F1: con | G1: lib | H1: grn | I1: ref | J1: pc | K1: oth_total | L1: oth1 | M1: oth2 | N1: total_vote | O1: lab | P1: con | Q1: lib | R1: grn | S1: ref | T1: pc | U1: oth_total | V1: winner
A2: E07000223 | B2: Adur | C2: LA | D2: =LOOKUP(A2,Lookup!A:A,Lookup!F:F) -> Sussex | E2: 7788 | F2: 5761 | G2: 1322 | H2: 1780 | I2: 0 | J2: 0 | K2: =SUM(L2:M2) -> 0 | N2: =SUM(E2:K2) -> 16651 | O2: =E2/$N2 -> 0.46771966 | P2: =F2/$N2 -> 0.34598523 | Q2: =G2/$N2 -> 0.079394631 | R2: =H2/$N2 -> 0.10690049 | S2: =I2/$N2 -> 0 | T2: =J2/$N2 -> 0 | U2: =K2/$N2 -> 0 | V2: =IF(O2=MAX(O2:U2),"Lab",IF(P2=MAX(O2:U2),"Con",IF(Q2=MAX(O2:U2),"Lib","Other"))) -> Lab
A3: E07000032 | B3: Amber Valley | C3: LA | D3: =LOOKUP(A3,Lookup!A:A,Lookup!F:F) -> Derbyshire | E3: 11594 | F3: 9345 | G3: 2462 | H3: 0 | I3: 5192 | J3: 0 | K3: =SUM(L3:M3) -> 0 | N3: =SUM(E3:K3) -> 28593 | O3: =E3/$N3 -> 0.40548386 | P3: =F3/$N3 -> 0.32682824 | Q3: =G3/$N3 -> 0.086104991 | R3: =H3/$N3 -> 0 | S3: =I3/$N3 -> 0.1815829 | T3: =J3/$N3 -> 0 | U3: =K3/$N3 -> 0 | V3: =IF(O3=MAX(O3:U3),"Lab",IF(P3=MAX(O3:U3),"Con",IF(Q3=MAX(O3:U3),"Lib","Other"))) -> Lab
A4: E07000224 | B4: Arun | C4: LA | D4: =LOOKUP(A4,Lookup!A:A,Lookup!F:F) -> Sussex | E4: 6932 | F4: 13429 | G4: 4404 | H4: 3164 | I4: 0 | J4: 0 | K4: =SUM(L4:M4) -> 0 | N4: =SUM(E4:K4) -> 27929 | O4: =E4/$N4 -> 0.24820079 | P4: =F4/$N4 -> 0.48082638 | Q4: =G4/$N4 -> 0.15768556 | R4: =H4/$N4 -> 0.11328726 | S4: =I4/$N4 -> 0 | T4: =J4/$N4 -> 0 | U4: =K4/$N4 -> 0 | V4: =IF(O4=MAX(O4:U4),"Lab",IF(P4=MAX(O4:U4),"Con",IF(Q4=MAX(O4:U4),"Lib","Other"))) -> Con
A5: E07000170 | B5: Ashfield | C5: LA | D5: =LOOKUP(A5,Lookup!A:A,Lookup!F:F) -> Nottinghamshire | E5: 10237 | F5: 7757 | G5: 3329 | H5: 0 | I5: 0 | J5: 0 | K5: =SUM(L5:M5) -> 0 | N5: =SUM(E5:K5) -> 21323 | O5: =E5/$N5 -> 0.48009192 | P5: =F5/$N5 -> 0.36378558 | Q5: =G5/$N5 -> 0.1561225 | R5: =H5/$N5 -> 0 | S5: =I5/$N5 -> 0 | T5: =J5/$N5 -> 0 | U5: =K5/$N5 -> 0 | V5: =IF(O5=MAX(O5:U5),"Lab",IF(P5=MAX(O5:U5),"Con",IF(Q5=MAX(O5:U5),"Lib","Other"))) -> Lab
A6: E07000105 | B6: Ashford | C6: LA | D6: =LOOKUP(A6,Lookup!A:A,Lookup!F:F) -> Kent | E6: 6209 | F6: 8746 | G6: 3429 | H6: 0 | I6: 0 | J6: 0 | K6: =SUM(L6:M6) -> 0 | N6: =SUM(E6:K6) -> 18384 | O6: =E6/$N6 -> 0.33773934 | P6: =F6/$N6 -> 0.47573977 | Q6: =G6/$N6 -> 0.18652089 | R6: =H6/$N6 -> 0 | S6: =I6/$N6 -> 0 | T6: =J6/$N6 -> 0 | U6: =K6/$N6 -> 0 | V6: =IF(O6=MAX(O6:U6),"Lab",IF(P6=MAX(O6:U6),"Con",IF(Q6=MAX(O6:U6),"Lib","Other"))) -> Con
A7: E07000200 | B7: Babergh | C7: LA | D7: =LOOKUP(A7,Lookup!A:A,Lookup!F:F) -> Suffolk | E7: 4087 | F7: 6717 | G7: 1813 | H7: 2430 | I7: 0 | J7: 0 | K7: =SUM(L7:M7) -> 0 | N7: =SUM(E7:K7) -> 15047 | O7: =E7/$N7 -> 0.2716156 | P7: =F7/$N7 -> 0.44640128 | Q7: =G7/$N7 -> 0.12048913 | R7: =H7/$N7 -> 0.16149399 | S7: =I7/$N7 -> 0 | T7: =J7/$N7 -> 0 | U7: =K7/$N7 -> 0 | V7: =IF(O7=MAX(O7:U7),"Lab",IF(P7=MAX(O7:U7),"Con",IF(Q7=MAX(O7:U7),"Lib","Other"))) -> Con
A8: E07000066 | B8: Basildon | C8: LA | D8: =LOOKUP(A8,Lookup!A:A,Lookup!F:F) -> Essex | E8: 12096 | F8: 13181 | G8: 3860 | H8: 0 | I8: 0 | J8: 0 | K8: =SUM(L8:M8) -> 5042 | L8: 5042 | N8: =SUM(E8:K8) -> 34179 | O8: =E8/$N8 -> 0.35390152 | P8: =F8/$N8 -> 0.38564616 | Q8: =G8/$N8 -> 0.11293484 | R8: =H8/$N8 -> 0 | S8: =I8/$N8 -> 0 | T8: =J8/$N8 -> 0 | U8: =K8/$N8 -> 0.14751748 | V8: =IF(O8=MAX(O8:U8),"Lab",IF(P8=MAX(O8:U8),"Con",IF(Q8=MAX(O8:U8),"Lib","Other"))) -> Con
A9: E07000084 | B9: Basingstoke and Deane | C9: LA | D9: =LOOKUP(A9,Lookup!A:A,Lookup!F:F) -> Hampshire | E9: 13013 | F9: 17714 | G9: 7971 | H9: 0 | I9: 0 | J9: 0 | K9: =SUM(L9:M9) -> 4611 | L9: 4611 | N9: =SUM(E9:K9) -> 43309 | O9: =E9/$N9 -> 0.30046872 | P9: =F9/$N9 -> 0.40901429 | Q9: =G9/$N9 -> 0.1840495 | R9: =H9/$N9 -> 0 | S9: =I9/$N9 -> 0 | T9: =J9/$N9 -> 0 | U9: =K9/$N9 -> 0.10646748 | V9: =IF(O9=MAX(O9:U9),"Lab",IF(P9=MAX(O9:U9),"Con",IF(Q9=MAX(O9:U9),"Lib","Other"))) -> Con
A10: E07000171 | B10: Bassetlaw | C10: LA | D10: =LOOKUP(A10,Lookup!A:A,Lookup!F:F) -> Nottinghamshire | E10: 11180 | F10: 8268 | G10: 2324 | H10: 0 | I10: 0 | J10: 0 | K10: =SUM(L10:M10) -> 0 | N10: =SUM(E10:K10) -> 21772 | O10: =E10/$N10 -> 0.51350358 | P10: =F10/$N10 -> 0.37975381 | Q10: =G10/$N10 -> 0.10674261 | R10: =H10/$N10 -> 0 | S10: =I10/$N10 -> 0 | T10: =J10/$N10 -> 0 | U10: =K10/$N10 -> 0 | V10: =IF(O10=MAX(O10:U10),"Lab",IF(P10=MAX(O10:U10),"Con",IF(Q10=MAX(O10:U10),"Lib","Other"))) -> Lab
A11: E06000022 | B11: Bath and North East Somerset | C11: LA | D11: =LOOKUP(A11,Lookup!A:A,Lookup!F:F) -> Avon and Somerset | E11: 9526 | F11: 10281 | G11: 4859 | H11: 5088 | I11: 0 | J11: 0 | K11: =SUM(L11:M11) -> 0 | N11: =SUM(E11:K11) -> 29754 | O11: =E11/$N11 -> 0.32015863 | P11: =F11/$N11 -> 0.34553337 | Q11: =G11/$N11 -> 0.16330577 | R11: =H11/$N11 -> 0.17100222 | S11: =I11/$N11 -> 0 | T11: =J11/$N11 -> 0 | U11: =K11/$N11 -> 0 | V11: =IF(O11=MAX(O11:U11),"Lab",IF(P11=MAX(O11:U11),"Con",IF(Q11=MAX(O11:U11),"Lib","Other"))) -> Con
A12: E06000055 | B12: Bedford | C12: LA | D12: =LOOKUP(A12,Lookup!A:A,Lookup!F:F) -> Bedfordshire | E12: 10930 | F12: 10758 | G12: 5194 | H12: 0 | I12: 0 | J12: 0 | K12: =SUM(L12:M12) -> 1407 | L12: 1407 | N12: =SUM(E12:K12) -> 28289 | O12: =E12/$N12 -> 0.38636926 | P12: =F12/$N12 -> 0.38028916 | Q12: =G12/$N12 -> 0.18360493 | R12: =H12/$N12 -> 0 | S12: =I12/$N12 -> 0 | T12: =J12/$N12 -> 0 | U12: =K12/$N12 -> 0.049736647 | V12: =IF(O12=MAX(O12:U12),"Lab",IF(P12=MAX(O12:U12),"Con",IF(Q12=MAX(O12:U12),"Lib","Other"))) -> Lab
A13: E08000025 | B13: Birmingham | C13: LA | D13: =LOOKUP(A13,Lookup!A:A,Lookup!F:F) -> West Midlands | E13: 125631 | F13: 77798 | G13: 0 | H13: 0 | I13: 0 | J13: 0 | K13: =SUM(L13:M13) -> 0 | N13: =SUM(E13:K13) -> 203429 | O13: =E13/$N13 -> 0.61756682 | P13: =F13/$N13 -> 0.38243318 | Q13: =G13/$N13 -> 0 | R13: =H13/$N13 -> 0 | S13: =I13/$N13 -> 0 | T13: =J13/$N13 -> 0 | U13: =K13/$N13 -> 0 | V13: =IF(O13=MAX(O13:U13),"Lab",IF(P13=MAX(O13:U13),"Con",IF(Q13=MAX(O13:U13),"Lib","Other"))) -> Lab
A14: E07000129 | B14: Blaby | C14: LA | D14: =LOOKUP(A14,Lookup!A:A,Lookup!F:F) -> Leicestershire | E14: 4241 | F14: 5179 | G14: 2032 | H14: 963 | I14: 0 | J14: 0 | K14: =SUM(L14:M14) -> 262 | L14: 262 | N14: =SUM(E14:K14) -> 12677 | O14: =E14/$N14 -> 0.33454287 | P14: =F14/$N14 -> 0.40853514 | Q14: =G14/$N14 -> 0.16029029 | R14: =H14/$N14 -> 0.075964345 | S14: =I14/$N14 -> 0 | T14: =J14/$N14 -> 0 | U14: =K14/$N14 -> 0.02066735 | V14: =IF(O14=MAX(O14:U14),"Lab",IF(P14=MAX(O14:U14),"Con",IF(Q14=MAX(O14:U14),"Lib","Other"))) -> Con
A15: E06000008 | B15: Blackburn with Darwen | C15: LA | D15: =LOOKUP(A15,Lookup!A:A,Lookup!F:F) -> Lancashire | E15: 12886 | F15: 7377 | G15: 9500 | H15: 0 | I15: 0 | J15: 0 | K15: =SUM(L15:M15) -> 0 | N15: =SUM(E15:K15) -> 29763 | O15: =E15/$N15 -> 0.43295367 | P15: =F15/$N15 -> 0.24785808 | Q15: =G15/$N15 -> 0.31918825 | R15: =H15/$N15 -> 0 | S15: =I15/$N15 -> 0 | T15: =J15/$N15 -> 0 | U15: =K15/$N15 -> 0 | V15: =IF(O15=MAX(O15:U15),"Lab",IF(P15=MAX(O15:U15),"Con",IF(Q15=MAX(O15:U15),"Lib","Other"))) -> Lab
A16: E06000009 | B16: Blackpool | C16: LA | D16: =LOOKUP(A16,Lookup!A:A,Lookup!F:F) -> Lancashire | E16: 15115 | F16: 8246 | G16: 2329 | H16: 0 | I16: 0 | J16: 0 | K16: =SUM(L16:M16) -> 0 | N16: =SUM(E16:K16) -> 25690 | O16: =E16/$N16 -> 0.58836123 | P16: =F16/$N16 -> 0.32098093 | Q16: =G16/$N16 -> 0.090657844 | R16: =H16/$N16 -> 0 | S16: =I16/$N16 -> 0 | T16: =J16/$N16 -> 0 | U16: =K16/$N16 -> 0 | V16: =IF(O16=MAX(O16:U16),"Lab",IF(P16=MAX(O16:U16),"Con",IF(Q16=MAX(O16:U16),"Lib","Other"))) -> Lab
A17: W06000019 | B17: Blaenau Gwent | C17: LA | D17: =LOOKUP(A17,Lookup!A:A,Lookup!F:F) -> Gwent | E17: 3057 | F17: 1362 | G17: 554 | H17: 0 | I17: 0 | J17: 1065 | K17: =SUM(L17:M17) -> 0 | N17: =SUM(E17:K17) -> 6038 | O17: =E17/$N17 -> 0.50629347 | P17: =F17/$N17 -> 0.22557138 | Q17: =G17/$N17 -> 0.091752236 | R17: =H17/$N17 -> 0 | S17: =I17/$N17 -> 0 | T17: =J17/$N17 -> 0.17638291 | U17: =K17/$N17 -> 0 | V17: =IF(O17=MAX(O17:U17),"Lab",IF(P17=MAX(O17:U17),"Con",IF(Q17=MAX(O17:U17),"Lib","Other"))) -> Lab
A18: E07000033 | B18: Bolsover | C18: LA | D18: =LOOKUP(A18,Lookup!A:A,Lookup!F:F) -> Derbyshire | E18: 6538 | F18: 3634 | G18: 1085 | H18: 0 | I18: 2523 | J18: 0 | K18: =SUM(L18:M18) -> 0 | N18: =SUM(E18:K18) -> 13780 | O18: =E18/$N18 -> 0.47445573 | P18: =F18/$N18 -> 0.26371553 | Q18: =G18/$N18 -> 0.0787373 | R18: =H18/$N18 -> 0 | S18: =I18/$N18 -> 0.18309144 | T18: =J18/$N18 -> 0 | U18: =K18/$N18 -> 0 | V18: =IF(O18=MAX(O18:U18),"Lab",IF(P18=MAX(O18:U18),"Con",IF(Q18=MAX(O18:U18),"Lib","Other"))) -> Lab
A19: E07000136 | B19: Boston | C19: LA | D19: =LOOKUP(A19,Lookup!A:A,Lookup!F:F) -> Lincolnshire | E19: 1743 | F19: 2727 | G19: 661 | H19: 0 | I19: 1356 | J19: 0 | K19: =SUM(L19:M19) -> 956 | L19: 956 | N19: =SUM(E19:K19) -> 7443 | O19: =E19/$N19 -> 0.23417977 | P19: =F19/$N19 -> 0.36638452 | Q19: =G19/$N19 -> 0.088808276 | R19: =H19/$N19 -> 0 | S19: =I19/$N19 -> 0.1821846 | T19: =J19/$N19 -> 0 | U19: =K19/$N19 -> 0.12844283 | V19: =IF(O19=MAX(O19:U19),"Lab",IF(P19=MAX(O19:U19),"Con",IF(Q19=MAX(O19:U19),"Lib","Other"))) -> Con
A20: E06000058 | B20: Bournemouth, Christchurch and Poole | C20: LA | D20: =LOOKUP(A20,Lookup!A:A,Lookup!F:F) -> Dorset | E20: 14325 | F20: 20782 | G20: 6754 | H20: 0 | I20: 0 | J20: 0 | K20: =SUM(L20:M20) -> 13624 | L20: 13624 | N20: =SUM(E20:K20) -> 55485 | O20: =E20/$N20 -> 0.25817789 | P20: =F20/$N20 -> 0.37455168 | Q20: =G20/$N20 -> 0.12172659 | R20: =H20/$N20 -> 0 | S20: =I20/$N20 -> 0 | T20: =J20/$N20 -> 0 | U20: =K20/$N20 -> 0.24554384 | V20: =IF(O20=MAX(O20:U20),"Lab",IF(P20=MAX(O20:U20),"Con",IF(Q20=MAX(O20:U20),"Lib","Other"))) -> Con
A21: E06000036 | B21: Bracknell Forest | C21: LA | D21: =LOOKUP(A21,Lookup!A:A,Lookup!F:F) -> Thames Valley | E21: 4795 | F21: 5295 | G21: 1565 | H21: 0 | I21: 0 | J21: 0 | K21: =SUM(L21:M21) -> 2726 | L21: 1734 | M21: 992 | N21: =SUM(E21:K21) -> 14381 | O21: =E21/$N21 -> 0.33342605 | P21: =F21/$N21 -> 0.36819415 | Q21: =G21/$N21 -> 0.10882414 | R21: =H21/$N21 -> 0 | S21: =I21/$N21 -> 0 | T21: =J21/$N21 -> 0 | U21: =K21/$N21 -> 0.18955566 | V21: =IF(O21=MAX(O21:U21),"Lab",IF(P21=MAX(O21:U21),"Con",IF(Q21=MAX(O21:U21),"Lib","Other"))) -> Con
A22: E07000067 | B22: Braintree | C22: LA | D22: =LOOKUP(A22,Lookup!A:A,Lookup!F:F) -> Essex | E22: 7878 | F22: 8849 | G22: 2107 | H22: 0 | I22: 0 | J22: 0 | K22: =SUM(L22:M22) -> 2797 | L22: 2797 | N22: =SUM(E22:K22) -> 21631 | O22: =E22/$N22 -> 0.36419953 | P22: =F22/$N22 -> 0.40908881 | Q22: =G22/$N22 -> 0.0974065 | R22: =H22/$N22 -> 0 | S22: =I22/$N22 -> 0 | T22: =J22/$N22 -> 0 | U22: =K22/$N22 -> 0.12930516 | V22: =IF(O22=MAX(O22:U22),"Lab",IF(P22=MAX(O22:U22),"Con",IF(Q22=MAX(O22:U22),"Lib","Other"))) -> Con
A23: E07000143 | B23: Breckland | C23: LA | D23: =LOOKUP(A23,Lookup!A:A,Lookup!F:F) -> Norfolk | E23: 6171 | F23: 7519 | G23: 2388 | H23: 2048 | I23: 0 | J23: 0 | K23: =SUM(L23:M23) -> 0 | N23: =SUM(E23:K23) -> 18126 | O23: =E23/$N23 -> 0.34045018 | P23: =F23/$N23 -> 0.41481849 | Q23: =G23/$N23 -> 0.13174446 | R23: =H23/$N23 -> 0.11298687 | S23: =I23/$N23 -> 0 | T23: =J23/$N23 -> 0 | U23: =K23/$N23 -> 0 | V23: =IF(O23=MAX(O23:U23),"Lab",IF(P23=MAX(O23:U23),"Con",IF(Q23=MAX(O23:U23),"Lib","Other"))) -> Con
A24: E07000068 | B24: Brentwood | C24: LA | D24: =LOOKUP(A24,Lookup!A:A,Lookup!F:F) -> Essex | E24: 3956 | F24: 7903 | G24: 5896 | H24: 0 | I24: 0 | J24: 0 | K24: =SUM(L24:M24) -> 1740 | L24: 1740 | N24: =SUM(E24:K24) -> 19495 | O24: =E24/$N24 -> 0.20292383 | P24: =F24/$N24 -> 0.405386 | Q24: =G24/$N24 -> 0.30243652 | R24: =H24/$N24 -> 0 | S24: =I24/$N24 -> 0 | T24: =J24/$N24 -> 0 | U24: =K24/$N24 -> 0.089253655 | V24: =IF(O24=MAX(O24:U24),"Lab",IF(P24=MAX(O24:U24),"Con",IF(Q24=MAX(O24:U24),"Lib","Other"))) -> Con
A25: W06000013 | B25: Bridgend | C25: LA | D25: =LOOKUP(A25,Lookup!A:A,Lookup!F:F) -> South Wales | E25: 7375 | F25: 4758 | G25: 1483 | H25: 0 | I25: 0 | J25: 2453 | K25: =SUM(L25:M25) -> 0 | N25: =SUM(E25:K25) -> 16069 | O25: =E25/$N25 -> 0.45895824 | P25: =F25/$N25 -> 0.29609808 | Q25: =G25/$N25 -> 0.092289502 | R25: =H25/$N25 -> 0 | S25: =I25/$N25 -> 0 | T25: =J25/$N25 -> 0.15265418 | U25: =K25/$N25 -> 0 | V25: =IF(O25=MAX(O25:U25),"Lab",IF(P25=MAX(O25:U25),"Con",IF(Q25=MAX(O25:U25),"Lib","Other"))) -> Lab
A26: E06000043 | B26: Brighton and Hove | C26: LA | D26: =LOOKUP(A26,Lookup!A:A,Lookup!F:F) -> Sussex | E26: 22053 | F26: 10308 | G26: 3198 | H26: 9042 | I26: 0 | J26: 0 | K26: =SUM(L26:M26) -> 0 | N26: =SUM(E26:K26) -> 44601 | O26: =E26/$N26 -> 0.4944508 | P26: =F26/$N26 -> 0.23111589 | Q26: =G26/$N26 -> 0.071702428 | R26: =H26/$N26 -> 0.20273088 | S26: =I26/$N26 -> 0 | T26: =J26/$N26 -> 0 | U26: =K26/$N26 -> 0 | V26: =IF(O26=MAX(O26:U26),"Lab",IF(P26=MAX(O26:U26),"Con",IF(Q26=MAX(O26:U26),"Lib","Other"))) -> Lab
A27: E06000023 | B27: Bristol, City of | C27: LA | D27: =LOOKUP(A27,Lookup!A:A,Lookup!F:F) -> Avon and Somerset | E27: 47220 | F27: 19788 | G27: 10412 | H27: 37375 | I27: 0 | J27: 0 | K27: =SUM(L27:M27) -> 0 | N27: =SUM(E27:K27) -> 114795 | O27: =E27/$N27 -> 0.41134196 | P27: =F27/$N27 -> 0.17237685 | Q27: =G27/$N27 -> 0.090700815 | R27: =H27/$N27 -> 0.32558038 | S27: =I27/$N27 -> 0 | T27: =J27/$N27 -> 0 | U27: =K27/$N27 -> 0 | V27: =IF(O27=MAX(O27:U27),"Lab",IF(P27=MAX(O27:U27),"Con",IF(Q27=MAX(O27:U27),"Lib","Other"))) -> Lab
A28: E07000144 | B28: Broadland | C28: LA | D28: =LOOKUP(A28,Lookup!A:A,Lookup!F:F) -> Norfolk | E28: 7474 | F28: 8875 | G28: 2993 | H28: 2808 | I28: 0 | J28: 0 | K28: =SUM(L28:M28) -> 0 | N28: =SUM(E28:K28) -> 22150 | O28: =E28/$N28 -> 0.33742664 | P28: =F28/$N28 -> 0.4006772 | Q28: =G28/$N28 -> 0.13512415 | R28: =H28/$N28 -> 0.12677201 | S28: =I28/$N28 -> 0 | T28: =J28/$N28 -> 0 | U28: =K28/$N28 -> 0 | V28: =IF(O28=MAX(O28:U28),"Lab",IF(P28=MAX(O28:U28),"Con",IF(Q28=MAX(O28:U28),"Lib","Other"))) -> Con
A29: E07000234 | B29: Bromsgrove | C29: LA | D29: =LOOKUP(A29,Lookup!A:A,Lookup!F:F) -> West Mercia | E29: 4326 | F29: 6299 | G29: 2196 | H29: 950 | I29: 0 | J29: 0 | K29: =SUM(L29:M29) -> 1464 | L29: 1464 | N29: =SUM(E29:K29) -> 15235 | O29: =E29/$N29 -> 0.28395143 | P29: =F29/$N29 -> 0.41345586 | Q29: =G29/$N29 -> 0.14414178 | R29: =H29/$N29 -> 0.062356416 | S29: =I29/$N29 -> 0 | T29: =J29/$N29 -> 0 | U29: =K29/$N29 -> 0.096094519 | V29: =IF(O29=MAX(O29:U29),"Lab",IF(P29=MAX(O29:U29),"Con",IF(Q29=MAX(O29:U29),"Lib","Other"))) -> Con
A30: E07000095 | B30: Broxbourne | C30: LA | D30: =LOOKUP(A30,Lookup!A:A,Lookup!F:F) -> Hertfordshire | E30: 5685 | F30: 10125 | G30: 1398 | H30: 1807 | I30: 0 | J30: 0 | K30: =SUM(L30:M30) -> 0 | N30: =SUM(E30:K30) -> 19015 | O30: =E30/$N30 -> 0.29897449 | P30: =F30/$N30 -> 0.53247436 | Q30: =G30/$N30 -> 0.073520905 | R30: =H30/$N30 -> 0.095030239 | S30: =I30/$N30 -> 0 | T30: =J30/$N30 -> 0 | U30: =K30/$N30 -> 0 | V30: =IF(O30=MAX(O30:U30),"Lab",IF(P30=MAX(O30:U30),"Con",IF(Q30=MAX(O30:U30),"Lib","Other"))) -> Con
A31: E07000172 | B31: Broxtowe | C31: LA | D31: =LOOKUP(A31,Lookup!A:A,Lookup!F:F) -> Nottinghamshire | E31: 14984 | F31: 8229 | G31: 5834 | H31: 0 | I31: 0 | J31: 0 | K31: =SUM(L31:M31) -> 0 | N31: =SUM(E31:K31) -> 29047 | O31: =E31/$N31 -> 0.51585362 | P31: =F31/$N31 -> 0.28329948 | Q31: =G31/$N31 -> 0.2008469 | R31: =H31/$N31 -> 0 | S31: =I31/$N31 -> 0 | T31: =J31/$N31 -> 0 | U31: =K31/$N31 -> 0 | V31: =IF(O31=MAX(O31:U31),"Lab",IF(P31=MAX(O31:U31),"Con",IF(Q31=MAX(O31:U31),"Lib","Other"))) -> Lab
A32: E06000060 | B32: Buckinghamshire | C32: LA | D32: =LOOKUP(A32,Lookup!A:A,Lookup!F:F) -> Thames Valley | E32: 21403 | F32: 28706 | G32: 12372 | H32: 0 | I32: 0 | J32: 0 | K32: =SUM(L32:M32) -> 13797 | L32: 7876 | M32: 5921 | N32: =SUM(E32:K32) -> 76278 | O32: =E32/$N32 -> 0.28059204 | P32: =F32/$N32 -> 0.37633394 | Q32: =G32/$N32 -> 0.16219618 | R32: =H32/$N32 -> 0 | S32: =I32/$N32 -> 0 | T32: =J32/$N32 -> 0 | U32: =K32/$N32 -> 0.18087784 | V32: =IF(O32=MAX(O32:U32),"Lab",IF(P32=MAX(O32:U32),"Con",IF(Q32=MAX(O32:U32),"Lib","Other"))) -> Con
A33: E07000117 | B33: Burnley | C33: LA | D33: =LOOKUP(A33,Lookup!A:A,Lookup!F:F) -> Lancashire | E33: 8140 | F33: 5897 | G33: 4096 | H33: 0 | I33: 0 | J33: 0 | K33: =SUM(L33:M33) -> 0 | N33: =SUM(E33:K33) -> 18133 | O33: =E33/$N33 -> 0.44890531 | P33: =F33/$N33 -> 0.32520818 | Q33: =G33/$N33 -> 0.22588651 | R33: =H33/$N33 -> 0 | S33: =I33/$N33 -> 0 | T33: =J33/$N33 -> 0 | U33: =K33/$N33 -> 0 | V33: =IF(O33=MAX(O33:U33),"Lab",IF(P33=MAX(O33:U33),"Con",IF(Q33=MAX(O33:U33),"Lib","Other"))) -> Lab
A34: W06000018 | B34: Caerphilly | C34: LA | D34: =LOOKUP(A34,Lookup!A:A,Lookup!F:F) -> Gwent | E34: 7635 | F34: 4518 | G34: 1723 | H34: 0 | I34: 0 | J34: 4315 | K34: =SUM(L34:M34) -> 0 | N34: =SUM(E34:K34) -> 18191 | O34: =E34/$N34 -> 0.41971304 | P34: =F34/$N34 -> 0.24836458 | Q34: =G34/$N34 -> 0.094717168 | R34: =H34/$N34 -> 0 | S34: =I34/$N34 -> 0 | T34: =J34/$N34 -> 0.23720521 | U34: =K34/$N34 -> 0 | V34: =IF(O34=MAX(O34:U34),"Lab",IF(P34=MAX(O34:U34),"Con",IF(Q34=MAX(O34:U34),"Lib","Other"))) -> Lab
A35: E07000008 | B35: Cambridge | C35: LA | D35: =LOOKUP(A35,Lookup!A:A,Lookup!F:F) -> Cambridgeshire | E35: 16341 | F35: 7847 | G35: 8468 | H35: 0 | I35: 0 | J35: 0 | K35: =SUM(L35:M35) -> 0 | N35: =SUM(E35:K35) -> 32656 | O35: =E35/$N35 -> 0.50039809 | P35: =F35/$N35 -> 0.24029275 | Q35: =G35/$N35 -> 0.25930916 | R35: =H35/$N35 -> 0 | S35: =I35/$N35 -> 0 | T35: =J35/$N35 -> 0 | U35: =K35/$N35 -> 0 | V35: =IF(O35=MAX(O35:U35),"Lab",IF(P35=MAX(O35:U35),"Con",IF(Q35=MAX(O35:U35),"Lib","Other"))) -> Lab
A36: E07000192 | B36: Cannock Chase | C36: LA | D36: =LOOKUP(A36,Lookup!A:A,Lookup!F:F) -> Staffordshire | E36: 8747 | F36: 8151 | G36: 1812 | H36: 0 | I36: 0 | J36: 0 | K36: =SUM(L36:M36) -> 0 | N36: =SUM(E36:K36) -> 18710 | O36: =E36/$N36 -> 0.46750401 | P36: =F36/$N36 -> 0.43564939 | Q36: =G36/$N36 -> 0.096846606 | R36: =H36/$N36 -> 0 | S36: =I36/$N36 -> 0 | T36: =J36/$N36 -> 0 | U36: =K36/$N36 -> 0 | V36: =IF(O36=MAX(O36:U36),"Lab",IF(P36=MAX(O36:U36),"Con",IF(Q36=MAX(O36:U36),"Lib","Other"))) -> Lab
A37: E07000106 | B37: Canterbury | C37: LA | D37: =LOOKUP(A37,Lookup!A:A,Lookup!F:F) -> Kent | E37: 8869 | F37: 8175 | G37: 4762 | H37: 0 | I37: 0 | J37: 0 | K37: =SUM(L37:M37) -> 0 | N37: =SUM(E37:K37) -> 21806 | O37: =E37/$N37 -> 0.40672292 | P37: =F37/$N37 -> 0.37489682 | Q37: =G37/$N37 -> 0.21838026 | R37: =H37/$N37 -> 0 | S37: =I37/$N37 -> 0 | T37: =J37/$N37 -> 0 | U37: =K37/$N37 -> 0 | V37: =IF(O37=MAX(O37:U37),"Lab",IF(P37=MAX(O37:U37),"Con",IF(Q37=MAX(O37:U37),"Lib","Other"))) -> Lab
A38: W06000015 | B38: Cardiff | C38: LA | D38: =LOOKUP(A38,Lookup!A:A,Lookup!F:F) -> South Wales | E38: 20777 | F38: 12049 | G38: 6369 | H38: 0 | I38: 0 | J38: 7668 | K38: =SUM(L38:M38) -> 0 | N38: =SUM(E38:K38) -> 46863 | O38: =E38/$N38 -> 0.44335617 | P38: =F38/$N38 -> 0.25711115 | Q38: =G38/$N38 -> 0.13590679 | R38: =H38/$N38 -> 0 | S38: =I38/$N38 -> 0 | T38: =J38/$N38 -> 0.16362589 | U38: =K38/$N38 -> 0 | V38: =IF(O38=MAX(O38:U38),"Lab",IF(P38=MAX(O38:U38),"Con",IF(Q38=MAX(O38:U38),"Lib","Other"))) -> Lab
A39: W06000010 | B39: Carmarthenshire | C39: LA | D39: =LOOKUP(A39,Lookup!A:A,Lookup!F:F) -> Dyfed-Powys | E39: 7395 | F39: 5430 | G39: 2031 | H39: 0 | I39: 0 | J39: 14739 | K39: =SUM(L39:M39) -> 0 | N39: =SUM(E39:K39) -> 29595 | O39: =E39/$N39 -> 0.24987329 | P39: =F39/$N39 -> 0.18347694 | Q39: =G39/$N39 -> 0.068626457 | R39: =H39/$N39 -> 0 | S39: =I39/$N39 -> 0 | T39: =J39/$N39 -> 0.49802331 | U39: =K39/$N39 -> 0 | V39: =IF(O39=MAX(O39:U39),"Lab",IF(P39=MAX(O39:U39),"Con",IF(Q39=MAX(O39:U39),"Lib","Other"))) -> Other
A40: E07000069 | B40: Castle Point | C40: LA | D40: =LOOKUP(A40,Lookup!A:A,Lookup!F:F) -> Essex | E40: 4997 | F40: 7690 | G40: 1671 | H40: 0 | I40: 0 | J40: 0 | K40: =SUM(L40:M40) -> 4913 | L40: 4913 | N40: =SUM(E40:K40) -> 19271 | O40: =E40/$N40 -> 0.25930154 | P40: =F40/$N40 -> 0.3990452 | Q40: =G40/$N40 -> 0.086710601 | R40: =H40/$N40 -> 0 | S40: =I40/$N40 -> 0 | T40: =J40/$N40 -> 0 | U40: =K40/$N40 -> 0.25494266 | V40: =IF(O40=MAX(O40:U40),"Lab",IF(P40=MAX(O40:U40),"Con",IF(Q40=MAX(O40:U40),"Lib","Other"))) -> Con
...

Sheet 2021 PCC
A1: PCCArea | B1: con | C1: lab | D1: lib | E1: grn | F1: ref | G1: pc | H1: oth_total | I1: oth1 | J1: oth2 | K1: total_vote
A2: Bedfordshire | B2: 51700 | C2: 42708 | D2: 15983 | E2: 0 | F2: 0 | G2: 0 | H2: =SUM(I2:J2) -> 11666 | I2: 8279 | J2: 3387 | K2: =SUM(B2:H2) -> 122057
A3: West Midlands | B3: 239288 | C3: 276743 | D3: 38594 | E3: 0 | F3: 18002 | G3: 0 | H3: =SUM(I3:J3) -> 35409 | I3: 27664 | J3: 7745 | K3: =SUM(B3:H3) -> 608036
A4: Gloucestershire | B4: 79086 | C4: 31347 | D4: 37024 | E4: 0 | F4: 0 | G4: 0 | H4: =SUM(I4:J4) -> 47417 | I4: 34286 | J4: 13131 | K4: =SUM(B4:H4) -> 194874
A5: Surrey | B5: 112260 | C5: 40597 | D5: 69412 | E5: 0 | F5: 0 | G5: 0 | H5: =SUM(I5:J5) -> 112657 | I5: 59554 | J5: 53103 | K5: =SUM(B5:H5) -> 334926
A6: Thames Valley | B6: 267404 | C6: 175123 | D6: 110072 | E6: 0 | F6: 0 | G6: 0 | H6: =SUM(I6:J6) -> 77210 | I6: 77210 | J6: 0 | K6: =SUM(B6:H6) -> 629809
A7: Hampshire | B7: 262667 | C7: 101832 | D7: 93581 | E7: 0 | F7: 0 | G7: 0 | H7: =SUM(I7:J7) -> 68895 | I7: 68895 | J7: 0 | K7: =SUM(B7:H7) -> 526975
A8: Avon and Somerset | B8: 136988 | C8: 93495 | D8: 52839 | E8: 64790 | F8: 0 | G8: 0 | H8: =SUM(I8:J8) -> 46379 | I8: 46379 | J8: 0 | K8: =SUM(B8:H8) -> 394491
A9: Northumbria | B9: 118543 | C9: 179021 | D9: 40955 | E9: 0 | F9: 0 | G9: 0 | H9: =SUM(I9:J9) -> 45567 | I9: 45567 | J9: 0 | K9: =SUM(B9:H9) -> 384086
A10: Essex | B10: 235246 | C10: 99712 | D10: 58131 | E10: 0 | F10: 0 | G10: 0 | H10: =SUM(I10:J10) -> 42831 | I10: 42831 | J10: 0 | K10: =SUM(B10:H10) -> 435920
A11: Wiltshire | B11: 84885 | C11: 34147 | D11: 35013 | E11: 16606 | F11: 4348 | G11: 0 | H11: =SUM(I11:J11) -> 31722 | I11: 31722 | J11: 0 | K11: =SUM(B11:H11) -> 206721
A12: Dorset | B12: 64071 | C12: 16379 | D12: 17837 | E12: 21283 | F12: 0 | G12: 0 | H12: =SUM(I12:J12) -> 31112 | I12: 31112 | J12: 0 | K12: =SUM(B12:H12) -> 150682
A13: Sussex | B13: 214523 | C13: 84736 | D13: 63271 | E13: 60781 | F13: 0 | G13: 0 | H13: =SUM(I13:J13) -> 30408 | I13: 30408 | J13: 0 | K13: =SUM(B13:H13) -> 453719
... A40: South Wales | B40: 102465 | C40: 177110 | D40: 19907 | E40: 0 | F40: 0 | G40: 82246 | H40: =SUM(I40:J40) -> 50373 | I40: 37110 | J40: 13263 | K40: =SUM(B40:H40) -> 432101

Sheet 2024 PCC
A1: PCCArea | B1: con | C1: lab | D1: lib | E1: grn | F1: ref | G1: pc | H1: oth_total | I1: oth1 | J1: oth2 | K1: total_vote
A2: Dyfed-Powys | B2: 19134 | C2: 18353 | D2: 7719 | E2: 0 | F2: 0 | G2: 31323 | H2: =SUM(I2:J2) -> 0 | K2: =SUM(B2:H2) -> 76529
A3: South Wales | B3: 43344 | C3: 73128 | D3: 17908 | E3: 0 | F3: 0 | G3: 27410 | H3: =SUM(I3:J3) -> 0 | K3: =SUM(B3:H3) -> 161790
A4: North Wales | B4: 26281 | C4: 31950 | D4: 7129 | E4: 0 | F4: 0 | G4: 23466 | H4: =SUM(I4:J4) -> 0 | K4: =SUM(B4:H4) -> 88826
A5: Gwent | B5: 21919 | C5: 28476 | D5: 8078 | E5: 0 | F5: 0 | G5: 9864 | H5: =SUM(I5:J5) -> 0 | K5: =SUM(B5:H5) -> 68337
A6: Derbyshire | B6: 65293 | C6: 93260 | D6: 22540 | E6: 0 | F6: 32944 | G6: 0 | H6: =SUM(I6:J6) -> 0 | K6: =SUM(B6:H6) -> 214037
A7: Lincolnshire | B7: 39639 | C7: 31931 | D7: 13380 | E7: 0 | F7: 15518 | G7: 0 | H7: =SUM(I7:J7) -> 7739 | I7: 7739 | K7: =SUM(B7:H7) -> 108207
A8: Avon and Somerset | B8: 91006 | C8: 95982 | D8: 45864 | E8: 64623 | F8: 0 | G8: 0 | H8: =SUM(I8:J8) -> 0 | K8: =SUM(B8:H8) -> 297475
A9: Sussex | B9: 122495 | C9: 99502 | D9: 48923 | E9: 43105 | F9: 0 | G9: 0 | H9: =SUM(I9:J9) -> 0 | K9: =SUM(B9:H9) -> 314025
A10: Merseyside | B10: 35221 | C10: 152640 | D10: 28093 | E10: 31330 | F10: 0 | G10: 0 | H10: =SUM(I10:J10) -> 0 | K10: =SUM(B10:H10) -> 247284
A11: Hertfordshire | B11: 93658 | C11: 66585 | D11: 68264 | E11: 26714 | F11: 0 | G11: 0 | H11: =SUM(I11:J11) -> 0 | K11: =SUM(B11:H11) -> 255221
A12: Leicestershire | B12: 62280 | C12: 61420 | D12: 22041 | E12: 23649 | F12: 0 | G12: 0 | H12: =SUM(I12:J12) -> 7104 | I12: 7104 | K12: =SUM(B12:H12) -> 176494
A13: Norfolk | B13: 50567 | C13: 52445 | D13: 22525 | E13: 23628 | F13: 0 | G13: 0 | H13: =SUM(I13:J13) -> 0 | K13: =SUM(B13:H13) -> 149165
A14: Suffolk | B14: 52968 | C14: 41734 | D14: 14541 | E14: 22488 | F14: 0 | G14: 0 | H14: =SUM(I14:J14) -> 0 | K14: =SUM(B14:H14) -> 131731
A15: West Mercia | B15: 73395 | C15: 63082 | D15: 33782 | E15: 22021 | F15: 0 | G15: 0 | H15: =SUM(I15:J15) -> 21645 | I15: 21645 | K15: =SUM(B15:H15) -> 213925
A16: Bedfordshire | B16: 35688 | C16: 40738 | D16: 15857 | E16: 0 | F16: 0 | G16: 0 | H16: =SUM(I16:J16) -> 8396 | I16: 8396 | K16: =SUM(B16:H16) -> 100679
A17: Cambridgeshire | B17: 61688 | C17: 58304 | D17: 41984 | E17: 0 | F17: 0 | G17: 0 | H17: =SUM(I17:J17) -> 0 | K17: =SUM(B17:H17) -> 161976
A18: Cheshire | B18: 65836 | C18: 86279 | D18: 27342 | E18: 0 | F18: 0 | G18: 0 | H18: =SUM(I18:J18) -> 0 | K18: =SUM(B18:H18) -> 179457
A19: Cleveland | B19: 58977 | C19: 65418 | D19: 0 | E19: 0 | F19: 0 | G19: 0 | H19: =SUM(I19:J19) -> 0 | K19: =SUM(B19:H19) -> 124395
A20: Cumbria | B20: 24863 | C20: 38708 | D20: 18100 | E20: 0 | F20: 0 | G20: 0 | H20: =SUM(I20:J20) -> 0 | K20: =SUM(B20:H20) -> 81671
A21: Devon & Cornwall | B21: 131764 | C21: 107897 | D21: 64790 | E21: 0 | F21: 0 | G21: 0 | H21: =SUM(I21:J21) -> 0 | K21: =SUM(B21:H21) -> 304451
A22: Dorset | B22: 57994 | C22: 26884 | D22: 34774 | E22: 0 | F22: 0 | G22: 0 | H22: =SUM(I22:J22) -> 32237 | I22: 32237 | K22: =SUM(B22:H22) -> 151889
A23: Durham | B23: 37773 | C23: 66852 | D23: 14678 | E23: 0 | F23: 0 | G23: 0 | H23: =SUM(I23:J23) -> 0 | K23: =SUM(B23:H23) -> 119303
A24: Essex | B24: 126447 | C24: 116875 | D24: 52922 | E24: 0 | F24: 0 | G24: 0 | H24: =SUM(I24:J24) -> 34153 | I24: 34153 | K24: =SUM(B24:H24) -> 330397
A25: Gloucestershire | B25: 47838 | C25: 35069 | D25: 46352 | E25: 0 | F25: 0 | G25: 0 | H25: =SUM(I25:J25) -> 15240 | I25: 15240 | K25: =SUM(B25:H25) -> 144499
A26: Hampshire | B26: 175953 | C26: 106141 | D26: 92843 | E26: 0 | F26: 0 | G26: 0 | H26: =SUM(I26:J26) -> 40691 | I26: 40691 | K26: =SUM(B26:H26) -> 415628
A27: Humberside | B27: 51083 | C27: 46846 | D27: 30834 | E27: 0 | F27: 0 | G27: 0 | H27: =SUM(I27:J27) -> 0 | K27: =SUM(B27:H27) -> 128763
A28: Kent | B28: 120491 | C28: 92508 | D28: 60279 | E28: 0 | F28: 0 | G28: 0 | H28: =SUM(I28:J28) -> 0 | K28: =SUM(B28:H28) -> 273278
A29: Lancashire | B29: 101281 | C29: 135638 | D29: 51252 | E29: 0 | F29: 0 | G29: 0 | H29: =SUM(I29:J29) -> 0 | K29: =SUM(B29:H29) -> 288171
A30: Northamptonshire | B30: 39714 | C30: 43684 | D30: 27799 | E30: 0 | F30: 0 | G30: 0 | H30: =SUM(I30:J30) -> 0 | K30: =SUM(B30:H30) -> 111197
A31: Northumbria | B31: 78818 | C31: 176311 | D31: 58574 | E31: 0 | F31: 0 | G31: 0 | H31: =SUM(I31:J31) -> 31773 | I31: 31773 | K31: =SUM(B31:H31) -> 345476
A32: Nottinghamshire | B32: 77148 | C32: 119355 | D32: 32410 | E32: 0 | F32: 0 | G32: 0 | H32: =SUM(I32:J32) -> 0 | K32: =SUM(B32:H32) -> 228913
A33: Staffordshire | B33: 73500 | C33: 70128 | D33: 17666 | E33: 0 | F33: 0 | G33: 0 | H33: =SUM(I33:J33) -> 0 | K33: =SUM(B33:H33) -> 161294
A34: Surrey | B34: 95538 | C34: 42813 | D34: 82213 | E34: 0 | F34: 0 | G34: 0 | H34: =SUM(I34:J34) -> 42052 | I34: 42052 | K34: =SUM(B34:H34) -> 262616
A35: Thames Valley | B35: 144092 | C35: 141749 | D35: 84341 | E35: 0 | F35: 0 | G35: 0 | H35: =SUM(I35:J35) -> 78313 | I35: 46853 | J35: 31460 | K35: =SUM(B35:H35) -> 448495
A36: Warwickshire | B36: 45638 | C36: 45377 | D36: 24867 | E36: 0 | F36: 0 | G36: 0 | H36: =SUM(I36:J36) -> 0 | K36: =SUM(B36:H36) -> 115882
A37: West Midlands | B37: 241827 | C37: 327844 | D37: 0 | E37: 0 | F37: 0 | G37: 0 | H37: =SUM(I37:J37) -> 0 | K37: =SUM(B37:H37) -> 569671
A38: Wiltshire | B38: 38578 | C38: 36345 | D38: 20485 | E38: 0 | F38: 0 | G38: 0 | H38: =SUM(I38:J38) -> 29035 | I38: 29035 | K38: =SUM(B38:H38) -> 124443

Sheet Lookup
A1: LAD22CD | B1: LAD22NM | C1: CSP22CD | D1: CSP22NM | E1: PFA22CD | F1: PFA22NM | G1: ObjectId
A2: E06000001 | B2: Hartlepool | C2: E22000027 | D2: Hartlepool | E2: E23000013 | F2: Cleveland | G2: 44
A3: E06000002 | B3: Middlesbrough | C3: E22000029 | D3: Middlesbrough | E3: E23000013 | F3: Cleveland | G3: 46
A4: E06000003 | B4: Redcar and Cleveland | C4: E22000028 | D4: Redcar and Cleveland | E4: E23000013 | F4: Cleveland | G4: 45
A5: E06000004 | B5: Stockton-on-Tees | C5: E22000030 | D5: Stockton-on-Tees | E5: E23000013 | F5: Cleveland | G5: 47
A6: E06000005 | B6: Darlington | C6: E22000072 | D6: Darlington | E6: E23000008 | F6: Durham | G6: 21
A7: E06000006 | B7: Halton | C7: E22000023 | D7: Halton | E7: E23000006 | F7: Cheshire | G7: 11
A8: E06000007 | B8: Warrington | C8: E22000026 | D8: Warrington | E8: E23000006 | F8: Cheshire | G8: 12
A9: E06000008 | B9: Blackburn with Darwen | C9: E22000150 | D9: Blackburn with Darwen | E9: E23000003 | F9: Lancashire | G9: 210
A10: E06000009 | B10: Blackpool | C10: E22000151 | D10: Blackpool | E10: E23000003 | F10: Lancashire | G10: 211
A11: E06000010 | B11: Kingston upon Hull, City of | C11: E22000134 | D11: Kingston upon Hull, City of | E11: E23000012 | F11: Humberside | G11: 41
A12: E06000011 | B12: East Riding of Yorkshire | C12: E22000133 | D12: East Riding of Yorkshire | E12: E23000012 | F12: Humberside | G12: 40
A13: E06000012 | B13: North East Lincolnshire | C13: E22000135 | D13: North East Lincolnshire | E13: E23000012 | F13: Humberside | G13: 42
... A342: W06000024 | B342: Merthyr Tydfil | C342: W14000023 | D342: Cwm Taf | E342: W15000003 | F342: South Wales | G342: 280
