Workbook

Sheet Constituencies
A1: Unique | B1: County | C1: Number | D1: Turnout | E1: Fidesz | F1: Jobbik | G1: MSZP-Dialogue | H1: LMP | I1: DK | J1: Momentum | K1: Egyutt | L1: Other | M1: Fidesz | N1: Opposition | O1: Opposition Lead | P1: 2022 Opposition Candidate | Q1: Opposition Winnable | R1: Simulated Fidesz | S1: Simulated Opposition | T1: Simulated Opposition Win | U1: Wasted Opposition | V1: Wasted Fidesz | W1: New Fidesz Lead
A2: 7 | B2: Budapest | C2: 7 | D2: 59161 | E2: 0.2849 | F2: 0.0607 | G2: 0.5648 | H2: 0.0414 | J2: 0.0257 | L2: =1-SUM(E2:K2) -> 0.0225 | M2: =E2 -> 0.2849 | N2: =SUM(F2:K2) -> 0.6926 | O2: =N2-M2 -> 0.4077 | P2: MSZP | Q2: =IF(O2>0,1,0) -> 1 | R2: =M2+Totals!$B$7 -> 0.22515 | S2: =N2-Totals!$B$7 -> 0.75235 | T2: =IF(S2>R2,1,0) -> 1 | U2: =IF(S2>R2,(S2-R2)*D2,S2*D2) -> 31189.679 | V2: =IF(R2>S2,(R2-S2)*D2,R2*D2) -> 13320.099 | W2: =R2-S2 -> -0.5272
A3: 10 | B3: Budapest | C3: 10 | D3: 56110 | E3: 0.3636 | F3: 0.1082 | G3: 0.4815 | J3: 0.0394 | L3: =1-SUM(E3:K3) -> 0.0073 | M3: =E3 -> 0.3636 | N3: =SUM(F3:K3) -> 0.6291 | O3: =N3-M3 -> 0.2655 | P3: Dialogue | Q3: =IF(O3>0,1,0) -> 1 | R3: =M3+Totals!$B$7 -> 0.30385 | S3: =N3-Totals!$B$7 -> 0.68885 | T3: =IF(S3>R3,1,0) -> 1 | U3: =IF(S3>R3,(S3-R3)*D3,S3*D3) -> 21602.35 | V3: =IF(R3>S3,(R3-S3)*D3,R3*D3) -> 17049.023 | W3: =R3-S3 -> -0.385
A4: 40 | B4: Csongrád | C4: 1 | D4: 58960 | E4: 0.3565 | F4: 0.1103 | G4: 0.4367 | H4: 0.0434 | J4: 0.0172 | L4: =1-SUM(E4:K4) -> 0.0359 | M4: =E4 -> 0.3565 | N4: =SUM(F4:K4) -> 0.6076 | O4: =N4-M4 -> 0.2511 | P4: MSZP | Q4: =IF(O4>0,1,0) -> 1 | R4: =M4+Totals!$B$7 -> 0.29675 | S4: =N4-Totals!$B$7 -> 0.66735 | T4: =IF(S4>R4,1,0) -> 1 | U4: =IF(S4>R4,(S4-R4)*D4,S4*D4) -> 21850.576 | V4: =IF(R4>S4,(R4-S4)*D4,R4*D4) -> 17496.38 | W4: =R4-S4 -> -0.3706
A5: 16 | B5: Budapest | C5: 16 | D5: 52211 | E5: 0.3728 | F5: 0.1221 | G5: 0.4323 | H5: 0.0438 | J5: 0.0203 | L5: =1-SUM(E5:K5) -> 0.0087 | M5: =E5 -> 0.3728 | N5: =SUM(F5:K5) -> 0.6185 | O5: =N5-M5 -> 0.2457 | P5: MSZP | Q5: =IF(O5>0,1,0) -> 1 | R5: =M5+Totals!$B$7 -> 0.31305 | S5: =N5-Totals!$B$7 -> 0.67825 | T5: =IF(S5>R5,1,0) -> 1 | U5: =IF(S5>R5,(S5-R5)*D5,S5*D5) -> 19067.457 | V5: =IF(R5>S5,(R5-S5)*D5,R5*D5) -> 16344.654 | W5: =R5-S5 -> -0.3652
A6: 11 | B6: Budapest | C6: 11 | D6: 56956 | E6: 0.3526 | F6: 0.1023 | H6: 0.0607 | I6: 0.408 | J6: 0.0224 | L6: =1-SUM(E6:K6) -> 0.054 | M6: =E6 -> 0.3526 | N6: =SUM(F6:K6) -> 0.5934 | O6: =N6-M6 -> 0.2408 | P6: DK | Q6: =IF(O6>0,1,0) -> 1 | R6: =M6+Totals!$B$7 -> 0.29285 | S6: =N6-Totals!$B$7 -> 0.65315 | T6: =IF(S6>R6,1,0) -> 1 | U6: =IF(S6>R6,(S6-R6)*D6,S6*D6) -> 20521.247 | V6: =IF(R6>S6,(R6-S6)*D6,R6*D6) -> 16679.565 | W6: =R6-S6 -> -0.3603
A7: 8 | B7: Budapest | C7: 8 | D7: 58724 | E7: 0.3506 | F7: 0.0765 | G7: 0.4723 | H7: 0.041 | L7: =1-SUM(E7:K7) -> 0.0596 | M7: =E7 -> 0.3506 | N7: =SUM(F7:K7) -> 0.5898 | O7: =N7-M7 -> 0.2392 | P7: Momentum | Q7: =IF(O7>0,1,0) -> 1 | R7: =M7+Totals!$B$7 -> 0.29085 | S7: =N7-Totals!$B$7 -> 0.64955 | T7: =IF(S7>R7,1,0) -> 1 | U7: =IF(S7>R7,(S7-R7)*D7,S7*D7) -> 21064.299 | V7: =IF(R7>S7,(R7-S7)*D7,R7*D7) -> 17079.875 | W7: =R7-S7 -> -0.3587
A8: 25 | B8: Baranya | C8: 1 | D8: 56003 | E8: 0.3697 | F8: 0.1408 | G8: 0.3926 | H8: 0.0546 | J8: 0.0181 | L8: =1-SUM(E8:K8) -> 0.0242 | M8: =E8 -> 0.3697 | N8: =SUM(F8:K8) -> 0.6061 | O8: =N8-M8 -> 0.2364 | P8: Dialogue | Q8: =IF(O8>0,1,0) -> 1 | R8: =M8+Totals!$B$7 -> 0.30995 | S8: =N8-Totals!$B$7 -> 0.66585 | T8: =IF(S8>R8,1,0) -> 1 | U8: =IF(S8>R8,(S8-R8)*D8,S8*D8) -> 19931.468 | V8: =IF(R8>S8,(R8-S8)*D8,R8*D8) -> 17358.13 | W8: =R8-S8 -> -0.3559
A9: 5 | B9: Budapest | C9: 5 | D9: 44925 | E9: 0.3714 | F9: 0.0706 | H9: 0.068 | I9: 0.4585 | L9: =1-SUM(E9:K9) -> 0.0315 | M9: =E9 -> 0.3714 | N9: =SUM(F9:K9) -> 0.5971 | O9: =N9-M9 -> 0.2257 | P9: DK | Q9: =IF(O9>0,1,0) -> 1 | R9: =M9+Totals!$B$7 -> 0.31165 | S9: =N9-Totals!$B$7 -> 0.65685 | T9: =IF(S9>R9,1,0) -> 1 | U9: =IF(S9>R9,(S9-R9)*D9,S9*D9) -> 15508.11 | V9: =IF(R9>S9,(R9-S9)*D9,R9*D9) -> 14000.876 | W9: =R9-S9 -> -0.3452
A10: 12 | B10: Budapest | C10: 12 | D10: 54937 | E10: 0.3754 | F10: 0.1027 | H10: 0.0462 | I10: 0.4225 | J10: 0.0197 | L10: =1-SUM(E10:K10) -> 0.0335 | M10: =E10 -> 0.3754 | N10: =SUM(F10:K10) -> 0.5911 | O10: =N10-M10 -> 0.2157 | P10: DK | Q10: =IF(O10>0,1,0) -> 1 | R10: =M10+Totals!$B$7 -> 0.31565 | S10: =N10-Totals!$B$7 -> 0.65085 | T10: =IF(S10>R10,1,0) -> 1 | U10: =IF(S10>R10,(S10-R10)*D10,S10*D10) -> 18414.882 | V10: =IF(R10>S10,(R10-S10)*D10,R10*D10) -> 17340.864 | W10: =R10-S10 -> -0.3352
A11: 34 | B11: Borsod-Abaúj-Zemplén | C11: 2 | D11: 51067 | E11: 0.3806 | F11: 0.2825 | G11: 0.2991 | J11: 0.0131 | L11: =1-SUM(E11:K11) -> 0.0247 | M11: =E11 -> 0.3806 | N11: =SUM(F11:K11) -> 0.5947 | O11: =N11-M11 -> 0.2141 | P11: MSZP | Q11: =IF(O11>0,1,0) -> 1 | R11: =M11+Totals!$B$7 -> 0.32085 | S11: =N11-Totals!$B$7 -> 0.65445 | T11: =IF(S11>R11,1,0) -> 1 | U11: =IF(S11>R11,(S11-R11)*D11,S11*D11) -> 17035.951 | V11: =IF(R11>S11,(R11-S11)*D11,R11*D11) -> 16384.847 | W11: =R11-S11 -> -0.3336
A12: 17 | B12: Budapest | C12: 17 | D12: 55681 | E12: 0.3709 | F12: 0.1558 | K12: 0.4245 | L12: =1-SUM(E12:K12) -> 0.0488 | M12: =E12 -> 0.3709 | N12: =SUM(F12:K12) -> 0.5803 | O12: =N12-M12 -> 0.2094 | P12: Momentum | Q12: =IF(O12>0,1,0) -> 1 | R12: =M12+Totals!$B$7 -> 0.31115 | S12: =N12-Totals!$B$7 -> 0.64005 | T12: =IF(S12>R12,1,0) -> 1 | U12: =IF(S12>R12,(S12-R12)*D12,S12*D12) -> 18313.481 | V12: =IF(R12>S12,(R12-S12)*D12,R12*D12) -> 17325.143 | W12: =R12-S12 -> -0.3289
A13: 9 | B13: Budapest | C13: 9 | D13: 53976 | E13: 0.3932 | F13: 0.1007 | G13: 0.4078 | H13: 0.0653 | J13: 0.0211 | L13: =1-SUM(E13:K13) -> 0.0119 | M13: =E13 -> 0.3932 | N13: =SUM(F13:K13) -> 0.5949 | O13: =N13-M13 -> 0.2017 | P13: DK | Q13: =IF(O13>0,1,0) -> 1 | R13: =M13+Totals!$B$7 -> 0.33345 | S13: =N13-Totals!$B$7 -> 0.65465 | T13: =IF(S13>R13,1,0) -> 1 | U13: =IF(S13>R13,(S13-R13)*D13,S13*D13) -> 17337.091 | V13: =IF(R13>S13,(R13-S13)*D13,R13*D13) -> 17998.297 | W13: =R13-S13 -> -0.3212
A14: 15 | B14: Budapest | C14: 15 | D14: 60072 | E14: 0.397 | F14: 0.1161 | G14: 0.463 | L14: =1-SUM(E14:K14) -> 0.0239 | M14: =E14 -> 0.397 | N14: =SUM(F14:K14) -> 0.5791 | O14: =N14-M14 -> 0.1821 | P14: MSZP | Q14: =IF(O14>0,1,0) -> 1 | R14: =M14+Totals!$B$7 -> 0.33725 | S14: =N14-Totals!$B$7 -> 0.63885 | T14: =IF(S14>R14,1,0) -> 1 | U14: =IF(S14>R14,(S14-R14)*D14,S14*D14) -> 18117.715 | V14: =IF(R14>S14,(R14-S14)*D14,R14*D14) -> 20259.282 | W14: =R14-S14 -> -0.3016
A15: 18 | B15: Budapest | C15: 18 | D15: 60276 | E15: 0.4006 | F15: 0.0917 | G15: 0.4145 | H15: 0.0424 | J15: 0.0283 | L15: =1-SUM(E15:K15) -> 0.0225 | M15: =E15 -> 0.4006 | N15: =SUM(F15:K15) -> 0.5769 | O15: =N15-M15 -> 0.1763 | P15: Momentum | Q15: =IF(O15>0,1,0) -> 1 | R15: =M15+Totals!$B$7 -> 0.34085 | S15: =N15-Totals!$B$7 -> 0.63665 | T15: =IF(S15>R15,1,0) -> 1 | U15: =IF(S15>R15,(S15-R15)*D15,S15*D15) -> 17829.641 | V15: =IF(R15>S15,(R15-S15)*D15,R15*D15) -> 20545.075 | W15: =R15-S15 -> -0.2958
A16: 14 | B16: Budapest | C16: 14 | D16: 57775 | E16: 0.4117 | F16: 0.1304 | G16: 0.3723 | H16: 0.0489 | J16: 0.0278 | L16: =1-SUM(E16:K16) -> 0.0089 | M16: =E16 -> 0.4117 | N16: =SUM(F16:K16) -> 0.5794 | O16: =N16-M16 -> 0.1677 | P16: Jobbik | Q16: =IF(O16>0,1,0) -> 1 | R16: =M16+Totals!$B$7 -> 0.35195 | S16: =N16-Totals!$B$7 -> 0.63915 | T16: =IF(S16>R16,1,0) -> 1 | U16: =IF(S16>R16,(S16-R16)*D16,S16*D16) -> 16592.98 | V16: =IF(R16>S16,(R16-S16)*D16,R16*D16) -> 20333.911 | W16: =R16-S16 -> -0.2872
A17: 88 | B17: Szabolcs-Szatmár-Bereg | C17: 1 | D17: 53989 | E17: 0.4034 | F17: 0.1921 | G17: 0.3283 | H17: 0.032 | J17: 0.0155 | L17: =1-SUM(E17:K17) -> 0.0287 | M17: =E17 -> 0.4034 | N17: =SUM(F17:K17) -> 0.5679 | O17: =N17-M17 -> 0.1645 | P17: Jobbik | Q17: =IF(O17>0,1,0) -> 1 | R17: =M17+Totals!$B$7 -> 0.34365 | S17: =N17-Totals!$B$7 -> 0.62765 | T17: =IF(S17>R17,1,0) -> 1 | U17: =IF(S17>R17,(S17-R17)*D17,S17*D17) -> 15332.876 | V17: =IF(R17>S17,(R17-S17)*D17,R17*D17) -> 18553.32 | W17: =R17-S17 -> -0.284
A18: 26 | B18: Baranya | C18: 2 | D18: 53525 | E18: 0.4011 | F18: 0.2215 | H18: 0.0915 | I18: 0.2085 | J18: 0.0194 | K18: 0.0239 | L18: =1-SUM(E18:K18) -> 0.0341 | M18: =E18 -> 0.4011 | N18: =SUM(F18:K18) -> 0.5648 | O18: =N18-M18 -> 0.1637 | P18: DK | Q18: =IF(O18>0,1,0) -> 1 | R18: =M18+Totals!$B$7 -> 0.34135 | S18: =N18-Totals!$B$7 -> 0.62455 | T18: =IF(S18>R18,1,0) -> 1 | U18: =IF(S18>R18,(S18-R18)*D18,S18*D18) -> 15158.28 | V18: =IF(R18>S18,(R18-S18)*D18,R18*D18) -> 18270.759 | W18: =R18-S18 -> -0.2832
A19: 6 | B19: Budapest | C19: 6 | D19: 46456 | E19: 0.4051 | F19: 0.1292 | H19: 0.0556 | I19: 0.3217 | J19: 0.0256 | K19: 0.0313 | L19: =1-SUM(E19:K19) -> 0.0315 | M19: =E19 -> 0.4051 | N19: =SUM(F19:K19) -> 0.5634 | O19: =N19-M19 -> 0.1583 | P19: Dialogue | Q19: =IF(O19>0,1,0) -> 1 | R19: =M19+Totals!$B$7 -> 0.34535 | S19: =N19-Totals!$B$7 -> 0.62315 | T19: =IF(S19>R19,1,0) -> 1 | U19: =IF(S19>R19,(S19-R19)*D19,S19*D19) -> 12905.477 | V19: =IF(R19>S19,(R19-S19)*D19,R19*D19) -> 16043.58 | W19: =R19-S19 -> -0.2778
A20: 33 | B20: Borsod-Abaúj-Zemplén | C20: 1 | D20: 53195 | E20: 0.3896 | F20: 0.3872 | H20: 0.0314 | I20: 0.1156 | J20: 0.0108 | L20: =1-SUM(E20:K20) -> 0.0654 | M20: =E20 -> 0.3896 | N20: =SUM(F20:K20) -> 0.545 | O20: =N20-M20 -> 0.1554 | P20: Jobbik | Q20: =IF(O20>0,1,0) -> 1 | R20: =M20+Totals!$B$7 -> 0.32985 | S20: =N20-Totals!$B$7 -> 0.60475 | T20: =IF(S20>R20,1,0) -> 1 | U20: =IF(S20>R20,(S20-R20)*D20,S20*D20) -> 14623.306 | V20: =IF(R20>S20,(R20-S20)*D20,R20*D20) -> 17546.371 | W20: =R20-S20 -> -0.2749
A21: 79 | B21: Pest | C21: 8 | D21: 62659 | E21: 0.4033 | F21: 0.2036 | G21: 0.3062 | H21: 0.0481 | L21: =1-SUM(E21:K21) -> 0.0388 | M21: =E21 -> 0.4033 | N21: =SUM(F21:K21) -> 0.5579 | O21: =N21-M21 -> 0.1546 | P21: DK | Q21: =IF(O21>0,1,0) -> 1 | R21: =M21+Totals!$B$7 -> 0.34355 | S21: =N21-Totals!$B$7 -> 0.61765 | T21: =IF(S21>R21,1,0) -> 1 | U21: =IF(S21>R21,(S21-R21)*D21,S21*D21) -> 17174.832 | V21: =IF(R21>S21,(R21-S21)*D21,R21*D21) -> 21526.499 | W21: =R21-S21 -> -0.2741
A22: 13 | B22: Budapest | C22: 13 | D22: 55667 | E22: 0.4191 | F22: 0.0914 | H22: 0.0727 | K22: 0.3996 | L22: =1-SUM(E22:K22) -> 0.0172 | M22: =E22 -> 0.4191 | N22: =SUM(F22:K22) -> 0.5637 | O22: =N22-M22 -> 0.1446 | P22: MSZP | Q22: =IF(O22>0,1,0) -> 1 | R22: =M22+Totals!$B$7 -> 0.35935 | S22: =N22-Totals!$B$7 -> 0.62345 | T22: =IF(S22>R22,1,0) -> 1 | U22: =IF(S22>R22,(S22-R22)*D22,S22*D22) -> 14701.655 | V22: =IF(R22>S22,(R22-S22)*D22,R22*D22) -> 20003.936 | W22: =R22-S22 -> -0.2641
A23: 4 | B23: Budapest | C23: 4 | D23: 57886 | E23: 0.4182 | F23: 0.0619 | H23: 0.101 | I23: 0.3715 | J23: 0.0266 | L23: =1-SUM(E23:K23) -> 0.0208 | M23: =E23 -> 0.4182 | N23: =SUM(F23:K23) -> 0.561 | O23: =N23-M23 -> 0.1428 | P23: Dialogue | Q23: =IF(O23>0,1,0) -> 1 | R23: =M23+Totals!$B$7 -> 0.35845 | S23: =N23-Totals!$B$7 -> 0.62075 | T23: =IF(S23>R23,1,0) -> 1 | U23: =IF(S23>R23,(S23-R23)*D23,S23*D23) -> 15183.498 | V23: =IF(R23>S23,(R23-S23)*D23,R23*D23) -> 20749.237 | W23: =R23-S23 -> -0.2623
A24: 63 | B24: Jász-Nagykun-Szolnok | C24: 1 | D24: 56227 | E24: 0.4209 | F24: 0.3512 | G24: 0.1515 | H24: 0.0361 | J24: 0.0153 | L24: =1-SUM(E24:K24) -> 0.025 | M24: =E24 -> 0.4209 | N24: =SUM(F24:K24) -> 0.5541 | O24: =N24-M24 -> 0.1332 | P24: DK | Q24: =IF(O24>0,1,0) -> 1 | R24: =M24+Totals!$B$7 -> 0.36115 | S24: =N24-Totals!$B$7 -> 0.61385 | T24: =IF(S24>R24,1,0) -> 1 | U24: =IF(S24>R24,(S24-R24)*D24,S24*D24) -> 14208.563 | V24: =IF(R24>S24,(R24-S24)*D24,R24*D24) -> 20306.381 | W24: =R24-S24 -> -0.2527
A25: 1 | B25: Budapest | C25: 1 | D25: 47910 | E25: 0.4181 | F25: 0.0639 | H25: 0.4873 | L25: =1-SUM(E25:K25) -> 0.0307 | M25: =E25 -> 0.4181 | N25: =SUM(F25:K25) -> 0.5512 | O25: =N25-M25 -> 0.1331 | P25: LMP | Q25: =IF(O25>0,1,0) -> 1 | R25: =M25+Totals!$B$7 -> 0.35835 | S25: =N25-Totals!$B$7 -> 0.61095 | T25: =IF(S25>R25,1,0) -> 1 | U25: =IF(S25>R25,(S25-R25)*D25,S25*D25) -> 12102.066 | V25: =IF(R25>S25,(R25-S25)*D25,R25*D25) -> 17168.549 | W25: =R25-S25 -> -0.2526
A26: 2 | B26: Budapest | C26: 2 | D26: 55506 | E26: 0.4216 | F26: 0.0586 | H26: 0.061 | I26: 0.4053 | J26: 0.0277 | L26: =1-SUM(E26:K26) -> 0.0258 | M26: =E26 -> 0.4216 | N26: =SUM(F26:K26) -> 0.5526 | O26: =N26-M26 -> 0.131 | P26: Momentum | Q26: =IF(O26>0,1,0) -> 1 | R26: =M26+Totals!$B$7 -> 0.36185 | S26: =N26-Totals!$B$7 -> 0.61235 | T26: =IF(S26>R26,1,0) -> 1 | U26: =IF(S26>R26,(S26-R26)*D26,S26*D26) -> 13904.253 | V26: =IF(R26>S26,(R26-S26)*D26,R26*D26) -> 20084.846 | W26: =R26-S26 -> -0.2505
A27: 76 | B27: Pest | C27: 5 | D27: 70561 | E27: 0.4327 | F27: 0.1545 | I27: 0.3624 | J27: 0.0354 | L27: =1-SUM(E27:K27) -> 0.015 | M27: =E27 -> 0.4327 | N27: =SUM(F27:K27) -> 0.5523 | O27: =N27-M27 -> 0.1196 | P27: Dialogue | Q27: =IF(O27>0,1,0) -> 1 | R27: =M27+Totals!$B$7 -> 0.37295 | S27: =N27-Totals!$B$7 -> 0.61205 | T27: =IF(S27>R27,1,0) -> 1 | U27: =IF(S27>R27,(S27-R27)*D27,S27*D27) -> 16871.135 | V27: =IF(R27>S27,(R27-S27)*D27,R27*D27) -> 26315.725 | W27: =R27-S27 -> -0.2391
A28: 3 | B28: Budapest | C28: 3 | D28: 54257 | E28: 0.4271 | F28: 0.0579 | H28: 0.0698 | I28: 0.3903 | J28: 0.0267 | L28: =1-SUM(E28:K28) -> 0.0282 | M28: =E28 -> 0.4271 | N28: =SUM(F28:K28) -> 0.5447 | O28: =N28-M28 -> 0.1176 | P28: Momentum | Q28: =IF(O28>0,1,0) -> 1 | R28: =M28+Totals!$B$7 -> 0.36735 | S28: =N28-Totals!$B$7 -> 0.60445 | T28: =IF(S28>R28,1,0) -> 1 | U28: =IF(S28>R28,(S28-R28)*D28,S28*D28) -> 12864.335 | V28: =IF(R28>S28,(R28-S28)*D28,R28*D28) -> 19931.309 | W28: =R28-S28 -> -0.2371
A29: 32 | B29: Békés | C29: 4 | D29: 49395 | E29: 0.4315 | F29: 0.395 | G29: 0.1034 | H29: 0.0219 | J29: 0.0106 | K29: 0.011 | L29: =1-SUM(E29:K29) -> 0.0266 | M29: =E29 -> 0.4315 | N29: =SUM(F29:K29) -> 0.5419 | O29: =N29-M29 -> 0.1104 | P29: Jobbik | Q29: =IF(O29>0,1,0) -> 1 | R29: =M29+Totals!$B$7 -> 0.37175 | S29: =N29-Totals!$B$7 -> 0.60165 | T29: =IF(S29>R29,1,0) -> 1 | U29: =IF(S29>R29,(S29-R29)*D29,S29*D29) -> 11355.911 | V29: =IF(R29>S29,(R29-S29)*D29,R29*D29) -> 18362.591 | W29: =R29-S29 -> -0.2299
A30: 47 | B30: Fejér | C30: 4 | D30: 46871 | E30: 0.4353 | F30: 0.3956 | H30: 0.0349 | I30: 0.0996 | J30: 0.0144 | L30: =1-SUM(E30:K30) -> 0.0202 | M30: =E30 -> 0.4353 | N30: =SUM(F30:K30) -> 0.5445 | O30: =N30-M30 -> 0.1092 | P30: Jobbik | Q30: =IF(O30>0,1,0) -> 1 | R30: =M30+Totals!$B$7 -> 0.37555 | S30: =N30-Totals!$B$7 -> 0.60425 | T30: =IF(S30>R30,1,0) -> 1 | U30: =IF(S30>R30,(S30-R30)*D30,S30*D30) -> 10719.398 | V30: =IF(R30>S30,(R30-S30)*D30,R30*D30) -> 17602.404 | W30: =R30-S30 -> -0.2287
A31: 72 | B31: Pest | C31: 1 | D31: 61702 | E31: 0.4374 | F31: 0.1299 | G31: 0.3547 | H31: 0.0367 | J31: 0.0168 | L31: =1-SUM(E31:K31) -> 0.0245 | M31: =E31 -> 0.4374 | N31: =SUM(F31:K31) -> 0.5381 | O31: =N31-M31 -> 0.1007 | P31: DK | Q31: =IF(O31>0,1,0) -> 1 | R31: =M31+Totals!$B$7 -> 0.37765 | S31: =N31-Totals!$B$7 -> 0.59785 | T31: =IF(S31>R31,1,0) -> 1 | U31: =IF(S31>R31,(S31-R31)*D31,S31*D31) -> 13586.78 | V31: =IF(R31>S31,(R31-S31)*D31,R31*D31) -> 23301.76 | W31: =R31-S31 -> -0.2202
A32: 66 | B32: Jász-Nagykun-Szolnok | C32: 4 | D32: 48459 | E32: 0.4471 | F32: 0.4078 | G32: 0.0963 | H32: 0.0231 | J32: 0.0072 | L32: =1-SUM(E32:K32) -> 0.0185 | M32: =E32 -> 0.4471 | N32: =SUM(F32:K32) -> 0.5344 | O32: =N32-M32 -> 0.0873 | P32: Jobbik | Q32: =IF(O32>0,1,0) -> 1 | R32: =M32+Totals!$B$7 -> 0.38735 | S32: =N32-Totals!$B$7 -> 0.59415 | T32: =IF(S32>R32,1,0) -> 1 | U32: =IF(S32>R32,(S32-R32)*D32,S32*D32) -> 10021.321 | V32: =IF(R32>S32,(R32-S32)*D32,R32*D32) -> 18770.594 | W32: =R32-S32 -> -0.2068
A33: 41 | B33: Csongrád | C33: 2 | D33: 61280 | E33: 0.4462 | F33: 0.1137 | G33: 0.3543 | H33: 0.041 | J33: 0.0179 | K33: 0.005 | L33: =1-SUM(E33:K33) -> 0.0219 | M33: =E33 -> 0.4462 | N33: =SUM(F33:K33) -> 0.5319 | O33: =N33-M33 -> 0.0857 | P33: Momentum | Q33: =IF(O33>0,1,0) -> 1 | R33: =M33+Totals!$B$7 -> 0.38645 | S33: =N33-Totals!$B$7 -> 0.59165 | T33: =IF(S33>R33,1,0) -> 1 | U33: =IF(S33>R33,(S33-R33)*D33,S33*D33) -> 12574.656 | V33: =IF(R33>S33,(R33-S33)*D33,R33*D33) -> 23681.656 | W33: =R33-S33 -> -0.2052
A34: 84 | B34: Somogy | C34: 1 | D34: 44550 | E34: 0.4369 | F34: 0.3189 | H34: 0.0462 | I34: 0.1279 | J34: 0.0167 | K34: 0.0101 | L34: =1-SUM(E34:K34) -> 0.0433 | M34: =E34 -> 0.4369 | N34: =SUM(F34:K34) -> 0.5198 | O34: =N34-M34 -> 0.0829 | P34: DK | Q34: =IF(O34>0,1,0) -> 1 | R34: =M34+Totals!$B$7 -> 0.37715 | S34: =N34-Totals!$B$7 -> 0.57955 | T34: =IF(S34>R34,1,0) -> 1 | U34: =IF(S34>R34,(S34-R34)*D34,S34*D34) -> 9016.92 | V34: =IF(R34>S34,(R34-S34)*D34,R34*D34) -> 16802.032 | W34: =R34-S34 -> -0.2024
A35: 78 | B35: Pest | C35: 7 | D35: 61321 | E35: 0.4482 | F35: 0.2954 | H35: 0.0577 | I35: 0.1426 | J35: 0.022 | K35: 0.0115 | L35: =1-SUM(E35:K35) -> 0.0226 | M35: =E35 -> 0.4482 | N35: =SUM(F35:K35) -> 0.5292 | O35: =N35-M35 -> 0.081 | P35: Jobbik | Q35: =IF(O35>0,1,0) -> 1 | R35: =M35+Totals!$B$7 -> 0.38845 | S35: =N35-Totals!$B$7 -> 0.58895 | T35: =IF(S35>R35,1,0) -> 1 | U35: =IF(S35>R35,(S35-R35)*D35,S35*D35) -> 12294.86 | V35: =IF(R35>S35,(R35-S35)*D35,R35*D35) -> 23820.142 | W35: =R35-S35 -> -0.2005
A36: 73 | B36: Pest | C36: 2 | D36: 70211 | E36: 0.4414 | F36: 0.0844 | H36: 0.4372 | L36: =1-SUM(E36:K36) -> 0.037 | M36: =E36 -> 0.4414 | N36: =SUM(F36:K36) -> 0.5216 | O36: =N36-M36 -> 0.0802 | P36: Momentum | Q36: =IF(O36>0,1,0) -> 1 | R36: =M36+Totals!$B$7 -> 0.38165 | S36: =N36-Totals!$B$7 -> 0.58135 | T36: =IF(S36>R36,1,0) -> 1 | U36: =IF(S36>R36,(S36-R36)*D36,S36*D36) -> 14021.137 | V36: =IF(R36>S36,(R36-S36)*D36,R36*D36) -> 26796.028 | W36: =R36-S36 -> -0.1997
A37: 67 | B37: Komárom-Esztergom | C37: 1 | D37: 56551 | E37: 0.4443 | F37: 0.1958 | G37: 0.2686 | H37: 0.0431 | J37: 0.0139 | L37: =1-SUM(E37:K37) -> 0.0343 | M37: =E37 -> 0.4443 | N37: =SUM(F37:K37) -> 0.5214 | O37: =N37-M37 -> 0.0771 | P37: DK | Q37: =IF(O37>0,1,0) -> 1 | R37: =M37+Totals!$B$7 -> 0.38455 | S37: =N37-Totals!$B$7 -> 0.58115 | T37: =IF(S37>R37,1,0) -> 1 | U37: =IF(S37>R37,(S37-R37)*D37,S37*D37) -> 11117.927 | V37: =IF(R37>S37,(R37-S37)*D37,R37*D37) -> 21746.687 | W37: =R37-S37 -> -0.1966
A38: 36 | B38: Borsod-Abaúj-Zemplén | C38: 4 | D38: 48986 | E38: 0.4472 | F38: 0.3017 | G38: 0.1727 | H38: 0.0337 | J38: 0.0073 | L38: =1-SUM(E38:K38) -> 0.0374 | M38: =E38 -> 0.4472 | N38: =SUM(F38:K38) -> 0.5154 | O38: =N38-M38 -> 0.0682 | P38: Jobbik | Q38: =IF(O38>0,1,0) -> 1 | R38: =M38+Totals!$B$7 -> 0.38745 | S38: =N38-Totals!$B$7 -> 0.57515 | T38: =IF(S38>R38,1,0) -> 1 | U38: =IF(S38>R38,(S38-R38)*D38,S38*D38) -> 9194.6722 | V38: =IF(R38>S38,(R38-S38)*D38,R38*D38) -> 18979.626 | W38: =R38-S38 -> -0.1877
A39: 61 | B39: Heves | C39: 2 | D39: 55747 | E39: 0.4615 | F39: 0.4194 | G39: 0.0831 | H39: 0.0226 | K39: 0.0034 | L39: =1-SUM(E39:K39) -> 0.01 | M39: =E39 -> 0.4615 | N39: =SUM(F39:K39) -> 0.5285 | O39: =N39-M39 -> 0.067 | P39: Jobbik | Q39: =IF(O39>0,1,0) -> 1 | R39: =M39+Totals!$B$7 -> 0.40175 | S39: =N39-Totals!$B$7 -> 0.58825 | T39: =IF(S39>R39,1,0) -> 1 | U39: =IF(S39>R39,(S39-R39)*D39,S39*D39) -> 10396.815 | V39: =IF(R39>S39,(R39-S39)*D39,R39*D39) -> 22396.357 | W39: =R39-S39 -> -0.1865
A40: 77 | B40: Pest | C40: 6 | D40: 64428 | E40: 0.4592 | F40: 0.1916 | G40: 0.0741 | H40: 0.2291 | J40: 0.0132 | K40: 0.0036 | L40: =1-SUM(E40:K40) -> 0.0292 | M40: =E40 -> 0.4592 | N40: =SUM(F40:K40) -> 0.5116 | O40: =N40-M40 -> 0.0524 | P40: LMP | Q40: =IF(O40>0,1,0) -> 1 | R40: =M40+Totals!$B$7 -> 0.39945 | S40: =N40-Totals!$B$7 -> 0.57135 | T40: =IF(S40>R40,1,0) -> 1 | U40: =IF(S40>R40,(S40-R40)*D40,S40*D40) -> 11075.173 | V40: =IF(R40>S40,(R40-S40)*D40,R40*D40) -> 25735.765 | W40: =R40-S40 -> -0.1719
A41: 68 | B41: Komárom-Esztergom | C41: 2 | D41: 57813 | E41: 0.4521 | F41: 0.3431 | H41: 0.046 | I41: 0.112 | L41: =1-SUM(E41:K41) -> 0.0468 | M41: =E41 -> 0.4521 | N41: =SUM(F41:K41) -> 0.5011 | O41: =N41-M41 -> 0.049 | P41: Jobbik | Q41: =IF(O41>0,1,0) -> 1 | R41: =M41+Totals!$B$7 -> 0.39235 | S41: =N41-Totals!$B$7 -> 0.56085 | T41: =IF(S41>R41,1,0) -> 1 | U41: =IF(S41>R41,(S41-R41)*D41,S41*D41) -> 9741.4905 | V41: =IF(R41>S41,(R41-S41)*D41,R41*D41) -> 22682.931 | W41: =R41-S41 -> -0.1685
A42: 29 | B42: Békés | C42: 1 | D42: 49511 | E42: 0.447 | F42: 0.3306 | H42: 0.0527 | I42: 0.1103 | J42: 0.0018 | L42: =1-SUM(E42:K42) -> 0.0576 | M42: =E42 -> 0.447 | N42: =SUM(F42:K42) -> 0.4954 | O42: =N42-M42 -> 0.0484 | P42: Jobbik | Q42: =IF(O42>0,1,0) -> 1 | R42: =M42+Totals!$B$7 -> 0.38725 | S42: =N42-Totals!$B$7 -> 0.55515 | T42: =IF(S42>R42,1,0) -> 1 | U42: =IF(S42>R42,(S42-R42)*D42,S42*D42) -> 8312.8969 | V42: =IF(R42>S42,(R42-S42)*D42,R42*D42) -> 19173.135 | W42: =R42-S42 -> -0.1679
A43: 102 | B43: Veszprém | C43: 3 | D43: 48865 | E43: 0.4691 | F43: 0.4056 | G43: 0.082 | H43: 0.0227 | L43: =1-SUM(E43:K43) -> 0.0206 | M43: =E43 -> 0.4691 | N43: =SUM(F43:K43) -> 0.5103 | O43: =N43-M43 -> 0.0412 | P43: Jobbik | Q43: =IF(O43>0,1,0) -> 1 | R43: =M43+Totals!$B$7 -> 0.40935 | S43: =N43-Totals!$B$7 -> 0.57005 | T43: =IF(S43>R43,1,0) -> 1 | U43: =IF(S43>R43,(S43-R43)*D43,S43*D43) -> 7852.6055 | V43: =IF(R43>S43,(R43-S43)*D43,R43*D43) -> 20002.888 | W43: =R43-S43 -> -0.1607
A44: 44 | B44: Fejér | C44: 1 | D44: 47562 | E44: 0.4717 | F44: 0.1387 | H44: 0.0603 | I44: 0.3099 | L44: =1-SUM(E44:K44) -> 0.0194 | M44: =E44 -> 0.4717 | N44: =SUM(F44:K44) -> 0.5089 | O44: =N44-M44 -> 0.0372 | P44: MSZP | Q44: =IF(O44>0,1,0) -> 1 | R44: =M44+Totals!$B$7 -> 0.41195 | S44: =N44-Totals!$B$7 -> 0.56865 | T44: =IF(S44>R44,1,0) -> 1 | U44: =IF(S44>R44,(S44-R44)*D44,S44*D44) -> 7452.9654 | V44: =IF(R44>S44,(R44-S44)*D44,R44*D44) -> 19593.166 | W44: =R44-S44 -> -0.1567
A45: 54 | B45: Hajdú-Bihar | C45: 1 | D45: 49498 | E45: 0.4736 | F45: 0.1521 | G45: 0.2757 | H45: 0.0525 | J45: 0.0295 | L45: =1-SUM(E45:K45) -> 0.0166 | M45: =E45 -> 0.4736 | N45: =SUM(F45:K45) -> 0.5098 | O45: =N45-M45 -> 0.0362 | P45: DK | Q45: =IF(O45>0,1,0) -> 1 | R45: =M45+Totals!$B$7 -> 0.41385 | S45: =N45-Totals!$B$7 -> 0.56955 | T45: =IF(S45>R45,1,0) -> 1 | U45: =IF(S45>R45,(S45-R45)*D45,S45*D45) -> 7706.8386 | V45: =IF(R45>S45,(R45-S45)*D45,R45*D45) -> 20484.747 | W45: =R45-S45 -> -0.1557
A46: 74 | B46: Pest | C46: 3 | D46: 66603 | E46: 0.4611 | F46: 0.1745 | H46: 0.0707 | I46: 0.193 | J46: 0.0221 | K46: 0.0307 | L46: =1-SUM(E46:K46) -> 0.0479 | M46: =E46 -> 0.4611 | N46: =SUM(F46:K46) -> 0.491 | O46: =N46-M46 -> 0.0299 | P46: Momentum | Q46: =IF(O46>0,1,0) -> 1 | R46: =M46+Totals!$B$7 -> 0.40135 | S46: =N46-Totals!$B$7 -> 0.55075 | T46: =IF(S46>R46,1,0) -> 1 | U46: =IF(S46>R46,(S46-R46)*D46,S46*D46) -> 9950.4882 | V46: =IF(R46>S46,(R46-S46)*D46,R46*D46) -> 26731.114 | W46: =R46-S46 -> -0.1494
A47: 60 | B47: Heves | C47: 1 | D47: 58944 | E47: 0.4644 | F47: 0.3922 | H47: 0.0325 | I47: 0.0676 | L47: =1-SUM(E47:K47) -> 0.0433 | M47: =E47 -> 0.4644 | N47: =SUM(F47:K47) -> 0.4923 | O47: =N47-M47 -> 0.0279 | P47: DK | Q47: =IF(O47>0,1,0) -> 1 | R47: =M47+Totals!$B$7 -> 0.40465 | S47: =N47-Totals!$B$7 -> 0.55205 | T47: =IF(S47>R47,1,0) -> 1 | U47: =IF(S47>R47,(S47-R47)*D47,S47*D47) -> 8688.3456 | V47: =IF(R47>S47,(R47-S47)*D47,R47*D47) -> 23851.69 | W47: =R47-S47 -> -0.1474
A48: 89 | B48: Szabolcs-Szatmár-Bereg | C48: 2 | D48: 46768 | E48: 0.4789 | F48: 0.3505 | H48: 0.0279 | I48: 0.105 | J48: 0.0105 | L48: =1-SUM(E48:K48) -> 0.0272 | M48: =E48 -> 0.4789 | N48: =SUM(F48:K48) -> 0.4939 | O48: =N48-M48 -> 0.015 | P48: MSZP | Q48: =IF(O48>0,1,0) -> 1 | R48: =M48+Totals!$B$7 -> 0.41915 | S48: =N48-Totals!$B$7 -> 0.55365 | T48: =IF(S48>R48,1,0) -> 1 | U48: =IF(S48>R48,(S48-R48)*D48,S48*D48) -> 6290.296 | V48: =IF(R48>S48,(R48-S48)*D48,R48*D48) -> 19602.807 | W48: =R48-S48 -> -0.1345
A49: 70 | B49: Nógrád | C49: 1 | D49: 51991 | E49: 0.4734 | F49: 0.2222 | H49: 0.1631 | I49: 0.0892 | J49: 0.0062 | K49: 0.0043 | L49: =1-SUM(E49:K49) -> 0.0416 | M49: =E49 -> 0.4734 | N49: =SUM(F49:K49) -> 0.485 | O49: =N49-M49 -> 0.0116 | P49: DK | Q49: =IF(O49>0,1,0) -> 1 | R49: =M49+Totals!$B$7 -> 0.41365 | S49: =N49-Totals!$B$7 -> 0.54475 | T49: =IF(S49>R49,1,0) -> 1 | U49: =IF(S49>R49,(S49-R49)*D49,S49*D49) -> 6816.0201 | V49: =IF(R49>S49,(R49-S49)*D49,R49*D49) -> 21506.077 | W49: =R49-S49 -> -0.1311
A50: 106 | B50: Zala | C50: 3 | D50: 51567 | E50: 0.4879 | F50: 0.346 | H50: 0.0361 | I50: 0.0996 | J50: 0.0146 | L50: =1-SUM(E50:K50) -> 0.0158 | M50: =E50 -> 0.4879 | N50: =SUM(F50:K50) -> 0.4963 | O50: =N50-M50 -> 0.0084 | P50: DK | Q50: =IF(O50>0,1,0) -> 1 | R50: =M50+Totals!$B$7 -> 0.42815 | S50: =N50-Totals!$B$7 -> 0.55605 | T50: =IF(S50>R50,1,0) -> 1 | U50: =IF(S50>R50,(S50-R50)*D50,S50*D50) -> 6595.4193 | V50: =IF(R50>S50,(R50-S50)*D50,R50*D50) -> 22078.411 | W50: =R50-S50 -> -0.1279
A51: 35 | B51: Borsod-Abaúj-Zemplén | C51: 3 | D51: 42875 | E51: 0.481 | F51: 0.3672 | H51: 0.0273 | I51: 0.0803 | J51: 0.0105 | K51: 0.0034 | L51: =1-SUM(E51:K51) -> 0.0303 | M51: =E51 -> 0.481 | N51: =SUM(F51:K51) -> 0.4887 | O51: =N51-M51 -> 0.0077 | P51: MSZP | Q51: =IF(O51>0,1,0) -> 1 | R51: =M51+Totals!$B$7 -> 0.42125 | S51: =N51-Totals!$B$7 -> 0.54845 | T51: =IF(S51>R51,1,0) -> 1 | U51: =IF(S51>R51,(S51-R51)*D51,S51*D51) -> 5453.7 | V51: =IF(R51>S51,(R51-S51)*D51,R51*D51) -> 18061.094 | W51: =R51-S51 -> -0.1272
A52: 100 | B52: Veszprém | C52: 1 | D52: 53165 | E52: 0.4875 | F52: 0.1327 | G52: 0.3139 | H52: 0.0341 | J52: 0.014 | L52: =1-SUM(E52:K52) -> 0.0178 | M52: =E52 -> 0.4875 | N52: =SUM(F52:K52) -> 0.4947 | O52: =N52-M52 -> 0.0072 | P52: DK | Q52: =IF(O52>0,1,0) -> 1 | R52: =M52+Totals!$B$7 -> 0.42775 | S52: =N52-Totals!$B$7 -> 0.55445 | T52: =IF(S52>R52,1,0) -> 1 | U52: =IF(S52>R52,(S52-R52)*D52,S52*D52) -> 6736.0055 | V52: =IF(R52>S52,(R52-S52)*D52,R52*D52) -> 22741.329 | W52: =R52-S52 -> -0.1267
A53: 59 | B53: Hajdú-Bihar | C53: 6 | D53: 44656 | E53: 0.4891 | F53: 0.2738 | G53: 0.1772 | H53: 0.0299 | J53: 0.0108 | L53: =1-SUM(E53:K53) -> 0.0192 | M53: =E53 -> 0.4891 | N53: =SUM(F53:K53) -> 0.4917 | O53: =N53-M53 -> 0.0026 | P53: Jobbik | Q53: =IF(O53>0,1,0) -> 1 | R53: =M53+Totals!$B$7 -> 0.42935 | S53: =N53-Totals!$B$7 -> 0.55145 | T53: =IF(S53>R53,1,0) -> 1 | U53: =IF(S53>R53,(S53-R53)*D53,S53*D53) -> 5452.4976 | V53: =IF(R53>S53,(R53-S53)*D53,R53*D53) -> 19173.054 | W53: =R53-S53 -> -0.1221
A54: 38 | B54: Borsod-Abaúj-Zemplén | C54: 6 | D54: 52056 | E54: 0.493 | F54: 0.3164 | G54: 0.149 | H54: 0.0227 | L54: =1-SUM(E54:K54) -> 0.0189 | M54: =E54 -> 0.493 | N54: =SUM(F54:K54) -> 0.4881 | O54: =N54-M54 -> -0.0049 | P54: MSZP | Q54: =IF(O54>0,1,0) -> 0 | R54: =M54+Totals!$B$7 -> 0.43325 | S54: =N54-Totals!$B$7 -> 0.54785 | T54: =IF(S54>R54,1,0) -> 1 | U54: =IF(S54>R54,(S54-R54)*D54,S54*D54) -> 5965.6176 | V54: =IF(R54>S54,(R54-S54)*D54,R54*D54) -> 22553.262 | W54: =R54-S54 -> -0.1146
A55: 49 | B55: Győr-Moson-Sopron | C55: 1 | D55: 48827 | E55: 0.4955 | F55: 0.173 | H55: 0.0639 | I55: 0.2163 | J55: 0.0287 | L55: =1-SUM(E55:K55) -> 0.0226 | M55: =E55 -> 0.4955 | N55: =SUM(F55:K55) -> 0.4819 | O55: =N55-M55 -> -0.0136 | P55: DK | Q55: =IF(O55>0,1,0) -> 0 | R55: =M55+Totals!$B$7 -> 0.43575 | S55: =N55-Totals!$B$7 -> 0.54165 | T55: =IF(S55>R55,1,0) -> 1 | U55: =IF(S55>R55,(S55-R55)*D55,S55*D55) -> 5170.7793 | V55: =IF(R55>S55,(R55-S55)*D55,R55*D55) -> 21276.365 | W55: =R55-S55 -> -0.1059
A56: 37 | B56: Borsod-Abaúj-Zemplén | C56: 5 | D56: 48957 | E56: 0.4903 | F56: 0.2929 | H56: 0.1295 | I56: 0.048 | J56: 0.0048 | L56: =1-SUM(E56:K56) -> 0.0345 | M56: =E56 -> 0.4903 | N56: =SUM(F56:K56) -> 0.4752 | O56: =N56-M56 -> -0.0151 | P56: Jobbik | Q56: =IF(O56>0,1,0) -> 0 | R56: =M56+Totals!$B$7 -> 0.43055 | S56: =N56-Totals!$B$7 -> 0.53495 | T56: =IF(S56>R56,1,0) -> 1 | U56: =IF(S56>R56,(S56-R56)*D56,S56*D56) -> 5111.1108 | V56: =IF(R56>S56,(R56-S56)*D56,R56*D56) -> 21078.436 | W56: =R56-S56 -> -0.1044
A57: 28 | B57: Baranya | C57: 4 | D57: 50029 | E57: 0.4893 | F57: 0.1582 | G57: 0.2719 | H57: 0.0333 | J57: 0.0077 | K57: 0.0029 | L57: =1-SUM(E57:K57) -> 0.0367 | M57: =E57 -> 0.4893 | N57: =SUM(F57:K57) -> 0.474 | O57: =N57-M57 -> -0.0153 | P57: DK | Q57: =IF(O57>0,1,0) -> 0 | R57: =M57+Totals!$B$7 -> 0.42955 | S57: =N57-Totals!$B$7 -> 0.53375 | T57: =IF(S57>R57,1,0) -> 1 | U57: =IF(S57>R57,(S57-R57)*D57,S57*D57) -> 5213.0218 | V57: =IF(R57>S57,(R57-S57)*D57,R57*D57) -> 21489.957 | W57: =R57-S57 -> -0.1042
A58: 42 | B58: Csongrád | C58: 3 | D58: 55068 | E58: 0.4962 | F58: 0.3779 | H58: 0.0281 | I58: 0.0485 | J58: 0.0157 | K58: 0.0085 | L58: =1-SUM(E58:K58) -> 0.0251 | M58: =E58 -> 0.4962 | N58: =SUM(F58:K58) -> 0.4787 | O58: =N58-M58 -> -0.0175 | P58: Jobbik | Q58: =IF(O58>0,1,0) -> 0 | R58: =M58+Totals!$B$7 -> 0.43645 | S58: =N58-Totals!$B$7 -> 0.53845 | T58: =IF(S58>R58,1,0) -> 1 | U58: =IF(S58>R58,(S58-R58)*D58,S58*D58) -> 5616.936 | V58: =IF(R58>S58,(R58-S58)*D58,R58*D58) -> 24034.429 | W58: =R58-S58 -> -0.102
A59: 97 | B59: Vas | C59: 1 | D59: 52254 | E59: 0.4992 | F59: 0.1258 | G59: 0.3052 | H59: 0.0355 | J59: 0.0117 | L59: =1-SUM(E59:K59) -> 0.0226 | M59: =E59 -> 0.4992 | N59: =SUM(F59:K59) -> 0.4782 | O59: =N59-M59 -> -0.021 | P59: DK | Q59: =IF(O59>0,1,0) -> 0 | R59: =M59+Totals!$B$7 -> 0.43945 | S59: =N59-Totals!$B$7 -> 0.53795 | T59: =IF(S59>R59,1,0) -> 1 | U59: =IF(S59>R59,(S59-R59)*D59,S59*D59) -> 5147.019 | V59: =IF(R59>S59,(R59-S59)*D59,R59*D59) -> 22963.02 | W59: =R59-S59 -> -0.0985
A60: 55 | B60: Hajdú-Bihar | C60: 2 | D60: 50067 | E60: 0.494 | F60: 0.2541 | H60: 0.0598 | I60: 0.1199 | J60: 0.0269 | K60: 0.0106 | L60: =1-SUM(E60:K60) -> 0.0347 | M60: =E60 -> 0.494 | N60: =SUM(F60:K60) -> 0.4713 | O60: =N60-M60 -> -0.0227 | P60: Momentum | Q60: =IF(O60>0,1,0) -> 0 | R60: =M60+Totals!$B$7 -> 0.43425 | S60: =N60-Totals!$B$7 -> 0.53105 | T60: =IF(S60>R60,1,0) -> 1 | U60: =IF(S60>R60,(S60-R60)*D60,S60*D60) -> 4846.4856 | V60: =IF(R60>S60,(R60-S60)*D60,R60*D60) -> 21741.595 | W60: =R60-S60 -> -0.0968
A61: 62 | B61: Heves | C61: 3 | D61: 54632 | E61: 0.5075 | F61: 0.3518 | G61: 0.087 | H61: 0.0312 | J61: 0.01 | L61: =1-SUM(E61:K61) -> 0.0125 | M61: =E61 -> 0.5075 | N61: =SUM(F61:K61) -> 0.48 | O61: =N61-M61 -> -0.0275 | P61: MSZP | Q61: =IF(O61>0,1,0) -> 0 | R61: =M61+Totals!$B$7 -> 0.44775 | S61: =N61-Totals!$B$7 -> 0.53975 | T61: =IF(S61>R61,1,0) -> 1 | U61: =IF(S61>R61,(S61-R61)*D61,S61*D61) -> 5026.144 | V61: =IF(R61>S61,(R61-S61)*D61,R61*D61) -> 24461.478 | W61: =R61-S61 -> -0.092
A62: 31 | B62: Békés | C62: 3 | D62: 45872 | E62: 0.5043 | F62: 0.2313 | G62: 0.1855 | H62: 0.0379 | J62: 0.0158 | L62: =1-SUM(E62:K62) -> 0.0252 | M62: =E62 -> 0.5043 | N62: =SUM(F62:K62) -> 0.4705 | O62: =N62-M62 -> -0.0338 | P62: DK | Q62: =IF(O62>0,1,0) -> 0 | R62: =M62+Totals!$B$7 -> 0.44455 | S62: =N62-Totals!$B$7 -> 0.53025 | T62: =IF(S62>R62,1,0) -> 1 | U62: =IF(S62>R62,(S62-R62)*D62,S62*D62) -> 3931.2304 | V62: =IF(R62>S62,(R62-S62)*D62,R62*D62) -> 20392.398 | W62: =R62-S62 -> -0.0857
A63: 101 | B63: Veszprém | C63: 2 | D63: 51910 | E63: 0.5063 | F63: 0.3416 | I63: 0.1054 | J63: 0.0246 | L63: =1-SUM(E63:K63) -> 0.0221 | M63: =E63 -> 0.5063 | N63: =SUM(F63:K63) -> 0.4716 | O63: =N63-M63 -> -0.0347 | P63: DK | Q63: =IF(O63>0,1,0) -> 0 | R63: =M63+Totals!$B$7 -> 0.44655 | S63: =N63-Totals!$B$7 -> 0.53135 | T63: =IF(S63>R63,1,0) -> 1 | U63: =IF(S63>R63,(S63-R63)*D63,S63*D63) -> 4401.968 | V63: =IF(R63>S63,(R63-S63)*D63,R63*D63) -> 23180.41 | W63: =R63-S63 -> -0.0848
A64: 82 | B64: Pest | C64: 11 | D64: 58464 | E64: 0.5094 | F64: 0.2947 | G64: 0.1224 | H64: 0.0564 | L64: =1-SUM(E64:K64) -> 0.0171 | M64: =E64 -> 0.5094 | N64: =SUM(F64:K64) -> 0.4735 | O64: =N64-M64 -> -0.0359 | P64: DK | Q64: =IF(O64>0,1,0) -> 0 | R64: =M64+Totals!$B$7 -> 0.44965 | S64: =N64-Totals!$B$7 -> 0.53325 | T64: =IF(S64>R64,1,0) -> 1 | U64: =IF(S64>R64,(S64-R64)*D64,S64*D64) -> 4887.5904 | V64: =IF(R64>S64,(R64-S64)*D64,R64*D64) -> 26288.338 | W64: =R64-S64 -> -0.0836
A65: 87 | B65: Somogy | C65: 4 | D65: 44846 | E65: 0.5111 | F65: 0.1925 | G65: 0.2502 | H65: 0.0205 | J65: 0.0107 | L65: =1-SUM(E65:K65) -> 0.015 | M65: =E65 -> 0.5111 | N65: =SUM(F65:K65) -> 0.4739 | O65: =N65-M65 -> -0.0372 | P65: Jobbik | Q65: =IF(O65>0,1,0) -> 0 | R65: =M65+Totals!$B$7 -> 0.45135 | S65: =N65-Totals!$B$7 -> 0.53365 | T65: =IF(S65>R65,1,0) -> 1 | U65: =IF(S65>R65,(S65-R65)*D65,S65*D65) -> 3690.8258 | V65: =IF(R65>S65,(R65-S65)*D65,R65*D65) -> 20241.242 | W65: =R65-S65 -> -0.0823
A66: 64 | B66: Jász-Nagykun-Szolnok | C66: 2 | D66: 47935 | E66: 0.5121 | F66: 0.335 | H66: 0.0425 | I66: 0.0812 | J66: 0.0062 | K66: 0.0022 | L66: =1-SUM(E66:K66) -> 0.0208 | M66: =E66 -> 0.5121 | N66: =SUM(F66:K66) -> 0.4671 | O66: =N66-M66 -> -0.045 | P66: MSZP | Q66: =IF(O66>0,1,0) -> 0 | R66: =M66+Totals!$B$7 -> 0.45235 | S66: =N66-Totals!$B$7 -> 0.52685 | T66: =IF(S66>R66,1,0) -> 1 | U66: =IF(S66>R66,(S66-R66)*D66,S66*D66) -> 3571.1575 | V66: =IF(R66>S66,(R66-S66)*D66,R66*D66) -> 21683.397 | W66: =R66-S66 -> -0.0745
A67: 69 | B67: Komárom-Esztergom | C67: 3 | D67: 57348 | E67: 0.5099 | F67: 0.2661 | G67: 0.1243 | H67: 0.0493 | J67: 0.0238 | L67: =1-SUM(E67:K67) -> 0.0266 | M67: =E67 -> 0.5099 | N67: =SUM(F67:K67) -> 0.4635 | O67: =N67-M67 -> -0.0464 | P67: MSZP | Q67: =IF(O67>0,1,0) -> 0 | R67: =M67+Totals!$B$7 -> 0.45015 | S67: =N67-Totals!$B$7 -> 0.52325 | T67: =IF(S67>R67,1,0) -> 1 | U67: =IF(S67>R67,(S67-R67)*D67,S67*D67) -> 4192.1388 | V67: =IF(R67>S67,(R67-S67)*D67,R67*D67) -> 25815.202 | W67: =R67-S67 -> -0.0731
A68: 75 | B68: Pest | C68: 4 | D68: 53608 | E68: 0.5141 | F68: 0.2392 | H68: 0.189 | J68: 0.0173 | K68: 0.0182 | L68: =1-SUM(E68:K68) -> 0.0222 | M68: =E68 -> 0.5141 | N68: =SUM(F68:K68) -> 0.4637 | O68: =N68-M68 -> -0.0504 | P68: Jobbik | Q68: =IF(O68>0,1,0) -> 0 | R68: =M68+Totals!$B$7 -> 0.45435 | S68: =N68-Totals!$B$7 -> 0.52345 | T68: =IF(S68>R68,1,0) -> 1 | U68: =IF(S68>R68,(S68-R68)*D68,S68*D68) -> 3704.3128 | V68: =IF(R68>S68,(R68-S68)*D68,R68*D68) -> 24356.795 | W68: =R68-S68 -> -0.0691
A69: 85 | B69: Somogy | C69: 2 | D69: 39156 | E69: 0.5163 | F69: 0.3818 | H69: 0.0201 | I69: 0.0598 | K69: 0.0025 | L69: =1-SUM(E69:K69) -> 0.0195 | M69: =E69 -> 0.5163 | N69: =SUM(F69:K69) -> 0.4642 | O69: =N69-M69 -> -0.0521 | P69: Jobbik | Q69: =IF(O69>0,1,0) -> 0 | R69: =M69+Totals!$B$7 -> 0.45655 | S69: =N69-Totals!$B$7 -> 0.52395 | T69: =IF(S69>R69,1,0) -> 1 | U69: =IF(S69>R69,(S69-R69)*D69,S69*D69) -> 2639.1144 | V69: =IF(R69>S69,(R69-S69)*D69,R69*D69) -> 17876.672 | W69: =R69-S69 -> -0.0674
A70: 86 | B70: Somogy | C70: 3 | D70: 42219 | E70: 0.5185 | F70: 0.3718 | G70: 0.0717 | H70: 0.0198 | L70: =1-SUM(E70:K70) -> 0.0182 | M70: =E70 -> 0.5185 | N70: =SUM(F70:K70) -> 0.4633 | O70: =N70-M70 -> -0.0552 | P70: Jobbik | Q70: =IF(O70>0,1,0) -> 0 | R70: =M70+Totals!$B$7 -> 0.45875 | S70: =N70-Totals!$B$7 -> 0.52305 | T70: =IF(S70>R70,1,0) -> 1 | U70: =IF(S70>R70,(S70-R70)*D70,S70*D70) -> 2714.6817 | V70: =IF(R70>S70,(R70-S70)*D70,R70*D70) -> 19367.966 | W70: =R70-S70 -> -0.0643
A71: 83 | B71: Pest | C71: 12 | D71: 48076 | E71: 0.5164 | F71: 0.3358 | H71: 0.0408 | I71: 0.0701 | J71: 0.0133 | L71: =1-SUM(E71:K71) -> 0.0236 | M71: =E71 -> 0.5164 | N71: =SUM(F71:K71) -> 0.46 | O71: =N71-M71 -> -0.0564 | P71: Jobbik | Q71: =IF(O71>0,1,0) -> 0 | R71: =M71+Totals!$B$7 -> 0.45665 | S71: =N71-Totals!$B$7 -> 0.51975 | T71: =IF(S71>R71,1,0) -> 1 | U71: =IF(S71>R71,(S71-R71)*D71,S71*D71) -> 3033.5956 | V71: =IF(R71>S71,(R71-S71)*D71,R71*D71) -> 21953.905 | W71: =R71-S71 -> -0.0631
A72: 58 | B72: Hajdú-Bihar | C72: 5 | D72: 45450 | E72: 0.5158 | F72: 0.298 | G72: 0.1125 | H72: 0.0346 | J72: 0.0126 | L72: =1-SUM(E72:K72) -> 0.0265 | M72: =E72 -> 0.5158 | N72: =SUM(F72:K72) -> 0.4577 | O72: =N72-M72 -> -0.0581 | P72: Momentum | Q72: =IF(O72>0,1,0) -> 0 | R72: =M72+Totals!$B$7 -> 0.45605 | S72: =N72-Totals!$B$7 -> 0.51745 | T72: =IF(S72>R72,1,0) -> 1 | U72: =IF(S72>R72,(S72-R72)*D72,S72*D72) -> 2790.63 | V72: =IF(R72>S72,(R72-S72)*D72,R72*D72) -> 20727.472 | W72: =R72-S72 -> -0.0614
A73: 43 | B73: Csongrád | C73: 4 | D73: 57039 | E73: 0.5178 | F73: 0.3671 | G73: 0.0742 | H73: 0.0176 | L73: =1-SUM(E73:K73) -> 0.0233 | M73: =E73 -> 0.5178 | N73: =SUM(F73:K73) -> 0.4589 | O73: =N73-M73 -> -0.0589 | P73: MMM | Q73: =IF(O73>0,1,0) -> 0 | R73: =M73+Totals!$B$7 -> 0.45805 | S73: =N73-Totals!$B$7 -> 0.51865 | T73: =IF(S73>R73,1,0) -> 1 | U73: =IF(S73>R73,(S73-R73)*D73,S73*D73) -> 3456.5634 | V73: =IF(R73>S73,(R73-S73)*D73,R73*D73) -> 26126.714 | W73: =R73-S73 -> -0.0606
A74: 80 | B74: Pest | C74: 9 | D74: 47863 | E74: 0.5025 | F74: 0.3346 | G74: 0.0716 | H74: 0.0294 | K74: 0.0034 | L74: =1-SUM(E74:K74) -> 0.0585 | M74: =E74 -> 0.5025 | N74: =SUM(F74:K74) -> 0.439 | O74: =N74-M74 -> -0.0635 | P74: LMP | Q74: =IF(O74>0,1,0) -> 0 | R74: =M74+Totals!$B$7 -> 0.44275 | S74: =N74-Totals!$B$7 -> 0.49875 | T74: =IF(S74>R74,1,0) -> 1 | U74: =IF(S74>R74,(S74-R74)*D74,S74*D74) -> 2680.328 | V74: =IF(R74>S74,(R74-S74)*D74,R74*D74) -> 21191.343 | W74: =R74-S74 -> -0.056
A75: 94 | B75: Tolna | C75: 1 | D75: 41653 | E75: 0.5156 | F75: 0.0936 | H75: 0.3576 | L75: =1-SUM(E75:K75) -> 0.0332 | M75: =E75 -> 0.5156 | N75: =SUM(F75:K75) -> 0.4512 | O75: =N75-M75 -> -0.0644 | P75: MSZP | Q75: =IF(O75>0,1,0) -> 0 | R75: =M75+Totals!$B$7 -> 0.45585 | S75: =N75-Totals!$B$7 -> 0.51095 | T75: =IF(S75>R75,1,0) -> 1 | U75: =IF(S75>R75,(S75-R75)*D75,S75*D75) -> 2295.0803 | V75: =IF(R75>S75,(R75-S75)*D75,R75*D75) -> 18987.52 | W75: =R75-S75 -> -0.0551
A76: 20 | B76: Bács-Kiskun | C76: 2 | D76: 50612 | E76: 0.5274 | F76: 0.1976 | G76: 0.1664 | H76: 0.0677 | J76: 0.0303 | L76: =1-SUM(E76:K76) -> 0.0106 | M76: =E76 -> 0.5274 | N76: =SUM(F76:K76) -> 0.462 | O76: =N76-M76 -> -0.0654 | P76: Momentum | Q76: =IF(O76>0,1,0) -> 0 | R76: =M76+Totals!$B$7 -> 0.46765 | S76: =N76-Totals!$B$7 -> 0.52175 | T76: =IF(S76>R76,1,0) -> 1 | U76: =IF(S76>R76,(S76-R76)*D76,S76*D76) -> 2738.1092 | V76: =IF(R76>S76,(R76-S76)*D76,R76*D76) -> 23668.702 | W76: =R76-S76 -> -0.0541
A77: 81 | B77: Pest | C77: 10 | D77: 49395 | E77: 0.5261 | F77: 0.2621 | G77: 0.143 | H77: 0.0337 | J77: 0.0161 | K77: 0.0058 | L77: =1-SUM(E77:K77) -> 0.0132 | M77: =E77 -> 0.5261 | N77: =SUM(F77:K77) -> 0.4607 | O77: =N77-M77 -> -0.0654 | P77: Dialogue | Q77: =IF(O77>0,1,0) -> 0 | R77: =M77+Totals!$B$7 -> 0.46635 | S77: =N77-Totals!$B$7 -> 0.52045 | T77: =IF(S77>R77,1,0) -> 1 | U77: =IF(S77>R77,(S77-R77)*D77,S77*D77) -> 2672.2695 | V77: =IF(R77>S77,(R77-S77)*D77,R77*D77) -> 23035.358 | W77: =R77-S77 -> -0.0541
A78: 46 | B78: Fejér | C78: 3 | D78: 53642 | E78: 0.5297 | F78: 0.2341 | G78: 0.1499 | H78: 0.0509 | J78: 0.0257 | L78: =1-SUM(E78:K78) -> 0.0097 | M78: =E78 -> 0.5297 | N78: =SUM(F78:K78) -> 0.4606 | O78: =N78-M78 -> -0.0691 | P78: DK | Q78: =IF(O78>0,1,0) -> 0 | R78: =M78+Totals!$B$7 -> 0.46995 | S78: =N78-Totals!$B$7 -> 0.52035 | T78: =IF(S78>R78,1,0) -> 1 | U78: =IF(S78>R78,(S78-R78)*D78,S78*D78) -> 2703.5568 | V78: =IF(R78>S78,(R78-S78)*D78,R78*D78) -> 25209.058 | W78: =R78-S78 -> -0.0504
A79: 30 | B79: Békés | C79: 2 | D79: 46632 | E79: 0.52 | F79: 0.2939 | H79: 0.0547 | I79: 0.0866 | J79: 0.0145 | L79: =1-SUM(E79:K79) -> 0.0303 | M79: =E79 -> 0.52 | N79: =SUM(F79:K79) -> 0.4497 | O79: =N79-M79 -> -0.0703 | P79: DK | Q79: =IF(O79>0,1,0) -> 0 | R79: =M79+Totals!$B$7 -> 0.46025 | S79: =N79-Totals!$B$7 -> 0.50945 | T79: =IF(S79>R79,1,0) -> 1 | U79: =IF(S79>R79,(S79-R79)*D79,S79*D79) -> 2294.2944 | V79: =IF(R79>S79,(R79-S79)*D79,R79*D79) -> 21462.378 | W79: =R79-S79 -> -0.0492
A80: 21 | B80: Bács-Kiskun | C80: 3 | D80: 46069 | E80: 0.5322 | F80: 0.302 | G80: 0.1113 | H80: 0.0274 | J80: 0.0126 | L80: =1-SUM(E80:K80) -> 0.0145 | M80: =E80 -> 0.5322 | N80: =SUM(F80:K80) -> 0.4533 | O80: =N80-M80 -> -0.0789 | P80: DK | Q80: =IF(O80>0,1,0) -> 0 | R80: =M80+Totals!$B$7 -> 0.47245 | S80: =N80-Totals!$B$7 -> 0.51305 | T80: =IF(S80>R80,1,0) -> 1 | U80: =IF(S80>R80,(S80-R80)*D80,S80*D80) -> 1870.4014 | V80: =IF(R80>S80,(R80-S80)*D80,R80*D80) -> 21765.299 | W80: =R80-S80 -> -0.0406
A81: 104 | B81: Zala | C81: 1 | D81: 57636 | E81: 0.528 | F81: 0.2189 | G81: 0.1543 | H81: 0.0506 | J81: 0.0158 | L81: =1-SUM(E81:K81) -> 0.0324 | M81: =E81 -> 0.528 | N81: =SUM(F81:K81) -> 0.4396 | O81: =N81-M81 -> -0.0884 | P81: DK | Q81: =IF(O81>0,1,0) -> 0 | R81: =M81+Totals!$B$7 -> 0.46825 | S81: =N81-Totals!$B$7 -> 0.49935 | T81: =IF(S81>R81,1,0) -> 1 | U81: =IF(S81>R81,(S81-R81)*D81,S81*D81) -> 1792.4796 | V81: =IF(R81>S81,(R81-S81)*D81,R81*D81) -> 26988.057 | W81: =R81-S81 -> -0.0311
A82: 45 | B82: Fejér | C82: 2 | D82: 50752 | E82: 0.5369 | F82: 0.2887 | G82: 0.0938 | H82: 0.0428 | J82: 0.02 | L82: =1-SUM(E82:K82) -> 0.0178 | M82: =E82 -> 0.5369 | N82: =SUM(F82:K82) -> 0.4453 | O82: =N82-M82 -> -0.0916 | P82: Jobbik | Q82: =IF(O82>0,1,0) -> 0 | R82: =M82+Totals!$B$7 -> 0.47715 | S82: =N82-Totals!$B$7 -> 0.50505 | T82: =IF(S82>R82,1,0) -> 1 | U82: =IF(S82>R82,(S82-R82)*D82,S82*D82) -> 1415.9808 | V82: =IF(R82>S82,(R82-S82)*D82,R82*D82) -> 24216.317 | W82: =R82-S82 -> -0.0279
A83: 24 | B83: Bács-Kiskun | C83: 6 | D83: 43777 | E83: 0.5445 | F83: 0.1874 | G83: 0.18 | H83: 0.0584 | J83: 0.0166 | L83: =1-SUM(E83:K83) -> 0.0131 | M83: =E83 -> 0.5445 | N83: =SUM(F83:K83) -> 0.4424 | O83: =N83-M83 -> -0.1021 | P83: Momentum | Q83: =IF(O83>0,1,0) -> 0 | R83: =M83+Totals!$B$7 -> 0.48475 | S83: =N83-Totals!$B$7 -> 0.50215 | T83: =IF(S83>R83,1,0) -> 1 | U83: =IF(S83>R83,(S83-R83)*D83,S83*D83) -> 761.7198 | V83: =IF(R83>S83,(R83-S83)*D83,R83*D83) -> 21220.901 | W83: =R83-S83 -> -0.0174
A84: 19 | B84: Bács-Kiskun | C84: 1 | D84: 46798 | E84: 0.5453 | F84: 0.24 | H84: 0.0992 | I84: 0.0768 | J84: 0.0236 | L84: =1-SUM(E84:K84) -> 0.0151 | M84: =E84 -> 0.5453 | N84: =SUM(F84:K84) -> 0.4396 | O84: =N84-M84 -> -0.1057 | P84: DK | Q84: =IF(O84>0,1,0) -> 0 | R84: =M84+Totals!$B$7 -> 0.48555 | S84: =N84-Totals!$B$7 -> 0.49935 | T84: =IF(S84>R84,1,0) -> 1 | U84: =IF(S84>R84,(S84-R84)*D84,S84*D84) -> 645.8124 | V84: =IF(R84>S84,(R84-S84)*D84,R84*D84) -> 22722.769 | W84: =R84-S84 -> -0.0138
A85: 71 | B85: Nógrád | C85: 2 | D85: 54834 | E85: 0.5426 | F85: 0.2747 | G85: 0.1236 | H85: 0.0382 | L85: =1-SUM(E85:K85) -> 0.0209 | M85: =E85 -> 0.5426 | N85: =SUM(F85:K85) -> 0.4365 | O85: =N85-M85 -> -0.1061 | P85: Momentum | Q85: =IF(O85>0,1,0) -> 0 | R85: =M85+Totals!$B$7 -> 0.48285 | S85: =N85-Totals!$B$7 -> 0.49625 | T85: =IF(S85>R85,1,0) -> 1 | U85: =IF(S85>R85,(S85-R85)*D85,S85*D85) -> 734.7756 | V85: =IF(R85>S85,(R85-S85)*D85,R85*D85) -> 26476.597 | W85: =R85-S85 -> -0.0134
A86: 39 | B86: Borsod-Abaúj-Zemplén | C86: 7 | D86: 52417 | E86: 0.5479 | F86: 0.3127 | G86: 0.0838 | H86: 0.0338 | K86: 0.0024 | L86: =1-SUM(E86:K86) -> 0.0194 | M86: =E86 -> 0.5479 | N86: =SUM(F86:K86) -> 0.4327 | O86: =N86-M86 -> -0.1152 | P86: DK | Q86: =IF(O86>0,1,0) -> 0 | R86: =M86+Totals!$B$7 -> 0.48815 | S86: =N86-Totals!$B$7 -> 0.49245 | T86: =IF(S86>R86,1,0) -> 1 | U86: =IF(S86>R86,(S86-R86)*D86,S86*D86) -> 225.3931 | V86: =IF(R86>S86,(R86-S86)*D86,R86*D86) -> 25587.359 | W86: =R86-S86 -> -0.0043
A87: 57 | B87: Hajdú-Bihar | C87: 4 | D87: 42891 | E87: 0.5509 | F87: 0.3016 | G87: 0.0982 | H87: 0.0262 | J87: 0.008 | L87: =1-SUM(E87:K87) -> 0.0151 | M87: =E87 -> 0.5509 | N87: =SUM(F87:K87) -> 0.434 | O87: =N87-M87 -> -0.1169 | P87: Momentum | Q87: =IF(O87>0,1,0) -> 0 | R87: =M87+Totals!$B$7 -> 0.49115 | S87: =N87-Totals!$B$7 -> 0.49375 | T87: =IF(S87>R87,1,0) -> 1 | U87: =IF(S87>R87,(S87-R87)*D87,S87*D87) -> 111.5166 | V87: =IF(R87>S87,(R87-S87)*D87,R87*D87) -> 21065.915 | W87: =R87-S87 -> -0.0026
A88: 52 | B88: Győr-Moson-Sopron | C88: 4 | D88: 56825 | E88: 0.5444 | F88: 0.1813 | G88: 0.1682 | H88: 0.0448 | J88: 0.0321 | L88: =1-SUM(E88:K88) -> 0.0292 | M88: =E88 -> 0.5444 | N88: =SUM(F88:K88) -> 0.4264 | O88: =N88-M88 -> -0.118 | P88: Jobbik | Q88: =IF(O88>0,1,0) -> 0 | R88: =M88+Totals!$B$7 -> 0.48465 | S88: =N88-Totals!$B$7 -> 0.48615 | T88: =IF(S88>R88,1,0) -> 1 | U88: =IF(S88>R88,(S88-R88)*D88,S88*D88) -> 85.2375 | V88: =IF(R88>S88,(R88-S88)*D88,R88*D88) -> 27540.236 | W88: =R88-S88 -> -0.0015
A89: 105 | B89: Zala | C89: 2 | D89: 51555 | E89: 0.5551 | F89: 0.2831 | H89: 0.041 | I89: 0.083 | J89: 0.0212 | K89: 0.0068 | L89: =1-SUM(E89:K89) -> 0.0098 | M89: =E89 -> 0.5551 | N89: =SUM(F89:K89) -> 0.4351 | O89: =N89-M89 -> -0.12 | P89: Momentum | Q89: =IF(O89>0,1,0) -> 0 | R89: =M89+Totals!$B$7 -> 0.49535 | S89: =N89-Totals!$B$7 -> 0.49485 | T89: =IF(S89>R89,1,0) -> 0 | U89: =IF(S89>R89,(S89-R89)*D89,S89*D89) -> 25511.992 | V89: =IF(R89>S89,(R89-S89)*D89,R89*D89) -> 25.7775 | W89: =R89-S89 -> 0.0005
A90: 65 | B90: Jász-Nagykun-Szolnok | C90: 3 | D90: 48991 | E90: 0.5529 | F90: 0.3292 | H90: 0.0344 | I90: 0.0544 | J90: 0.009 | L90: =1-SUM(E90:K90) -> 0.0201 | M90: =E90 -> 0.5529 | N90: =SUM(F90:K90) -> 0.427 | O90: =N90-M90 -> -0.1259 | P90: Jobbik | Q90: =IF(O90>0,1,0) -> 0 | R90: =M90+Totals!$B$7 -> 0.49315 | S90: =N90-Totals!$B$7 -> 0.48675 | T90: =IF(S90>R90,1,0) -> 0 | U90: =IF(S90>R90,(S90-R90)*D90,S90*D90) -> 23846.369 | V90: =IF(R90>S90,(R90-S90)*D90,R90*D90) -> 313.5424 | W90: =R90-S90 -> 0.0064
A91: 53 | B91: Győr-Moson-Sopron | C91: 5 | D91: 52930 | E91: 0.5485 | F91: 0.2612 | G91: 0.0991 | H91: 0.0524 | K91: 0.0041 | L91: =1-SUM(E91:K91) -> 0.0347 | M91: =E91 -> 0.5485 | N91: =SUM(F91:K91) -> 0.4168 | O91: =N91-M91 -> -0.1317 | P91: Jobbik | Q91: =IF(O91>0,1,0) -> 0 | R91: =M91+Totals!$B$7 -> 0.48875 | S91: =N91-Totals!$B$7 -> 0.47655 | T91: =IF(S91>R91,1,0) -> 0 | U91: =IF(S91>R91,(S91-R91)*D91,S91*D91) -> 25223.791 | V91: =IF(R91>S91,(R91-S91)*D91,R91*D91) -> 645.746 | W91: =R91-S91 -> 0.0122
A92: 23 | B92: Bács-Kiskun | C92: 5 | D92: 45724 | E92: 0.5585 | F92: 0.3328 | H92: 0.0232 | I92: 0.0587 | J92: 0.0102 | L92: =1-SUM(E92:K92) -> 0.0166 | M92: =E92 -> 0.5585 | N92: =SUM(F92:K92) -> 0.4249 | O92: =N92-M92 -> -0.1336 | P92: DK | Q92: =IF(O92>0,1,0) -> 0 | R92: =M92+Totals!$B$7 -> 0.49875 | S92: =N92-Totals!$B$7 -> 0.48465 | T92: =IF(S92>R92,1,0) -> 0 | U92: =IF(S92>R92,(S92-R92)*D92,S92*D92) -> 22160.137 | V92: =IF(R92>S92,(R92-S92)*D92,R92*D92) -> 644.7084 | W92: =R92-S92 -> 0.0141
A93: 48 | B93: Fejér | C93: 5 | D93: 42851 | E93: 0.5597 | F93: 0.3215 | H93: 0.0284 | I93: 0.0588 | K93: 0.0142 | L93: =1-SUM(E93:K93) -> 0.0174 | M93: =E93 -> 0.5597 | N93: =SUM(F93:K93) -> 0.4229 | O93: =N93-M93 -> -0.1368 | P93: DK | Q93: =IF(O93>0,1,0) -> 0 | R93: =M93+Totals!$B$7 -> 0.49995 | S93: =N93-Totals!$B$7 -> 0.48265 | T93: =IF(S93>R93,1,0) -> 0 | U93: =IF(S93>R93,(S93-R93)*D93,S93*D93) -> 20682.035 | V93: =IF(R93>S93,(R93-S93)*D93,R93*D93) -> 741.3223 | W93: =R93-S93 -> 0.0173
A94: 93 | B94: Szabolcs-Szatmár-Bereg | C94: 6 | D94: 47757 | E94: 0.5652 | F94: 0.203 | G94: 0.1948 | H94: 0.0145 | J94: 0.0072 | L94: =1-SUM(E94:K94) -> 0.0153 | M94: =E94 -> 0.5652 | N94: =SUM(F94:K94) -> 0.4195 | O94: =N94-M94 -> -0.1457 | P94: MSZP | Q94: =IF(O94>0,1,0) -> 0 | R94: =M94+Totals!$B$7 -> 0.50545 | S94: =N94-Totals!$B$7 -> 0.47925 | T94: =IF(S94>R94,1,0) -> 0 | U94: =IF(S94>R94,(S94-R94)*D94,S94*D94) -> 22887.542 | V94: =IF(R94>S94,(R94-S94)*D94,R94*D94) -> 1251.2334 | W94: =R94-S94 -> 0.0262
A95: 50 | B95: Győr-Moson-Sopron | C95: 2 | D95: 52291 | E95: 0.5764 | F95: 0.2112 | G95: 0.1318 | H95: 0.0474 | J95: 0.0212 | L95: =1-SUM(E95:K95) -> 0.012 | M95: =E95 -> 0.5764 | N95: =SUM(F95:K95) -> 0.4116 | O95: =N95-M95 -> -0.1648 | P95: DK | Q95: =IF(O95>0,1,0) -> 0 | R95: =M95+Totals!$B$7 -> 0.51665 | S95: =N95-Totals!$B$7 -> 0.47135 | T95: =IF(S95>R95,1,0) -> 0 | U95: =IF(S95>R95,(S95-R95)*D95,S95*D95) -> 24647.363 | V95: =IF(R95>S95,(R95-S95)*D95,R95*D95) -> 2368.7823 | W95: =R95-S95 -> 0.0453
A96: 96 | B96: Tolna | C96: 3 | D96: 40854 | E96: 0.5778 | F96: 0.2423 | G96: 0.1176 | H96: 0.0308 | J96: 0.0129 | L96: =1-SUM(E96:K96) -> 0.0186 | M96: =E96 -> 0.5778 | N96: =SUM(F96:K96) -> 0.4036 | O96: =N96-M96 -> -0.1742 | P96: Jobbik | Q96: =IF(O96>0,1,0) -> 0 | R96: =M96+Totals!$B$7 -> 0.51805 | S96: =N96-Totals!$B$7 -> 0.46335 | T96: =IF(S96>R96,1,0) -> 0 | U96: =IF(S96>R96,(S96-R96)*D96,S96*D96) -> 18929.701 | V96: =IF(R96>S96,(R96-S96)*D96,R96*D96) -> 2234.7138 | W96: =R96-S96 -> 0.0547
A97: 103 | B97: Veszprém | C97: 4 | D97: 48948 | E97: 0.5834 | F97: 0.2434 | G97: 0.1332 | H97: 0.0217 | J97: 0.0084 | L97: =1-SUM(E97:K97) -> 0.0099 | M97: =E97 -> 0.5834 | N97: =SUM(F97:K97) -> 0.4067 | O97: =N97-M97 -> -0.1767 | P97: MSZP | Q97: =IF(O97>0,1,0) -> 0 | R97: =M97+Totals!$B$7 -> 0.52365 | S97: =N97-Totals!$B$7 -> 0.46645 | T97: =IF(S97>R97,1,0) -> 0 | U97: =IF(S97>R97,(S97-R97)*D97,S97*D97) -> 22831.795 | V97: =IF(R97>S97,(R97-S97)*D97,R97*D97) -> 2799.8256 | W97: =R97-S97 -> 0.0572
A98: 27 | B98: Baranya | C98: 3 | D98: 47903 | E98: 0.5762 | F98: 0.2371 | H98: 0.0698 | I98: 0.089 | L98: =1-SUM(E98:K98) -> 0.0279 | M98: =E98 -> 0.5762 | N98: =SUM(F98:K98) -> 0.3959 | O98: =N98-M98 -> -0.1803 | P98: Jobbik | Q98: =IF(O98>0,1,0) -> 0 | R98: =M98+Totals!$B$7 -> 0.51645 | S98: =N98-Totals!$B$7 -> 0.45565 | T98: =IF(S98>R98,1,0) -> 0 | U98: =IF(S98>R98,(S98-R98)*D98,S98*D98) -> 21827.002 | V98: =IF(R98>S98,(R98-S98)*D98,R98*D98) -> 2912.5024 | W98: =R98-S98 -> 0.0608
A99: 56 | B99: Hajdú-Bihar | C99: 3 | D99: 48109 | E99: 0.5816 | F99: 0.2546 | H99: 0.0404 | I99: 0.076 | J99: 0.0133 | K99: 0.0143 | L99: =1-SUM(E99:K99) -> 0.0198 | M99: =E99 -> 0.5816 | N99: =SUM(F99:K99) -> 0.3986 | O99: =N99-M99 -> -0.183 | P99: Jobbik | Q99: =IF(O99>0,1,0) -> 0 | R99: =M99+Totals!$B$7 -> 0.52185 | S99: =N99-Totals!$B$7 -> 0.45835 | T99: =IF(S99>R99,1,0) -> 0 | U99: =IF(S99>R99,(S99-R99)*D99,S99*D99) -> 22050.76 | V99: =IF(R99>S99,(R99-S99)*D99,R99*D99) -> 3054.9215 | W99: =R99-S99 -> 0.0635
A100: 92 | B100: Szabolcs-Szatmár-Bereg | C100: 5 | D100: 48326 | E100: 0.5855 | F100: 0.329 | H100: 0.0179 | I100: 0.042 | J100: 0.0066 | L100: =1-SUM(E100:K100) -> 0.019 | M100: =E100 -> 0.5855 | N100: =SUM(F100:K100) -> 0.3955 | O100: =N100-M100 -> -0.19 | P100: Jobbik | Q100: =IF(O100>0,1,0) -> 0 | R100: =M100+Totals!$B$7 -> 0.52575 | S100: =N100-Totals!$B$7 -> 0.45525 | T100: =IF(S100>R100,1,0) -> 0 | U100: =IF(S100>R100,(S100-R100)*D100,S100*D100) -> 22000.411 | V100: =IF(R100>S100,(R100-S100)*D100,R100*D100) -> 3406.983 | W100: =R100-S100 -> 0.0705
...

Sheet Lists
B1: Fidesz | C1: Opposition
A2: Hungary | B2: =Totals!D7*H5 -> 2201845.4 | C2: =Totals!E7*H5 -> 2940260.9
A3: Diaspora | B3: =Totals!F7*H4 -> 203102.57 | C3: =Totals!G7*H4 -> 20801.897 | G3: Total List Votes | H3: 5694751
A4: Constituency Surplus | B4: =SUM(Constituencies!V:V) -> 1892300 | C4: =SUM(Constituencies!U:U) -> 1227330 | G4: Total Diaspora List Votes | H4: =216561+2055+1247+2082+669+1004+656+311+45+83+89+79+2+18+20+11+4+23+6+12+13+17 -> 225007
A5: SUM | B5: =SUM(B2:B4) -> 4297248 | C5: =SUM(C2:C4) -> 4188392.7 | G5: Total Domestic List Votes (Excl Minorities) | H5: =H3-H4 -> 5469744
A8: MP | B8: Fidesz Vote | C8: Opposition Vote | D8: Fidesz Seats | E8: Opposition Seats
A9: 1 | B9: =B$5/(D9+1) -> 4297248 | C9: =C$5/(E9+1) -> 4188392.7 | D9: 0 | E9: 0
A10: 2 | B10: =B$5/(D10+1) -> 2148624 | C10: =C$5/(E10+1) -> 4188392.7 | D10: =IF(B9>C9,D9+1,D9) -> 1 | E10: =IF(C9>B9,E9+1,E9) -> 0
A11: 3 | B11: =B$5/(D11+1) -> 2148624 | C11: =C$5/(E11+1) -> 2094196.4 | D11: =IF(B10>C10,D10+1,D10) -> 1 | E11: =IF(C10>B10,E10+1,E10) -> 1
A12: 4 | B12: =B$5/(D12+1) -> 1432416 | C12: =C$5/(E12+1) -> 2094196.4 | D12: =IF(B11>C11,D11+1,D11) -> 2 | E12: =IF(C11>B11,E11+1,E11) -> 1
A13: 5 | B13: =B$5/(D13+1) -> 1432416 | C13: =C$5/(E13+1) -> 1396130.9 | D13: =IF(B12>C12,D12+1,D12) -> 2 | E13: =IF(C12>B12,E12+1,E12) -> 2
A14: 6 | B14: =B$5/(D14+1) -> 1074312 | C14: =C$5/(E14+1) -> 1396130.9 | D14: =IF(B13>C13,D13+1,D13) -> 3 | E14: =IF(C13>B13,E13+1,E13) -> 2
A15: 7 | B15: =B$5/(D15+1) -> 1074312 | C15: =C$5/(E15+1) -> 1047098.2 | D15: =IF(B14>C14,D14+1,D14) -> 3 | E15: =IF(C14>B14,E14+1,E14) -> 3
A16: 8 | B16: =B$5/(D16+1) -> 859449.6 | C16: =C$5/(E16+1) -> 1047098.2 | D16: =IF(B15>C15,D15+1,D15) -> 4 | E16: =IF(C15>B15,E15+1,E15) -> 3
A17: 9 | B17: =B$5/(D17+1) -> 859449.6 | C17: =C$5/(E17+1) -> 837678.55 | D17: =IF(B16>C16,D16+1,D16) -> 4 | E17: =IF(C16>B16,E16+1,E16) -> 4
A18: 10 | B18: =B$5/(D18+1) -> 716208 | C18: =C$5/(E18+1) -> 837678.55 | D18: =IF(B17>C17,D17+1,D17) -> 5 | E18: =IF(C17>B17,E17+1,E17) -> 4
A19: 11 | B19: =B$5/(D19+1) -> 716208 | C19: =C$5/(E19+1) -> 698065.46 | D19: =IF(B18>C18,D18+1,D18) -> 5 | E19: =IF(C18>B18,E18+1,E18) -> 5
A20: 12 | B20: =B$5/(D20+1) -> 613892.57 | C20: =C$5/(E20+1) -> 698065.46 | D20: =IF(B19>C19,D19+1,D19) -> 6 | E20: =IF(C19>B19,E19+1,E19) -> 5
A21: 13 | B21: =B$5/(D21+1) -> 613892.57 | C21: =C$5/(E21+1) -> 598341.82 | D21: =IF(B20>C20,D20+1,D20) -> 6 | E21: =IF(C20>B20,E20+1,E20) -> 6
... A100: 92 | B100: =B$5/(D100+1) -> 91430.809 | C100: =C$5/(E100+1) -> 91052.016 | D100: =IF(B99>C99,D99+1,D99) -> 46 | E100: =IF(C99>B99,E99+1,E99) -> 45
D101: =IF(B100>C100,D100+1,D100) -> 47 | E101: =IF(C100>B100,E100+1,E100) -> 45

Sheet Totals
I1: Paty A vote | J1: Party B votes | K1: Ratio | L1: Part A Pct
H2: 1 | I2: 0.1 | J2: =1-I2 -> 0.9 | K2: =(I2^3)/(J2^3) -> 0.0013717421 | L2: =K2/(K2+1) -> 0.001369863
B3: Party List Fidesz Lead in Hungary | H3: 2 | I3: 0.2 | J3: =1-I3 -> 0.8 | K3: =(I3^3)/(J3^3) -> 0.015625 | L3: =K3/(K3+1) -> 0.015384615
B4: -0.135 | H4: 3 | I4: 0.3 | J4: =1-I4 -> 0.7 | K4: =(I4^3)/(J4^3) -> 0.078717201 | L4: =K4/(K4+1) -> 0.072972973
H5: 4 | I5: 0.4 | J5: =1-I5 -> 0.6 | K5: =(I5^3)/(J5^3) -> 0.2962963 | L5: =K5/(K5+1) -> 0.22857143
B6: Two-Party Fidesz Vote Change | C6: New Party Increase | D6: Fidesz Party List Hungary | E6: Opposition Party List Hungary | F6: Fidesz Party List Diaspora | G6: Opposition Party List Diaspora | H6: 5 | I6: 0.5 | J6: =1-I6 -> 0.5 | K6: =(I6^3)/(J6^3) -> 1 | L6: =K6/(K6+1) -> 0.5
B7: =0.00775+B4/2 -> -0.05975 | C7: 0.0226 | D7: =0.4736+B7-C7/2 -> 0.40255 | E7: =0.4891-B7-C7/2 -> 0.53755 | F7: =0.9624+B7 -> 0.90265 | G7: =0.0327-B7 -> 0.09245 | H7: 6 | I7: 0.6 | J7: =1-I7 -> 0.4 | K7: =(I7^3)/(J7^3) -> 3.375 | L7: =K7/(K7+1) -> 0.77142857
H8: 7 | I8: 0.7 | J8: =1-I8 -> 0.3 | K8: =(I8^3)/(J8^3) -> 12.703704 | L8: =K8/(K8+1) -> 0.92702703
B9: Fidesz Constituency Lead | D9: Fidesz Constituency Vote | E9: Opposition Constituency Vote | H9: 8 | I9: 0.8 | J9: =1-I9 -> 0.2 | K9: =(I9^3)/(J9^3) -> 64 | L9: =K9/(K9+1) -> 0.98461538
B10: =-0.0105+2*B7 -> -0.13 | D10: =0.4789+B7 -> 0.41915 | E10: =0.4894-B7 -> 0.54915 | H10: 9 | I10: 0.9 | J10: =1-I10 -> 0.1 | K10: =(I10^3)/(J10^3) -> 729 | L10: =K10/(K10+1) -> 0.99863014
B13: MPs | C13: Fidesz | D13: Opposition | E13: German Minority
B14: Constituency | C14: =106-SUM(Constituencies!T:T) -> 19 | D14: =SUM(Constituencies!T:T) -> 87 | E14: 0
B15: List | C15: =Lists!D101 -> 47 | D15: =Lists!E101 -> 45 | E15: 1
C16: =SUM(C14:C15) -> 66 | D16: =SUM(D14:D15) -> 132 | E16: =SUM(E14:E15) -> 1
C21: Fidesz | D21: Opposition
C22: =C16 -> 66 | D22: =D16 -> 132
B23: -0.15 | C23: 62 | D23: 136
B24: -0.1499 | C24: 62 | D24: 136
B25: -0.1498 | C25: 62 | D25: 136
B26: -0.1497 | C26: 62 | D26: 136
B27: -0.1496 | C27: 62 | D27: 136
B28: -0.1495 | C28: 62 | D28: 136
B29: -0.1494 | C29: 62 | D29: 136
B30: -0.1493 | C30: 62 | D30: 136
B31: -0.1492 | C31: 62 | D31: 136
B32: -0.1491 | C32: 62 | D32: 136
B33: -0.149 | C33: 62 | D33: 136
B34: -0.1489 | C34: 62 | D34: 136
... B3023: 0.15 | C3023: 139 | D3023: 59

Sheet Sheet1
B1: Fidesz | C1: Opposition
B2: =Totals!C16 -> 66 | C2: =Totals!D16 -> 132
A3: -0.15
A4: -0.1499
A5: -0.1498
A6: -0.1497
A7: -0.1496
A8: -0.1495
A9: -0.1494
A10: -0.1493
A11: -0.1492
A12: -0.1491
A13: -0.149
A14: -0.1489
... A3003: 0.15

Sheet Sheet4
B1: 2018 Parliamentary Election Fidesz | C1: 2019 European Elections Fidesz | D1: 2018 Parliamentary Election Opposition | E1: 2019 European Election Opposition | F1: Fidesz Lead 2018 | G1: Fidesz lead 2019 | H1: Change | I1: GDP per capita | J1: log GDP per capit | K1: Degree
A2: Bács-Kiskun | B2: 53.97 | C2: 58.81 | D2: 42.55 | E2: 43.4 | F2: =B2-D2 -> 11.42 | G2: =C2-E2 -> 15.41 | H2: =G2-F2 -> 3.99 | I2: 25718 | J2: =LOG(I2) -> 4.4102372 | K2: 38.9
A3: Baranya | B3: 43.68 | C3: 50.13 | D3: 49.3 | E3: 34.93 | F3: =B3-D3 -> -5.62 | G3: =C3-E3 -> 15.2 | H3: =G3-F3 -> 20.82 | I3: 21265 | J3: =LOG(I3) -> 4.3276654 | K3: 45.2
A4: Békés | B4: 48.01 | C4: 52.7 | D4: 48.3 | E4: 40.37 | F4: =B4-D4 -> -0.29 | G4: =C4-E4 -> 12.33 | H4: =G4-F4 -> 12.62 | I4: 18938 | J4: =LOG(I4) -> 4.2773341 | K4: 40.6
A5: Borsod-Abaúj-Zemplén | B5: 45.62 | C5: 51.65 | D5: 50.85 | E5: 41.92 | F5: =B5-D5 -> -5.23 | G5: =C5-E5 -> 9.73 | H5: =G5-F5 -> 14.96 | I5: 23249 | J5: =LOG(I5) -> 4.3664043 | K5: 43.1
A6: Budapest (capital) | B6: 38.15 | C6: 41.17 | D6: 57.88 | E6: 52.34 | F6: =B6-D6 -> -19.73 | G6: =C6-E6 -> -11.17 | H6: =G6-F6 -> 8.56 | I6: 64298 | J6: =LOG(I6) -> 4.8081975 | K6: 69.9
A7: Csongrád | B7: 45.54 | C7: 49.32 | D7: 50.69 | E7: 42.34 | F7: =B7-D7 -> -5.15 | G7: =C7-E7 -> 6.98 | H7: =G7-F7 -> 12.13 | I7: 23218 | J7: =LOG(I7) -> 4.3658248 | K7: 49.9
A8: Diaspora | B8: 96.24 | C8: 95.97 | D8: 3.28 | E8: 2.69 | F8: =B8-D8 -> 92.96 | G8: =C8-E8 -> 93.28 | H8: =G8-F8 -> 0.32
A9: Fejér | B9: 49.1 | C9: 53.83 | D9: 47.4 | E9: 39.48 | F9: =B9-D9 -> 1.7 | G9: =C9-E9 -> 14.35 | H9: =G9-F9 -> 12.65 | I9: 32158 | J9: =LOG(I9) -> 4.507289 | K9: 45.6
A10: Győr-Moson-Sopron | B10: 54.18 | C10: 59.17 | D10: 42.38 | E10: 34.94 | F10: =B10-D10 -> 11.8 | G10: =C10-E10 -> 24.23 | H10: =G10-F10 -> 12.43 | I10: 38449 | J10: =LOG(I10) -> 4.584885 | K10: 48.7
A11: Hajdú-Bihar | B11: 51.23 | C11: 57.37 | D11: 45.57 | E11: 36.75 | F11: =B11-D11 -> 5.66 | G11: =C11-E11 -> 20.62 | H11: =G11-F11 -> 14.96 | I11: 22678 | J11: =LOG(I11) -> 4.3556048 | K11: 44.9
A12: Heves | B12: 47.33 | C12: 52.63 | D12: 49.94 | E12: 41.09 | F12: =B12-D12 -> -2.61 | G12: =C12-E12 -> 11.54 | H12: =G12-F12 -> 14.15 | I12: 23566 | J12: =LOG(I12) -> 4.3722859 | K12: 43.5
A13: Jász-Nagykun-Szolnok | B13: 48.49 | C13: 53.44 | D13: 48.52 | E13: 38.66 | F13: =B13-D13 -> -0.03 | G13: =C13-E13 -> 14.78 | H13: =G13-F13 -> 14.81 | I13: 20535 | J13: =LOG(I13) -> 4.3124947 | K13: 40
A14: Komárom-Esztergom | B14: 44.52 | C14: 50.08 | D14: 51.14 | E14: 43.36 | F14: =B14-D14 -> -6.62 | G14: =C14-E14 -> 6.72 | H14: =G14-F14 -> 13.34 | I14: 31487 | J14: =LOG(I14) -> 4.4981313 | K14: 44.7
A15: Nógrád | B15: 50.78 | C15: 56.9 | D15: 45.13 | E15: 36.19 | F15: =B15-D15 -> 5.65 | G15: =C15-E15 -> 20.71 | H15: =G15-F15 -> 15.06 | I15: 14037 | J15: =LOG(I15) -> 4.1472743 | K15: 38.8
A16: Pest | B16: 46.21 | C16: 51.38 | D16: 49.48 | E16: 40.72 | F16: =B16-D16 -> -3.27 | G16: =C16-E16 -> 10.66 | H16: =G16-F16 -> 13.93 | I16: 25036 | J16: =LOG(I16) -> 4.3985649 | K16: 51.5
A17: Somogy | B17: 49.92 | C17: 55.3 | D17: 47.3 | E17: 39.61 | F17: =B17-D17 -> 2.62 | G17: =C17-E17 -> 15.69 | H17: =G17-F17 -> 13.07 | I17: 20763 | J17: =LOG(I17) -> 4.3172901 | K17: 40.6
A18: Szabolcs-Szatmár-Bereg | B18: 54.16 | C18: 60.66 | D18: 43.15 | E18: 34.54 | F18: =B18-D18 -> 11.01 | G18: =C18-E18 -> 26.12 | H18: =G18-F18 -> 15.11 | I18: 17849 | J18: =LOG(I18) -> 4.2516139 | K18: 38.3
A19: Tolna | B19: 53.64 | C19: 59.02 | D19: 41.88 | E19: 35 | F19: =B19-D19 -> 11.76 | G19: =C19-E19 -> 24.02 | H19: =G19-F19 -> 12.26 | I19: 23778 | J19: =LOG(I19) -> 4.3761753 | K19: 38.9
A20: Total | B20: 49.27 | C20: 52.62 | D20: 47.13 | E20: 40.93 | F20: =B20-D20 -> 2.14 | G20: =C20-E20 -> 11.69
A21: Vas | B21: 57.77 | C21: 61.03 | D21: 39.26 | E21: 34.27 | F21: =B21-D21 -> 18.51 | G21: =C21-E21 -> 26.76 | H21: =G21-F21 -> 8.25 | I21: 28667 | J21: =LOG(I21) -> 4.4573822 | K21: 45.8
A22: Veszprém | B22: 50.8 | C22: 54.75 | D22: 45.53 | E22: 38.97 | F22: =B22-D22 -> 5.27 | G22: =C22-E22 -> 15.78 | H22: =G22-F22 -> 10.51 | I22: 23325 | J22: =LOG(I22) -> 4.3678217 | K22: 43.8
A23: Zala | B23: 52.45 | C23: 58.13 | D23: 44.98 | E23: 36.08 | F23: =B23-D23 -> 7.47 | G23: =C23-E23 -> 22.05 | H23: =G23-F23 -> 14.58 | I23: 23940 | J23: =LOG(I23) -> 4.3791241 | K23: 43.7
